BEGIN:VCALENDAR
VERSION:2.0
PRODID:-//АВГУСТ - ECPv6.10.1.1//NONSGML v1.0//EN
CALSCALE:GREGORIAN
METHOD:PUBLISH
X-ORIGINAL-URL:https://august93.ru
X-WR-CALDESC:Мероприятия для АВГУСТ
REFRESH-INTERVAL;VALUE=DURATION:PT1H
X-Robots-Tag:noindex
X-PUBLISHED-TTL:PT1H
BEGIN:VTIMEZONE
TZID:Europe/Moscow
BEGIN:STANDARD
TZOFFSETFROM:+0300
TZOFFSETTO:+0300
TZNAME:MSK
DTSTART:20230101T000000
END:STANDARD
END:VTIMEZONE
BEGIN:VEVENT
DTSTART;VALUE=DATE:20230408
DTEND;VALUE=DATE:20230409
DTSTAMP:20260426T041705
CREATED:20230506T193248Z
LAST-MODIFIED:20230506T193325Z
UID:19989-1680912000-1680998399@august93.ru
SUMMARY:Тотальный диктант: Светлана Сурганова
DESCRIPTION:Репортаж с официального сайта: \nСегодня в шестой раз Светлана Сурганова стала чтецом Тотального диктанта! \n50 счастливчиков смогли оказаться в ее аудитории в РГПУ им. Герцена\, чтобы проверить своё знание русского языка✍️\nПисали в этот раз по произведению Василия Авченко. \nКак и все предыдущие годы\, удача присутствующих заключалась не только в попадании к любимому «диктатору» ?Помогающие снять волнение и напряжение шутки\, многозначительные движения кистью и показательная мимика чтеца не только давали подсказки\, но и поднимали настроение? \nКонечно\, праздник не обошелся без традиционного фотографирования\, раздачи автографов\, цветов и подарков! \nСпасибо всем\, кто пришел\, и всем неравнодушным к нашему прекрасному языку! \nЖелаем участникам удачи и самых высоких оценок!
URL:https://august93.ru/event/total2023
END:VEVENT
BEGIN:VEVENT
DTSTART;VALUE=DATE:20230410
DTEND;VALUE=DATE:20230411
DTSTAMP:20260426T041705
CREATED:20230410T154506Z
LAST-MODIFIED:20230506T085529Z
UID:19764-1681084800-1681171199@august93.ru
SUMMARY:Онлайн-концерт Ночных Снайперов
DESCRIPTION:Комментарий Дианы Арбениной: \nакустика — начало группы «ночные снайперы». сейчас она звучит ещё мощнее и филиграннее. и классно что я уже физически не смогу спеть все что написала за 30 лет.\nвчера вы подарили мне счастливый творческий день прожитый абсолютно точно не зря. низкий поклон всем кто пел с нами и смотрел трансляцию из снайперской студии. песни — они же цветы. нужна вода чтобы жили. вчера я поняла что мои в надёжных сердцах. спасибо! \n \n 
URL:https://august93.ru/event/%d0%be%d0%bd%d0%bb%d0%b0%d0%b9%d0%bd-%d0%ba%d0%be%d0%bd%d1%86%d0%b5%d1%80%d1%82-%d0%bd%d0%be%d1%87%d0%bd%d1%8b%d1%85-%d1%81%d0%bd%d0%b0%d0%b9%d0%bf%d0%b5%d1%80%d0%be%d0%b2
END:VEVENT
BEGIN:VEVENT
DTSTART;VALUE=DATE:20230410
DTEND;VALUE=DATE:20230411
DTSTAMP:20260426T041705
CREATED:20230506T192805Z
LAST-MODIFIED:20230506T192805Z
UID:19987-1681084800-1681171199@august93.ru
SUMMARY:Светлана Сурганова в проекте "Лицей"
DESCRIPTION:10 апреля недалеко от Петербурга\, в городе Зеленогорске\, проходила съемка 10-го урока для виртуальной образовательной площадки «Лицей» на тему «История создания автомобиля». \nИстория от Светланы Сургановой о том\, в какой стране появился первый прототип автомобиля (а это точно было не в Германии ?)\, какую роль сыграла женщина в истории создания автомобиля и чего от своей машины ждёт Светлана в будущем. \n\n 
URL:https://august93.ru/event/licey-avto
END:VEVENT
BEGIN:VEVENT
DTSTART;VALUE=DATE:20230413
DTEND;VALUE=DATE:20230414
DTSTAMP:20260426T041705
CREATED:20230506T200404Z
LAST-MODIFIED:20230506T200404Z
UID:19991-1681344000-1681430399@august93.ru
SUMMARY:Премьера фильма "Зоськина заправка"
DESCRIPTION:Пресс-релиз: \n13 апреля на киноэкраны выходит фильм «Зоськина заправка» – криминальная драма\, о которой режиссер Александр Митта отзывается как об одном из лучших российских фильмов последнего времени. Саундтреком к фильму стала песня «Сургановой и Оркестра» «Все сначала». \nВ киноленте раскрывается история одинокой заправщицы Зоси\, что работает на заснеженной АЗС\, мечтает о принце на белом коне\, любви и приключениях. Когда желаемое начинает сбываться\, девушка встаёт перед лицом смертельной опасности. Нашла ли девушка того самого? \n«Я рада\, что песня обрела свой фильм! После просмотра я была поражена тем\, насколько же они сошлись. Это прекрасное кино о том\, что иногда справедливость бывает важнее правил!» – говорит Светлана.
URL:https://august93.ru/event/zapravka
END:VEVENT
BEGIN:VEVENT
DTSTART;VALUE=DATE:20230417
DTEND;VALUE=DATE:20230418
DTSTAMP:20260426T041705
CREATED:20230506T152653Z
LAST-MODIFIED:20230506T182547Z
UID:19974-1681689600-1681775999@august93.ru
SUMMARY:Светлана Сурганова в Нововоронеже\, фестиваль «U235. Новые песни»
DESCRIPTION:Мероприятия и концерт в рамках фестиваля Школы Росатома «U235. Новые песни» \n\nПодробности о мероприятии — в репортаже «Российской газеты» \nВ городе-спутнике Нововоронежской АЭС — Нововоронеже в МАУДО «Школа искусств имени В.В. Силина» в рамках конкурса авторской музыки и поэзии «U-235. Новые песни» состоялось прослушивание почти 30 талантливых авторов и исполнителей из Нововоронежа и Энергодара. \nПрослушивание провело жюри фестиваля под председательством поэта\, музыканта\, основателя и лидера группы «Сурганова и Оркестр» Светланы Сургановой. В него также вошли: советник Департамента по взаимодействию с регионами Госкорпорации «Росатом»\, руководитель проекта «Школа Росатома» Наталья Шурочкова\, музыкант\, соло-гитарист и сооснователь группы «Сурганова и Оркестр» Валерий Тхай и автор-исполнитель Наталья Кучер. \nПо результатам мероприятия 20 человек получили рекомендательные письма жюри. Они станут дополнительным бонусом при отборе на финал\, который состоится в мае этого года в Десногорске. В числе отмеченных начинающих музыкантов и поэтов были те\, кто особенно понравился профессиональным артистам — этим ребятам было предложено выступить на концерте группы «Сурганова и Оркестр»\, который состоялся в этот же день во Дворце культуры г. Нововоронежа. Среди них оказались Денис Никоноров и супруги Михаил и Анастасия Муравьевы из Нововоронежа\, Петр Бугаев\, Алина Кусакина и Кирилл Олейник из Энергодара. \nКонкурс стартовал в феврале 2023 года в рамках ежегодного Фестиваля авторской музыки и поэзии «U-235. Новые песни»\, организуемого проектом «Школа Росатома» при поддержке программы «Территория культуры Росатома». В нем принимают участие как школьники (10-16 лет)\, так и представители молодежи (17-35 лет) со всей России\, в том числе и из городов-участников проекта. \n«Школа Росатома» предоставляет поистине уникальные возможности для жителей наших атомных городов. Поэтому Нововоронежская АЭС всегда поддерживает такие начинания. Мы очень рады стать опорой для одаренных жителей нашего города и способствовать раскрытию их способностей. Для многих участников это станет отличным стимулом к развитию своих талантов»\, — прокомментировал заместитель директора по управлению персоналом Нововоронежской АЭС Олег Уразов. \nВ завершение выступления Светлана Сурганова поздравила «Школу Росатома» с днем рождения\, который проект праздновал в этот день в Нововоронеже.
URL:https://august93.ru/event/novovoronezh
END:VEVENT
BEGIN:VEVENT
DTSTART;VALUE=DATE:20230419
DTEND;VALUE=DATE:20230420
DTSTAMP:20260426T041705
CREATED:20230506T152439Z
LAST-MODIFIED:20230506T152439Z
UID:19972-1681862400-1681948799@august93.ru
SUMMARY:Светлана Сурганова в Пицунде. Фестиваль «U235. Новые песни»
DESCRIPTION:Республика Абхазия\, курортный город Пицунда.\nПансионат «ЛитФонд». \nФестиваль Школы Росатома «U235. Новые песни» и сольный концерт Светланы. \n\n 
URL:https://august93.ru/event/pizunda2023
END:VEVENT
BEGIN:VEVENT
DTSTART;VALUE=DATE:20230422
DTEND;VALUE=DATE:20230423
DTSTAMP:20260426T041705
CREATED:20230506T221407Z
LAST-MODIFIED:20230506T221407Z
UID:19998-1682121600-1682207999@august93.ru
SUMMARY:Светлана Сурганова и "Квинтет четырех" в ПушкинРядом
DESCRIPTION:Совместное выступление Светланы Сургановой и коллектива «Квинтет четырех»\, играющего на народных инструментах. Было исполнено несколько песен из репертуара Светланы\, а также собственные инструментальные композиции гостей. \n\n 
URL:https://august93.ru/event/qwintet
END:VEVENT
BEGIN:VEVENT
DTSTART;VALUE=DATE:20230425
DTEND;VALUE=DATE:20230426
DTSTAMP:20260426T041705
CREATED:20230506T155840Z
LAST-MODIFIED:20230506T160221Z
UID:19976-1682380800-1682467199@august93.ru
SUMMARY:Светлана Сурганова в пункте отбора контрактников
DESCRIPTION:«Сурганова и Оркестр» дали концерт в ходе посещения пункта отбора на контрактную службу \nОснователи коллектива «Сурганова и Оркестр» Светлана Сурганова и Валерий Тхай высоко оценили уровень организации единого столичного пункта отбора на контрактную службу. Они увидели\, как проходит реальный процесс отбора\, поддержали контрактников и показали им небольшое выступление. Центр находится по адресу улица Яблочкова\, дом 5\, строение 1. \n«Желающий приходит\, отдает документы\, потом его направляют на медосмотр\, на комиссию\, решающую может ли он выполнять свой гражданский долг\, участвовать в СВО или нет по каким-то причинам. Можно тут же\, не выходя из этого здания\, решить какие-то финансовые проблемы\, если есть какие-то задолженности\, какие-то недорешенные вопросы с банками. И дальше уже следующее помещение\, где пришедшие могут отдохнуть и дождаться результатов комиссии. То есть мне кажется\, что организованно все правильно и разумно»\, – поделилась Сурганова. \nМузыканты в пункте дали небольшое выступление в поддержку желающих отправиться в зону СВО. \n«Мы приехали поддержать ребят\, спеть им несколько песен\, что\, собственно говоря\, сегодня и сделали. Когда мы начали петь для них\, там уже и из коридора подходили. То есть непосредственный\, живой интерес. А наша задача была — дать им живой энергии и позитива\, потому что они идут на серьезное дело — родину защищать»\, — добавил Валерий Тхай. \n 
URL:https://august93.ru/event/voenkomat
END:VEVENT
BEGIN:VEVENT
DTSTART;VALUE=DATE:20230426
DTEND;VALUE=DATE:20230427
DTSTAMP:20260426T041705
CREATED:20230506T182116Z
LAST-MODIFIED:20230506T182116Z
UID:19983-1682467200-1682553599@august93.ru
SUMMARY:Светлана Сурганова в прямом эфире
DESCRIPTION:Праздничный стрим Светланы Сургановой и Валерия Тхая на ютуб-канале «Сургановой и Оркестра».\nДвухчасовой прямой эфир с ответами на вопросы зрителей и воспоминаниями об истории создания группы.
URL:https://august93.ru/event/sio20-strim
END:VEVENT
BEGIN:VEVENT
DTSTART;VALUE=DATE:20230428
DTEND;VALUE=DATE:20230429
DTSTAMP:20260426T041705
CREATED:20230506T225755Z
LAST-MODIFIED:20230506T225817Z
UID:20006-1682640000-1682726399@august93.ru
SUMMARY:Онлайн-фестиваль "Мир и дружба"
DESCRIPTION:28 апреля\, с 14:00 до 17:00 на YouTube-канале «ПушкинРядом» прошла прямая трансляция уникального российско-китайского онлайн-фестиваля культуры и искусства «Мир и дружба». \nПрограмма включает в себя российскую и китайскую классику\, современные вокальные и инструментальные номера\, песни и пляски народностей России и КНР\, ярко отражающие культурные особенности стран. Участникам фестиваля стали и «Сурганова и Оркестр». \nВ эфир фестиваля была включена запись песни «Мой путь» с концерта «Сургановой и Оркестра» в Крокусе в декабре 2018 года.
URL:https://august93.ru/event/china
END:VEVENT
BEGIN:VEVENT
DTSTART;VALUE=DATE:20230430
DTEND;VALUE=DATE:20230501
DTSTAMP:20260426T041705
CREATED:20230506T090244Z
LAST-MODIFIED:20230705T185352Z
UID:19943-1682812800-1682899199@august93.ru
SUMMARY:АПРЕЛЬ 2023: события и публикации
DESCRIPTION:1 апреля \n2 апреля \n3 апреля \n4 апреля \n5 апреля \n6 апреля \n7 апреля \n«Соловьи» на 5 месте Чартовой Дюжины \n8 апреля \nВсероссийский «Тотальный диктант»: участвует Светлана Сурганова \n\n9 апреля \n  \n\n10 апреля \nКонцерт Дианы Арбениной в Казани перенесен на осень \n*** \nОнлайн-концерт Ночных Снайперов в «Снайперской студии» \n*** \nСветлана Сурганова на съемках видеоурока «История создания автомобиля» \n\n11 апреля \nКонцерт Ночных Снайперов в Ижевске перенесен на осень \n\n12 апреля \nКонцерт Ночных Снайперов в Перми перенесен на осень \n\n13 апреля \nПремьера фильма «Зоськина заправка» с саундтреком Светланы Сургановой \n\n14 апреля \nКонцерт Ночных Снайперов в Чебоксарах перенесен на 2024 год \n*** \n«Соловьи» на 1 месте Чартовой Дюжины \n\n15 апреля \nКонцерт Ночных Снайперов в Ульяновске перенесен на 2024 год \n\n16 апреля \n  \n\n17 апреля \nКонцерт Ночных Снайперов в Тольятти перенесен на 2024 год \n\n18 апреля \nКонцерт Ночных Снайперов в Уфе перенесен на 2024 год \n\n19 апреля \n20 апреля \nСтатья в «Российской газете» о фестивале «U-235. Новые песни» в Нововоронеже \n\n21 апреля \nСурганова и Оркестр анонсировали праздничные концерты 8 мая (Москва) и 9 мая (Самара) \n*** \n«Соловьи» на 5 месте Чартовой Дюжины \n\n22 апреля \nСветлана Сурганова и «Квинтет четырех» в ПушкинРядом \n\n23 апреля \n24 апреля \n25 апреля \n26 апреля \nИсполнилось 20 лет группе «Сурганова и Оркестр». \n*** \nПраздничный стрим Светланы Сургановой и Валерия Тхая \n\n27 апреля \nСветлана Сурганова приняла участие в съемках материаладля образовательного проекта «Лицей» (клуб единомышленников «ПушкинРядом»). \n*** \nФотосессия Светланы Сургановой и Дениса Сусина в новом мерче официального магазина СИО. \n\n28 апреля \nРоссийско-китайский фестиваль «Мир и дружба» \n*** \n«Соловьи» на 4 месте Чартовой Дюжины \n\n29 апреля \n30 апреля \n  \n  \n 
URL:https://august93.ru/event/2023-04
END:VEVENT
END:VCALENDAR