BEGIN:VCALENDAR
VERSION:2.0
PRODID:-//АВГУСТ - ECPv6.10.1.1//NONSGML v1.0//EN
CALSCALE:GREGORIAN
METHOD:PUBLISH
X-ORIGINAL-URL:https://august93.ru
X-WR-CALDESC:Мероприятия для АВГУСТ
REFRESH-INTERVAL;VALUE=DURATION:PT1H
X-Robots-Tag:noindex
X-PUBLISHED-TTL:PT1H
BEGIN:VTIMEZONE
TZID:Europe/Moscow
BEGIN:STANDARD
TZOFFSETFROM:+0300
TZOFFSETTO:+0300
TZNAME:MSK
DTSTART:20230101T000000
END:STANDARD
END:VTIMEZONE
BEGIN:VEVENT
DTSTART;VALUE=DATE:20230505
DTEND;VALUE=DATE:20230506
DTSTAMP:20260426T024544
CREATED:20230506T223305Z
LAST-MODIFIED:20230506T223305Z
UID:20001-1683244800-1683331199@august93.ru
SUMMARY:Ночные Снайперы пишут новый альбом
DESCRIPTION:На страницах Дианы Арбениной и «Ночных Снайперов» были выложены видеосюжеты о работе над новым альбомом совместно с оркестром Юрия Башмета.\nТакже этот сюжет был показан в новостях телеканала Муз ТВ. \n\nКомментарий Дианы Арбениной:\nогромное спасибо юрию башмету и его оркестру «новая россия» за помощь в записи нашего нового альбома! столько уже встреч за спиной… и с каждой новой все глубже люблю симфоническую музыку. пожалуй сочетание жанров дает самую большую широту и тонкость на которую способны те кому подвластны 7 бесконечных в своих вариациях нот. но в случае с башметом и его командой мы имеем дело еще и с великодушием что делает каждый записанный такт примером глубокой дружбы и преданности музыке. спасибо!!!!
URL:https://august93.ru/event/albom-bashmet
END:VEVENT
BEGIN:VEVENT
DTSTART;VALUE=DATE:20230508
DTEND;VALUE=DATE:20230509
DTSTAMP:20260426T024544
CREATED:20230506T093530Z
LAST-MODIFIED:20230506T093530Z
UID:19950-1683504000-1683590399@august93.ru
SUMMARY:Сурганова и Оркестр на Дне Победы в Москве
DESCRIPTION:Соборная площадь Главного храма Вооруженных сил РФ.\nПраздничный концерт в честь Дня Победы 9 мая. \n\n 
URL:https://august93.ru/event/denpobedymsk
END:VEVENT
BEGIN:VEVENT
DTSTART;VALUE=DATE:20230509
DTEND;VALUE=DATE:20230510
DTSTAMP:20260426T024544
CREATED:20230506T093707Z
LAST-MODIFIED:20230506T093707Z
UID:19952-1683590400-1683676799@august93.ru
SUMMARY:Сурганова и Оркестр на Дне Победы в Самаре
DESCRIPTION:Площадь Куйбышева\, вход свободный.\nПраздничный концерт в честь Дня Победы \n\n 
URL:https://august93.ru/event/%d1%81%d1%83%d1%80%d0%b3%d0%b0%d0%bd%d0%be%d0%b2%d0%b0-%d0%b8-%d0%be%d1%80%d0%ba%d0%b5%d1%81%d1%82%d1%80-%d0%bd%d0%b0-%d0%b4%d0%bd%d0%b5-%d0%bf%d0%be%d0%b1%d0%b5%d0%b4%d1%8b-%d0%b2-%d1%81%d0%b0%d0%bc
END:VEVENT
BEGIN:VEVENT
DTSTART;VALUE=DATE:20230515
DTEND;VALUE=DATE:20230516
DTSTAMP:20260426T024544
CREATED:20230506T082134Z
LAST-MODIFIED:20231129T200626Z
UID:19919-1684108800-1684195199@august93.ru
SUMMARY:Ночные Снайперы в Ереване\, СКК им. Демирчяна
DESCRIPTION:Концертная программа «Авиарежим»\nНачало — 19:30
URL:https://august93.ru/event/erevan2023
END:VEVENT
BEGIN:VEVENT
DTSTART;VALUE=DATE:20230519
DTEND;VALUE=DATE:20230520
DTSTAMP:20260426T024544
CREATED:20230506T094019Z
LAST-MODIFIED:20230506T094019Z
UID:19954-1684454400-1684540799@august93.ru
SUMMARY:Светлана Сурганова в Десногорске. Фестиваль «U235. Новые песни»
DESCRIPTION:Фестиваль Школы Росатома «U235. Новые песни».\nСветлана Сурганова и Валерий Тхай принимают участие в мероприятиях как члены жюри фестиваля. \n\n 
URL:https://august93.ru/event/desnogorsk1
END:VEVENT
BEGIN:VEVENT
DTSTART;VALUE=DATE:20230520
DTEND;VALUE=DATE:20230521
DTSTAMP:20260426T024544
CREATED:20230506T094200Z
LAST-MODIFIED:20230506T094225Z
UID:19956-1684540800-1684627199@august93.ru
SUMMARY:Светлана Сурганова в Десногорске. Концерт
DESCRIPTION:Сольный акустический концерт Светланы Сургановой и Валерия Тхая. \n\n 
URL:https://august93.ru/event/desnogorsk2
END:VEVENT
BEGIN:VEVENT
DTSTART;VALUE=DATE:20230526
DTEND;VALUE=DATE:20230527
DTSTAMP:20260426T024544
CREATED:20230704T142153Z
LAST-MODIFIED:20230704T142153Z
UID:20251-1685059200-1685145599@august93.ru
SUMMARY:Концерт Кати Шимилевой в ПушкинРядом
DESCRIPTION:Презентация диска Кати Шимилёвой «Тебе можно всё!» при участии Светланы Сургановой и Валерия Тхая. \n\n 
URL:https://august93.ru/event/%d0%ba%d0%be%d0%bd%d1%86%d0%b5%d1%80%d1%82-%d0%ba%d0%b0%d1%82%d0%b8-%d1%88%d0%b8%d0%bc%d0%b8%d0%bb%d0%b5%d0%b2%d0%be%d0%b9-%d0%b2-%d0%bf%d1%83%d1%88%d0%ba%d0%b8%d0%bd%d1%80%d1%8f%d0%b4%d0%be%d0%bc-2
END:VEVENT
BEGIN:VEVENT
DTSTART;VALUE=DATE:20230531
DTEND;VALUE=DATE:20230601
DTSTAMP:20260426T024544
CREATED:20230506T180712Z
LAST-MODIFIED:20231130T051622Z
UID:19978-1685491200-1685577599@august93.ru
SUMMARY:МАЙ 2023: события и публикации
DESCRIPTION:1 мая\nДиана Арбенина подтвердила\, что концерт 8 июля 2023 года состоится.  \n\n2 мая\nВ начале мая (точная дата неизвестна) Светлана Сурганова в рамках проекта «Школа Росатома» побывала в Кении. \n\n3 мая\n  \n\n4 мая\nСурганова и Оркестр анонсировали июльские концерты в Сочи\, Воронеже и Ростове-на-Дону. \n\n5 мая\nНочные Снайперы анонсировали новый альбом  \n*** \nМуз ТВ\nВ программе «ПРО Новости» — сюжет о сотрудничестве Ночных Снайперов с Юрием Башметом. \n*** \nНаше Радио\nПесня Ночных Снайперов «Соловьи» на 1 месте Чартовой Дюжины \n\n6 мая\n  \n\n7 мая\n  \n\n8 мая\nСурганова и Оркестр на Соборной площади Главного храма ВС МО РФ \n*** \nНочные Снайперы запустили флешмоб #нравитсяпомогать \n\n9 мая\nСурганова и Оркестр в Самаре \n*** \nТВЦ\nПраздничный концерт «Хорошие песни» с участием Светланы Сургановой \n\n10 мая\n  \n\n11 мая\n  \n\n12 мая\nПервый канал\nУчастница шоу «Голос» Анастасия Баранникова исполнила песню Ночных Снайперов «Катастрофически» \n\n13 мая\nВ арт-пространстве «ПушкинРядом» — концерт камерного оркестра «Дивертисмент» с участием Светланы Сургановой\, Дениса Сусина и Никиты Межевича. \n\n14 мая\n  \n\n15 мая\nНочные Снайперы в Ереване \n*** \nНочные Снайперы объявили о переносе концертов в Узбекистане на неопределенное время в связи с невыполнением технического райдера. \n\n16 мая\nСурганова и Оркестр анонсировали предзаказ на покупку юбилейного фотоальбома группы в 2 томах. \n\n17 мая\nКонцерт Ночных Снайперов в Ташкенте отложен на неопределенное время \n\n18 мая\nСурганова и Оркестр анонсировали выход в сентябре фильма «Genesis» с участием Светланы Сургановой. Съемки состоялись в феврале 2023. \n*** \nКонцерт Ночных Снайперов в Самарканде отложен на неопределенное время \n\n19 мая\nКонцерт Ночных Снайперов в Бухаре отложен на неопределенное время \n*** \nСветлана Сурганова в Десногорске. Фестиваль «Новые песни» \n*** \nНаше Радио\nПесня Ночных Снайперов «Соловьи» на 3 месте Чартовой Дюжины \n*** \nДиана Арбенина получила травму спины\, упав с лестницы на домашней студии.  \n\n20 мая\nСветлана Сурганова в Десногорске. Акустический концерт \n*** \nНочные Снайперы официально сообщили о полученной Дианой травме и в связи с этим — о переносе концерта в Бишкеке.  \n\n21 мая\nКонцерт Ночных Снайперов в Бишкеке перенесен на неопределенное время в связи с состоянием здоровья Дианы \n\n22 мая\nДиана Арбенина в прямом эфире на официальном ютуб-канале. \n\n23 мая\n  \n\n24 мая\nДиана Арбенина ко дню рождения Бродского выложила запись песни «Не выходи из комнаты» \n \n\n25 мая\n  \n\n26 мая\nНаше Радио\nПесня Ночных Снайперов «Соловьи» на 1 месте Чартовой Дюжины \n*** \nВ ПушкинРядом — концерт Кати Шимилевой — презентация диска «Тебе можно все» с участием Светланы Сургановой и Валерия Тхая. \n\n27 мая \n28 мая \n29 мая \n30 мая \n  \n\n31 мая\nСветлана Сурганова приняла участие в концерте «Смешарики. 20 лет вместе» \n*** \nДиана Арбенина прокомментировала обвинения\, опубликованные в z-каналах телеграма. \n 
URL:https://august93.ru/event/2023-05
END:VEVENT
END:VCALENDAR