BEGIN:VCALENDAR
VERSION:2.0
PRODID:-//АВГУСТ - ECPv6.10.1.1//NONSGML v1.0//EN
CALSCALE:GREGORIAN
METHOD:PUBLISH
X-ORIGINAL-URL:https://august93.ru
X-WR-CALDESC:Мероприятия для АВГУСТ
REFRESH-INTERVAL;VALUE=DURATION:PT1H
X-Robots-Tag:noindex
X-PUBLISHED-TTL:PT1H
BEGIN:VTIMEZONE
TZID:Europe/Moscow
BEGIN:STANDARD
TZOFFSETFROM:+0300
TZOFFSETTO:+0300
TZNAME:MSK
DTSTART:20230101T000000
END:STANDARD
END:VTIMEZONE
BEGIN:VEVENT
DTSTART;VALUE=DATE:20230701
DTEND;VALUE=DATE:20230702
DTSTAMP:20260425T232300
CREATED:20230506T150755Z
LAST-MODIFIED:20231205T143457Z
UID:19964-1688169600-1688255999@august93.ru
SUMMARY:Сурганова и Оркестр в Воронеже\, Зеленый театр
DESCRIPTION:Летник в Зеленом театре. Центральный Парк культуры и отдыха\nНачало — 20:00 \n\nССЫЛКИ \nСборник видео на ютубе\nФотоальбом Ольги Табацкой. Концерт\nФотоальбом Ольги Табацкой. Концерт. Часть 2\nФотоальбом Ольги Табацкой. Саундчек\nФотоальбом Ольги Табацкой. Фотосессия в гримерке\nФотоальбом Лады Север. Часть 1\nФотоальбом Лады Север. Часть 2
URL:https://august93.ru/event/voronezh2023
END:VEVENT
BEGIN:VEVENT
DTSTART;VALUE=DATE:20230701
DTEND;VALUE=DATE:20230702
DTSTAMP:20260425T232300
CREATED:20230703T212942Z
LAST-MODIFIED:20230704T130518Z
UID:20229-1688169600-1688255999@august93.ru
SUMMARY:Ночные Снайперы на фестивале MadWay Fest
DESCRIPTION:Кыргызстан\, Иссык-Кульская область\, город Чолпон-Ата\, ипподром. \nМеждународный фестиваль MadWay Fest. \n\n\n  \nПлейлист видео на ютубе \nОфициальный ролик от организаторов фестиваля \nО фестивале в местной прессе. 1 \nО фестивале в местной прессе. 2
URL:https://august93.ru/event/madway-fest-%d0%ba%d1%8b%d1%80%d0%b3%d1%8b%d0%b7%d1%81%d1%82%d0%b0%d0%bd
END:VEVENT
BEGIN:VEVENT
DTSTART;VALUE=DATE:20230702
DTEND;VALUE=DATE:20230703
DTSTAMP:20260425T232300
CREATED:20230702T072049Z
LAST-MODIFIED:20230707T072450Z
UID:20343-1688256000-1688342399@august93.ru
SUMMARY:Уикэнд Ночных Снайперов на Нашем Радио
DESCRIPTION:1 и 2 июля 2023 года в эфире Нашего Радио — уикэнд с Дианой Арбениной \nАнонс:\n1 и 2 июля проведем по-Снайперски!\nВ НАШЕм эфире пройдет специальный уикенд\, посвященный 30-летию группы «Ночные Снайперы». Вместе вспомним песни из разных альбомов\, а Диана Арбенина расскажет о том\, как создавались эти композиции.\nНачало в 18:00. \n\nАудиозапись эфира:\n\n 
URL:https://august93.ru/event/weekend_nr
ATTACH;FMTTYPE=image/jpeg:https://august93.ru/wp-content/uploads/2023/07/уикэнд-01-02-07-2023.jpg
END:VEVENT
BEGIN:VEVENT
DTSTART;VALUE=DATE:20230703
DTEND;VALUE=DATE:20230704
DTSTAMP:20260425T232300
CREATED:20230707T073941Z
LAST-MODIFIED:20230707T073959Z
UID:20348-1688342400-1688428799@august93.ru
SUMMARY:Диана Арбенина в редакции газеты "Метро"
DESCRIPTION:Официальный итоговый видеоролик: \n \n\nТекстовая версия интервью \nПолная видеозапись интервью \n\nФОТО \n 
URL:https://august93.ru/event/metro2023
ATTACH;FMTTYPE=image/jpeg:https://august93.ru/wp-content/uploads/2023/07/858x540_705050ae.jpeg
END:VEVENT
BEGIN:VEVENT
DTSTART;VALUE=DATE:20230704
DTEND;VALUE=DATE:20230705
DTSTAMP:20260425T232300
CREATED:20230704T075842Z
LAST-MODIFIED:20230707T080519Z
UID:20352-1688428800-1688515199@august93.ru
SUMMARY:Пресс-конференция Дианы Арбениной в "Спартаке"
DESCRIPTION:ФОТО \n\n\n\n			\n				\n						\n			\n				\n			\n		\n							\n			\n		\n				\n						\n			\n				\n			\n		\n							\n			\n		\n				\n						\n			\n				\n			\n		\n							\n			\n		\n				\n						\n			\n				\n			\n		\n							\n			\n		\n				\n						\n			\n				\n			\n		\n							\n			\n		\n				\n						\n			\n				\n			\n		\n							\n			\n		\n		\n		\n			\n\n\nИтоговый ролик:\n\n 
URL:https://august93.ru/event/press-spartak
ATTACH;FMTTYPE=image/jpeg:https://august93.ru/wp-content/uploads/2023/07/fit_795_547_false_crop_4500_2528_0_234_q90_2020201_1d1d7f6db7cd69a3a23c0eeac.jpeg
END:VEVENT
BEGIN:VEVENT
DTSTART;VALUE=DATE:20230705
DTEND;VALUE=DATE:20230706
DTSTAMP:20260425T232300
CREATED:20230704T140234Z
LAST-MODIFIED:20230704T140234Z
UID:20241-1688515200-1688601599@august93.ru
SUMMARY:Светлана Сурганова в Волгодонске
DESCRIPTION:ДК им. Курчатова.\nНачало 18:00\nКонцерт в рамках фестиваля “U235”\, проводимого «Школой Росатома». \n\n 
URL:https://august93.ru/event/volgodon
END:VEVENT
BEGIN:VEVENT
DTSTART;VALUE=DATE:20230707
DTEND;VALUE=DATE:20230708
DTSTAMP:20260425T232300
CREATED:20230506T151245Z
LAST-MODIFIED:20231205T110812Z
UID:19968-1688688000-1688774399@august93.ru
SUMMARY:Сурганова и Оркестр в Ростове-на-Дону\, Roof Live
DESCRIPTION:Анонс: \n«Сурганова и Оркестр»: стиль и опыт.\nЛетом на «Крышу» приедет группа «Сурганова и Оркестр». В специальной программе «Летник» — много эмоционального тепла\, ветер свежих находок в звучании давно любимых песен и горячие танцы. Музыка «Сурганова и Оркестр» — это вечное исследование границ русскоязычной живой музыки. Тут и рок\, и поп\, и постоянный поиск новых интересных аранжировок. Лучшее\, что есть в музыке «СиО» — это как раз постоянство в этих поисках.\nА «Летник» группы — отличная возможность увидеть\, в каких музыкальных границах находится «Сурганова и Оркестр» прямо сейчас. \n\n \n\nССЫЛКИ \nФотоальбом с концерта от Маши Розмановой
URL:https://august93.ru/event/rostov-roof-live-2
ATTACH;FMTTYPE=image/jpeg:https://august93.ru/wp-content/uploads/2023/05/ростов.jpeg
END:VEVENT
BEGIN:VEVENT
DTSTART;VALUE=DATE:20230707
DTEND;VALUE=DATE:20230708
DTSTAMP:20260425T232300
CREATED:20230707T080857Z
LAST-MODIFIED:20231205T110508Z
UID:20362-1688688000-1688774399@august93.ru
SUMMARY:Диана Арбенина в Чартовой Дюжине
DESCRIPTION:В эту пятницу Диана Арбенина будет соведущей «Чартовой Дюжины»!\nНе пропустите!\n@nashe_ru 19:00 \n\n \n 
URL:https://august93.ru/event/duzina
ATTACH;FMTTYPE=image/jpeg:https://august93.ru/wp-content/uploads/2023/07/photo_2023-07-06_14-02-36.jpg
END:VEVENT
BEGIN:VEVENT
DTSTART;VALUE=DATE:20230708
DTEND;VALUE=DATE:20230709
DTSTAMP:20260425T232300
CREATED:20220629T151709Z
LAST-MODIFIED:20240625T124117Z
UID:18274-1688774400-1688860799@august93.ru
SUMMARY:Ночные Снайперы на стадионе "Спартак" (Москва)
DESCRIPTION:Концерт\, приуроченный к 30-летию группы и ко дню рождения Дианы Арбениной. \n\nАнонс концерта был впервые опубликован в соцсетях НС 23 июня 2022 года. \nНа концерте состоялись съемки клипа на песню «Один». \nАудиозапись концерта спустя несколько месяцев была официально издана как живой альбом. \n\n \n \n\nССЫЛКИ \nСборник видео на ютубе \nОфициальный фотоальбом (сборник разных авторов) \n 
URL:https://august93.ru/event/30let
ATTACH;FMTTYPE=image/jpeg:https://august93.ru/wp-content/uploads/2022/06/Дизайн-без-названия.jpg
END:VEVENT
BEGIN:VEVENT
DTSTART;VALUE=DATE:20230708
DTEND;VALUE=DATE:20230709
DTSTAMP:20260425T232300
CREATED:20230506T150916Z
LAST-MODIFIED:20231205T105004Z
UID:19966-1688774400-1688860799@august93.ru
SUMMARY:Сурганова и Оркестр в Сочи\, Зеленый театр
DESCRIPTION:Летник в Зеленом театре\nПарк «Ривьера»\nНачало — 20:00 \n\nССЫЛКИ \nСборник видео на ютубе
URL:https://august93.ru/event/sochi-sio-2023
ATTACH;FMTTYPE=image/jpeg:https://august93.ru/wp-content/uploads/2023/05/сочи.jpeg
END:VEVENT
BEGIN:VEVENT
DTSTART;VALUE=DATE:20230714
DTEND;VALUE=DATE:20230715
DTSTAMP:20260425T232300
CREATED:20230704T140352Z
LAST-MODIFIED:20231204T215247Z
UID:20243-1689292800-1689379199@august93.ru
SUMMARY:Сурганова и Оркестр в Москве\, теплоход РИО-1
DESCRIPTION:… \n\nССЫЛКИ \nФотоальбом: саундчек от Виктории Зудиной\nФотоальбом: концерт от Натальи Мущинкиной\nПлейлист видео от Лады Север\nСборник видео разных авторов
URL:https://august93.ru/event/rio-msk2023
ATTACH;FMTTYPE=image/jpeg:https://august93.ru/wp-content/uploads/2023/07/Дизайн-без-названия-1.jpg
END:VEVENT
BEGIN:VEVENT
DTSTART;VALUE=DATE:20230716
DTEND;VALUE=DATE:20230717
DTSTAMP:20260425T232300
CREATED:20231016T123928Z
LAST-MODIFIED:20231204T214725Z
UID:20712-1689465600-1689551999@august93.ru
SUMMARY:Сурганова и Оркестр на фестивале "Усадьба Рок&Блюз"
DESCRIPTION:Место проведения — туристический комплекс «Усадьба Скорняково-Архангельское»\, Липецкая область.\nУчастники: Найк Борзов\, «Анимал-Джаз»\, «Сурганова и Оркестр» и ряд местных музыкантов. \n\n \n\nССЫЛКИ \nОфициальный фотоальбом с выступления Сургановой и Оркестра \nСайт фестиваля
URL:https://august93.ru/event/usadba-rock-blues
END:VEVENT
BEGIN:VEVENT
DTSTART;VALUE=DATE:20230730
DTEND;VALUE=DATE:20230731
DTSTAMP:20260425T232300
CREATED:20230824T190545Z
LAST-MODIFIED:20231204T214334Z
UID:20637-1690675200-1690761599@august93.ru
SUMMARY:Сурганова и Оркестр на Дне ВМФ в Петербурге
DESCRIPTION:Сборный концерт на Дворцовой площади \n\n \n\nССЫЛКИ \nФотоальбом с выступления от Наталии Калиниченко\nФотоальбом с выступления от Павла Галактионова\nСборник видео на ютубе
URL:https://august93.ru/event/den_vmf
END:VEVENT
BEGIN:VEVENT
DTSTART;VALUE=DATE:20230731
DTEND;VALUE=DATE:20230801
DTSTAMP:20260425T232300
CREATED:20230704T130422Z
LAST-MODIFIED:20230824T220717Z
UID:20232-1690761600-1690847999@august93.ru
SUMMARY:ИЮЛЬ 2023: события и пресса
DESCRIPTION:1 июля\nСурганова и Оркестр в Воронеже \n*** \nПремьера песни Сургановой и Оркестра «Да Винчи» \n*** \nНочные Снайперы в Чолпон-Ате\, фестиваль MadWay \n*** \nНаше Радио\nУикэнд Ночных Снайперов. день 1 \n\n2 июля\nНаше Радио\nУикэнд Ночных Снайперов. день 2 \n\n3 июля\nДиана Арбенина в редакции газеты «Метро» \n\n4 июля\nПресс-конференция Дианы в пресс-центре стадиона «Спартак» \n*** \nМуз ТВ\nНа сайте телеканала — интервью «Пять «нравится» Дианы Арбениной» \n\n5 июля\nСветлана Сурганова в Волгодонске \n\n6 июля\nЖурнал ОК\nинтервью Дианы Арбениной «Все изменилось\, и не изменилось ничего» \n*** \nНаше Радио\nАвторские новости Дианы Арбениной \n\n7 июля\nСурганова и Оркестр в Ростове-на-Дону \n*** \nНаше Радио\nДиана Арбенина — гость и соведущий Чартовой Дюжины\nПесня Ночных Снайперов «Соловьи» — на 6 месте «Чартовой Дюжины» \n\n8 июля\nДень рождения Дианы Арбениной \n*** \nНочные Снайперы на стадионе «Спартак» (Москва) \n*** \nСурганова и Оркестр в Сочи \n\n9 июля\n  \n\n10 июля\n  \n\n11 июля\nМуз ТВ\nВ программе «Про Новости» — сюжет о концерте в «Спартаке»\nССЫЛКА НА ВИДЕО \n\n12 июля\n  \n\n13 июля\n  \n\n14 июля\nСурганова и Оркестр на теплоходе РИО-1 (Москва-река) \n*** \nДиана Арбенина анонсировала концерты в Петербурге 11 и 12 декабря 2023 года. \n*** \nНаше Радио\nПесня Ночных Снайперов «Соловьи» — на 7 месте «Чартовой Дюжины» \n\n15 июля\n  \n\n16 июля\nСурганова и Оркестр на фестивале «Усадьба Рок&Блюз» \n\n17 июля\nНа ютуб-канале «Жара ТВ» вышел сюжет о концерте Ночных Снайперов на стадионе «Спартак»\nССЫЛКА НА ВИДЕО \n\n18 июля\n  \n\n19 июля\n  \n\n20 июля\n  \n\n21 июля\nРелиз сингла «Сказка» от проекта «Учучуду» с участием Светланы Сургановой \n*** \nНаше Радио\nПесня Ночных Снайперов «Соловьи» — на 4 месте «Чартовой Дюжины» \n\n22 июля \n23 июля \n24 июля \n25 июля \n26 июля \n27 июля \n  \n\n28 июля\nНаше Радио\nПесня Ночных Снайперов «Соловьи» — на 7 месте «Чартовой Дюжины» \n\n29 июля\n  \n\n30 июля\nСурганова и Оркестр выступают на Дне ВМФ в Петербурге \n\n31 июля\n 
URL:https://august93.ru/event/%d0%b8%d1%8e%d0%bb%d1%8c-2023-%d1%81%d0%be%d0%b1%d1%8b%d1%82%d0%b8%d1%8f-%d0%b8-%d0%bf%d1%80%d0%b5%d1%81%d1%81%d0%b0
ATTACH;FMTTYPE=image/jpeg:https://august93.ru/wp-content/uploads/2023/07/svalka_16th-1.jpeg
END:VEVENT
END:VCALENDAR