BEGIN:VCALENDAR
VERSION:2.0
PRODID:-//АВГУСТ - ECPv6.10.1.1//NONSGML v1.0//EN
CALSCALE:GREGORIAN
METHOD:PUBLISH
X-ORIGINAL-URL:https://august93.ru
X-WR-CALDESC:Мероприятия для АВГУСТ
REFRESH-INTERVAL;VALUE=DURATION:PT1H
X-Robots-Tag:noindex
X-PUBLISHED-TTL:PT1H
BEGIN:VTIMEZONE
TZID:Europe/Moscow
BEGIN:STANDARD
TZOFFSETFROM:+0300
TZOFFSETTO:+0300
TZNAME:MSK
DTSTART:20230101T000000
END:STANDARD
END:VTIMEZONE
BEGIN:VEVENT
DTSTART;VALUE=DATE:20230802
DTEND;VALUE=DATE:20230803
DTSTAMP:20260425T215453
CREATED:20230704T140536Z
LAST-MODIFIED:20231204T213723Z
UID:20245-1690934400-1691020799@august93.ru
SUMMARY:Сурганова и Оркестр в Петербурге\, "Флагшток"
DESCRIPTION:Летник на берегу Финского залива\nновое пространство «Флагшток»\nадрес: Южная дорога 28\, метро ЗЕНИТ\nНачало — 20:00 \n\nССЫЛКИ \nФотоальбом: саундчек от Наталии Калиниченко\nФотоальбом: концерт от Наталии Калиниченко\nФотоальбом: концерт от Павла Галактионова\nСборник видео на ютубе
URL:https://august93.ru/event/flagshtok
ATTACH;FMTTYPE=image/jpeg:https://august93.ru/wp-content/uploads/2023/07/9TRkQZIaMBg.jpeg
END:VEVENT
BEGIN:VEVENT
DTSTART;VALUE=DATE:20230804
DTEND;VALUE=DATE:20230805
DTSTAMP:20260425T215453
CREATED:20230824T214937Z
LAST-MODIFIED:20231203T133947Z
UID:20651-1691107200-1691193599@august93.ru
SUMMARY:НУЖЕН ОДИН: премьера клипа
DESCRIPTION:Ночные Снайперы представили премьеру концертного клипа на песню «Нужен один». \nСъемка состоялась во время концерта на стадионе «Спартак»\, 8 июля 2023 года. \n\n \n\nССЫЛКИ \nпортал «Звуки.Ру»: статья «Ночные Снайперы. Раз в году» \nНаше радио: Ночные Снайперы выпустили концертный клип
URL:https://august93.ru/event/nuzhenodin
END:VEVENT
BEGIN:VEVENT
DTSTART;VALUE=DATE:20230805
DTEND;VALUE=DATE:20230806
DTSTAMP:20260425T215453
CREATED:20230506T151704Z
LAST-MODIFIED:20230706T183452Z
UID:19970-1691193600-1691279999@august93.ru
SUMMARY:Фестиваль "Нашествие-2023" (отменен)
DESCRIPTION:Фестиваль пройдет в Калужской области\n4\, 5 и 6 августа 2023 года.\n«Сурганова и Оркестр» выступают 5 августа. Об участии «Ночных Снайперов» не сообщалось. \n\n 
URL:https://august93.ru/event/nashestvie2023
ATTACH;FMTTYPE=image/jpeg:https://august93.ru/wp-content/uploads/2023/05/site-H-2023-social.jpeg
END:VEVENT
BEGIN:VEVENT
DTSTART;VALUE=DATE:20230805
DTEND;VALUE=DATE:20230806
DTSTAMP:20260425T215453
CREATED:20231016T114603Z
LAST-MODIFIED:20231016T114628Z
UID:20703-1691193600-1691279999@august93.ru
SUMMARY:Выставка GENESIS в "ПушкинРядом"
DESCRIPTION:В арт-пространстве «ПушкинРядом состоялась иммерсивная выставка GENESIS с участием Светланы Сургановой. \n\nИз официального пресс-релиза:\nGENESIS — это проект о любви\, свободе выбора и внутренней борьбе человеческой Души\, на помощь к которой приходит Вселенная. \n\nССЫЛКИ \nОфициальный фотоальбом с мероприятия
URL:https://august93.ru/event/genesis-pr
END:VEVENT
BEGIN:VEVENT
DTSTART;VALUE=DATE:20230811
DTEND;VALUE=DATE:20230812
DTSTAMP:20260425T215453
CREATED:20230824T184330Z
LAST-MODIFIED:20231203T131525Z
UID:20633-1691712000-1691798399@august93.ru
SUMMARY:Светлана Сурганова в Северске\, фестиваль "U-235"
DESCRIPTION:Мероприятия в рамках фестиваля от Росатома + акустический концерт Светланы Сургановой и Валерия Тхая. \n\nССЫЛКИ \nФотоальбом: встреча\, прослушивание\, мастер-класс \nФотоальбом: саундчек и концерт \nСборник видео на ютубе
URL:https://august93.ru/event/seversk23
END:VEVENT
BEGIN:VEVENT
DTSTART;VALUE=DATE:20230813
DTEND;VALUE=DATE:20230814
DTSTAMP:20260425T215453
CREATED:20230824T184702Z
LAST-MODIFIED:20231203T131203Z
UID:20635-1691884800-1691971199@august93.ru
SUMMARY:Сурганова и Оркестр в Ессентуках
DESCRIPTION:Фестиваль «Друзья и встречи на курорте» \n\nССЫЛКИ \nОфициальный фотоальбом с концерта \nСборник видео на ютубе
URL:https://august93.ru/event/essentuki23
END:VEVENT
BEGIN:VEVENT
DTSTART;VALUE=DATE:20230815
DTEND;VALUE=DATE:20230816
DTSTAMP:20260425T215453
CREATED:20230823T221227Z
LAST-MODIFIED:20231203T130217Z
UID:20616-1692057600-1692143999@august93.ru
SUMMARY:Светлана Сурганова в проекте "Пламенные сердца"
DESCRIPTION:15 августа в Москве на площадке открытого театрального пространства «Арт-платформа» в рамках трека «Знание. Герои» состоялся финал международного детского творческого конкурса «Соло-01» — шоу «Пламенные сердца – 2023». Генеральным партнером проекта выступает Российское общество «Знание». \nТворческим опытом и секретами успеха с ребятами поделились известные наставники: Дмитрий Маликов\, Мариам Мерабова\, Светлана Сурганова\, Лина Арифулина\, Андрей Мерзликин\, музыкальный дуэт NANCI & SIDOROV и многие другие. \n\nССЫЛКИ \nОфициальный пресс-релиз мероприятия \nВидеозапись мероприятия \nАудиозапись песни «Просто» в исполнении Светланы Сургановой и детского хора\n \n\nВИДЕО
URL:https://august93.ru/event/plamya23
END:VEVENT
BEGIN:VEVENT
DTSTART;VALUE=DATE:20230819
DTEND;VALUE=DATE:20230820
DTSTAMP:20260425T215453
CREATED:20230802T060154Z
LAST-MODIFIED:20231201T131711Z
UID:20542-1692403200-1692489599@august93.ru
SUMMARY:Сурганова и Оркестр на фестивале "Крылья Сахалина"
DESCRIPTION:остров Сахалин\, аэродром Пушистый\nАвиационно-музыкальный фестиваль «Крылья Сахалина»\nучастники: «Сурганова и Оркестр\, «Рок-синдром»\, «Анимация» \n\nИз местной прессы: \nБолее 50 тысяч человек посетили фестиваль «Крылья Сахалина» за три дня.\nПосле трехлетнего перерыва на аэродроме «Пушистый» в Корсаковском районе прошел фестиваль музыки и авиации «Крылья Сахалина». Одно из главных событий лета возродили по инициативе губернатора Валерий Лимаренко.\nЭкстремальный мотоспорт\, парад байкеров\, пейнтбол — для сахалинцев и гостей островного региона подготовили активные развлечения на любой вкус. Зрители услышали выступления 20 сахалинских музыкальных групп и артистов Академии Ларисы Долиной. Хедлайнерами фестиваля стали «Сурганова и оркестр»\, «АнимациЯ»\, «Конец фильма» и «Рок-синдром».\nМасштабный праздник авиации и музыки в этом году охватил три дня: он стартовал 18 августа и завершился 20 августа. \n\nИнтервью Светланы Сахалинскому ТВ \n \n\nФОТО \n\n\n\n			\n				\n						\n			\n				\n			\n		\n							\n			\n		\n				\n						\n			\n				\n			\n		\n							\n			\n		\n				\n						\n			\n				\n			\n		\n							\n			\n		\n				\n						\n			\n				\n			\n		\n							\n			\n		\n				\n						\n			\n				\n			\n		\n							\n			\n		\n				\n						\n			\n				\n			\n		\n							\n			\n		\n				\n						\n			\n				\n			\n		\n							\n			\n		\n				\n						\n			\n				\n			\n		\n							\n			\n		\n				\n						\n			\n				\n			\n		\n							\n			\n		\n		\n		\n			\n\n\nССЫЛКИ \nСборник видео на ютубе \n 
URL:https://august93.ru/event/%d1%84%d0%b5%d1%81%d1%82%d0%b8%d0%b2%d0%b0%d0%bb%d1%8c-%d0%ba%d1%80%d1%8b%d0%bb%d1%8c%d1%8f-%d1%81%d0%b0%d1%85%d0%b0%d0%bb%d0%b8%d0%bd%d0%b0
END:VEVENT
BEGIN:VEVENT
DTSTART;VALUE=DATE:20230819
DTEND;VALUE=DATE:20230820
DTSTAMP:20260425T215453
CREATED:20230824T205218Z
LAST-MODIFIED:20230824T205621Z
UID:20647-1692403200-1692489599@august93.ru
SUMMARY:30 лет группе "Ночные Снайперы"
DESCRIPTION:В официальных пабликах «Ночных Снайперов» и «Сургановой и Оркестра» выложены поздравления. \n\nПост на странице Дианы Арбениной и в сообществе «Ночные Снайперы»: \nСветлана Лосева Светлана Сурганова Петр Малаховский Денис Дулицкий Юрий Дегтярев\nАлексей Иванов Иван Иволга Митя Горелов Игорь Копылов Альберт Потапкин Александр Канарский Евген Ступка Сергей Еремин Айрат Садыков Алексей Самарин Сергей Сандовский Ринат Сунгатуллин Дмитрий Моргуновский Дмитрий Емельянов Белла Рабинович Серафима Максим Маслин Вадим Пальцев\, Дмитрий Честных Федор Васильев Дмитрий Максимов Андрей Титков Дмитрий Трушин Анна Уткина Александр Пономарев Лариса Пальцева Валерий Ткачук Валерий Городецкий Айдар Зайнутдинов Анастасия Золотова Юля Ляховецкая Андрей Меркушев Ольга Крылова Алексей Тарасенко Константин Филиппов Мария Кохель Александр Шумилин Асет Гайрабекова Дарья Смирнова Ольга Лобасева Анастасия Драпеко Вячеслав Фрий Илья Кожухов Сергей Кузнецов Андрей Сторчеус Роман Шугаев Нига Миха Техник Максим Чигирин Василий Мирошниченко Александр Аверьянов Александр Пушкин Елена Жукова Елена Маркова Нателла Крапивина Татьяна Дорошенко Юлиана Петрова Марина Шостак Дмитрий Сильченко Закар Манукян Лера Карпухина Манана Ключевская Нина Цаплина Екатерина Ростикова Максим Задворнов Лиза Канунникова Любовь Майсерик Вера Смирнова Андрей Железняков Илья Клименок Григорий Гомонов Галина Федченко Алексей Карамышев Николай Лукьянов Стас Веселов Денис Жданов Сергей Макаров\nДиана Арбенина… \nспасибо! \n#дианаарбенина #арбенина #ночныеснайперы #nevergiveup #япишусвоюисторию #ночныеснайперы30  \n\nПост в сообществе «Сурганова и Оркестр»: \n30 лет — можно ли в это поверить?! С праздником\, дорогие наши! \n\n 
URL:https://august93.ru/event/30ns
END:VEVENT
BEGIN:VEVENT
DTSTART;VALUE=DATE:20230822
DTEND;VALUE=DATE:20230823
DTSTAMP:20260425T215453
CREATED:20230802T055929Z
LAST-MODIFIED:20231016T115048Z
UID:20540-1692662400-1692748799@august93.ru
SUMMARY:День российского флага в Лужниках
DESCRIPTION:Сборный концерт с участием «Сургановой и Оркестра» \n\n \n\nССЫЛКИ \nПлейлист с концерта на ютубе \nФотоальбом с выступления «Сургановой и Оркестра» \nРепортаж сайта «Москва Онлайн»
URL:https://august93.ru/event/%d0%b4%d0%b5%d0%bd%d1%8c-%d1%80%d0%be%d1%81%d1%81%d0%b8%d0%b9%d1%81%d0%ba%d0%be%d0%b3%d0%be-%d1%84%d0%bb%d0%b0%d0%b3%d0%b0-%d0%b2-%d0%bb%d1%83%d0%b6%d0%bd%d0%b8%d0%ba%d0%b0%d1%85
END:VEVENT
BEGIN:VEVENT
DTSTART;VALUE=DATE:20230823
DTEND;VALUE=DATE:20230824
DTSTAMP:20260425T215453
CREATED:20230823T215152Z
LAST-MODIFIED:20230823T215152Z
UID:20614-1692748800-1692835199@august93.ru
SUMMARY:Концерт в честь 80-летия Курской битвы
DESCRIPTION:В Большом конференц-зале Правительства Москвы состоялось торжественное мероприятие\, посвященное 80-й годовщине разгрома советскими войсками немецко-фашистских войск в Курской битве. Концерт посетили участники Курской битвы\, ветераны Великой Отечественной войны и Вооруженных Сил\, Герои Советского Союза и России\, представители органов исполнительной власти и молодежный актив столицы. \nВ мероприятии приняли участие «Сурганова и Оркестр» \n\n 
URL:https://august93.ru/event/80let
END:VEVENT
BEGIN:VEVENT
DTSTART;VALUE=DATE:20230831
DTEND;VALUE=DATE:20230901
DTSTAMP:20260425T215453
CREATED:20230824T204416Z
LAST-MODIFIED:20230921T194825Z
UID:20643-1693440000-1693526399@august93.ru
SUMMARY:АВГУСТ 2023: события и публикации
DESCRIPTION:1 августа \n  \n\n2 августа \nКонцерт Сургановой и Оркестра в Петербурге\, площадка «Флагшток» \n\n3 августа \n  \n\n4 августа \nПремьера концертного видеоклипа Ночных Снайперов «Нужен один» \n*** \nНаше Радио\nПесня Ночных Снайперов «Соловьи» — на 7 месте Чартовой Дюжины\nВ новинках недели представлена песня «Один». \n\n5 августа \nФестиваль «Нашествие»\, намеченный на 4-6 августа 2023\, был отменен в связи со сложной ситуацией в стране (перенесен на 2024 год). Выступление Сургановой и Оркестра было намечено на 5 августа. \n\n6 августа \n  \n7 августа \n  \n8 августа \n  \n9 августа \n  \n10 августа \n  \n\n11 августа \nСветлана Сурганова в Северске\, на фестивале «U-235» \n*** \nНаше Радио\nПесня Ночных Снайперов «Один» — на 8 месте Чартовой Дюжины.\nПесня «Соловьи» покинула чарт. \n\n12 августа \n  \n\n13 августа \nСурганова и Оркестр в Ессентуках\, на фестивале «Друзья и встречи на курорте» \n\n14 августа \n  \n\n15 августа \nСветлана Сурганова в проекте «Пламенные сердца» \n\n16 августа \n  \n17 августа \n  \n\n18 августа \nНаше Радио\nПесня Ночных Снайперов «Один» — на 10 месте Чартовой Дюжины \n\n19 августа \n30 лет исполнилось группе «Ночные Снайперы» \n*** \nСурганова и Оркестр на фестивале «Крылья Сахалина» \n\n20 августа \n  \n21 августа \n  \n\n22 августа \nСурганова и Оркестр на концерте в честь Дня флага в Лужниках \n\n23 августа \nСурганова и Оркестр на концерте в мэрии Москвы \n\n24 августа \n  \n\n25 августа \nНаше Радио\nПесня Ночных Снайперов «Один» — на ? месте Чартовой Дюжины \n*** \nДиана Арбенина ответила на вопросы о концерте в «Спартаке» \n \n\n26 августа \n  \n27 августа \n  \n28 августа \n  \n29 августа \n  \n30 августа \n  \n31 августа \n 
URL:https://august93.ru/event/avgust-2023
END:VEVENT
END:VCALENDAR