BEGIN:VCALENDAR
VERSION:2.0
PRODID:-//АВГУСТ - ECPv6.10.1.1//NONSGML v1.0//EN
CALSCALE:GREGORIAN
METHOD:PUBLISH
X-WR-CALNAME:АВГУСТ
X-ORIGINAL-URL:https://august93.ru
X-WR-CALDESC:Мероприятия для АВГУСТ
REFRESH-INTERVAL;VALUE=DURATION:PT1H
X-Robots-Tag:noindex
X-PUBLISHED-TTL:PT1H
BEGIN:VTIMEZONE
TZID:Europe/Moscow
BEGIN:STANDARD
TZOFFSETFROM:+0300
TZOFFSETTO:+0300
TZNAME:MSK
DTSTART:20230101T000000
END:STANDARD
END:VTIMEZONE
BEGIN:VEVENT
DTSTART;VALUE=DATE:20230917
DTEND;VALUE=DATE:20230918
DTSTAMP:20260425T202612
CREATED:20230823T185904Z
LAST-MODIFIED:20231129T164639Z
UID:20579-1694908800-1694995199@august93.ru
SUMMARY:Ночные Снайперы в клубе "Урбан" (Москва)
DESCRIPTION:… \n\n \nССЫЛКИ \nФотоальбом разных авторов \nПлейлист на Ютубе \nВидео от Лады Север (телеграм) \nФотоальбом от Марины Васюсиной
URL:https://august93.ru/event/urban
ATTACH;FMTTYPE=image/jpeg:https://august93.ru/wp-content/uploads/2023/08/fabif.jpg
END:VEVENT
BEGIN:VEVENT
DTSTART;VALUE=DATE:20230923
DTEND;VALUE=DATE:20230924
DTSTAMP:20260425T202612
CREATED:20230731T181500Z
LAST-MODIFIED:20231201T115012Z
UID:20525-1695427200-1695513599@august93.ru
SUMMARY:Ночные Снайперы в Н.Новгороде\, ДС "Нагорный"
DESCRIPTION:… \n\nССЫЛКИ \nСборник видео на ютубе \n  \n 
URL:https://august93.ru/event/nino2023
ATTACH;FMTTYPE=image/jpeg:https://august93.ru/wp-content/uploads/2023/07/23-09-2023.jpg
END:VEVENT
BEGIN:VEVENT
DTSTART;VALUE=DATE:20230929
DTEND;VALUE=DATE:20230930
DTSTAMP:20260425T202612
CREATED:20230731T181715Z
LAST-MODIFIED:20240625T123848Z
UID:20530-1695945600-1696031999@august93.ru
SUMMARY:Ночные Снайперы в Екатеринбурге\, ДИВС
DESCRIPTION:… \n\n \n\nССЫЛКИ \nСборник видео на ютубе \nОфициальный фотоальбом (Белла Рич)
URL:https://august93.ru/event/eburg2023
ATTACH;FMTTYPE=image/jpeg:https://august93.ru/wp-content/uploads/2023/07/29-09-2023.jpg
END:VEVENT
BEGIN:VEVENT
DTSTART;VALUE=DATE:20230930
DTEND;VALUE=DATE:20231001
DTSTAMP:20260425T202612
CREATED:20230731T181818Z
LAST-MODIFIED:20231201T104750Z
UID:20532-1696032000-1696118399@august93.ru
SUMMARY:Ночные Снайперы в Челябинске\, ДС "Юность"
DESCRIPTION:… \n\n \n \n\nССЫЛКИ \nСборник видео на ютубе \n 
URL:https://august93.ru/event/chel2023
ATTACH;FMTTYPE=image/jpeg:https://august93.ru/wp-content/uploads/2023/07/30-09-2023.jpg
END:VEVENT
BEGIN:VEVENT
DTSTART;VALUE=DATE:20230930
DTEND;VALUE=DATE:20231001
DTSTAMP:20260425T202612
CREATED:20230921T191510Z
LAST-MODIFIED:20231209T114842Z
UID:20669-1696032000-1696118399@august93.ru
SUMMARY:СЕНТЯБРЬ 2023: события и пресса
DESCRIPTION:1 сентября \n2 сентября \n3 сентября \n4 сентября \n5 сентября \n6 сентября \n7 сентября \n8 сентября \n9 сентября \n10 сентября \n11 сентября \n12 сентября \n13 сентября \n14 сентября \n15 сентября \n16 сентября \n  \n17 сентября\nКонцерт Ночных Снайперов в клубе «Урбан» (Москва) \n\n18 сентября\nСветлана Сурганова на каникулах в Алуште \nhttps://youtube.com/shorts/40SJvxyEd3s?si=XebUkUSyFQjxa9t1 \n\n19 сентября\nСветлана Сурганова на каникулах в Алуште \nhttps://youtube.com/shorts/GxthNY3DRP0?si=bZ_A3JyuEOy-Rn7K \n\n20 сентября\nВ журнале «Шоумастер» вышло большое интервью Николая Лукьянова (звукорежиссер НС) и Алексея Карамышева (художник по свету НС) \nССЫЛКА \n\n21 сентября \n22 сентября \n\n23 сентября\nКонцерт Ночных Снайперов в Нижнем Новгороде \n\n24 сентября \n25 сентября \n26 сентября \n27 сентября \n28 сентября \n  \n\n29 сентября\nКонцерт Ночных Снайперов в Екатеринбурге \n\n30 сентября\nКонцерт Ночных Снайперов в Челябинске \n 
URL:https://august93.ru/event/%d1%81%d0%b5%d0%bd%d1%82%d1%8f%d0%b1%d1%80%d1%8c-2023-%d1%81%d0%be%d0%b1%d1%8b%d1%82%d0%b8%d1%8f-%d0%b8-%d0%bf%d1%80%d0%b5%d1%81%d1%81%d0%b0
END:VEVENT
END:VCALENDAR