BEGIN:VCALENDAR
VERSION:2.0
PRODID:-//АВГУСТ - ECPv6.10.1.1//NONSGML v1.0//EN
CALSCALE:GREGORIAN
METHOD:PUBLISH
X-WR-CALNAME:АВГУСТ
X-ORIGINAL-URL:https://august93.ru
X-WR-CALDESC:Мероприятия для АВГУСТ
REFRESH-INTERVAL;VALUE=DURATION:PT1H
X-Robots-Tag:noindex
X-PUBLISHED-TTL:PT1H
BEGIN:VTIMEZONE
TZID:Europe/Moscow
BEGIN:STANDARD
TZOFFSETFROM:+0300
TZOFFSETTO:+0300
TZNAME:MSK
DTSTART:20230101T000000
END:STANDARD
END:VTIMEZONE
BEGIN:VEVENT
DTSTART;VALUE=DATE:20231009
DTEND;VALUE=DATE:20231010
DTSTAMP:20260425T184858
CREATED:20231129T163734Z
LAST-MODIFIED:20231209T114622Z
UID:21071-1696809600-1696895999@august93.ru
SUMMARY:Премьера песни "Бар-мицва"
DESCRIPTION:Диана Арбенина выложила на своих страницах в телеграме и инстаграме домашнюю запись с премьерным акустическим исполнением песни «Бар-мицва». \n \n\nтекст песни: \nвозвращайся домой. не бери ничего.\nтолько скорбь и печаль. и немного тепла.\nстарший сын надевает военный костюм.\nты сейчас ты сейчас ты уже умерла. \nзамолчу. сконцентрируюсь на боли.\nтерпеливый гораздо больше стоит.\nкровь течет. и по швам трещат границы.\nГосподи! ну скажи мне это снится!\nмир ослеп. полыхает юг и север.\nкорабли разбиваются о берег.\nчто теперь называется любовью?\nзамолчу. сконцентрируюсь на боли. \nпостарайся оставить им память о том\nгде хранятся их детские светлые сны.\nвсе наследство детей — золотое кольцо.\nи бар-мицва в последнюю ночь до войны. \n7-8. октябрь. 2023.
URL:https://august93.ru/event/%d0%bf%d1%80%d0%b5%d0%bc%d1%8c%d0%b5%d1%80%d0%b0-%d0%bf%d0%b5%d1%81%d0%bd%d0%b8-%d0%b1%d0%b0%d1%80-%d0%bc%d0%b8%d1%86%d0%b2%d0%b0
END:VEVENT
BEGIN:VEVENT
DTSTART;VALUE=DATE:20231017
DTEND;VALUE=DATE:20231018
DTSTAMP:20260425T184858
CREATED:20230823T193156Z
LAST-MODIFIED:20231201T103831Z
UID:20582-1697500800-1697587199@august93.ru
SUMMARY:Ночные Снайперы в Ижевске\, ДК Аксион
DESCRIPTION:… \n\nССЫЛКИ \nСборник видео на ютубе
URL:https://august93.ru/event/izhevsk23
ATTACH;FMTTYPE=image/jpeg:https://august93.ru/wp-content/uploads/2023/08/ижевск.jpg
END:VEVENT
BEGIN:VEVENT
DTSTART;VALUE=DATE:20231018
DTEND;VALUE=DATE:20231019
DTSTAMP:20260425T184858
CREATED:20230823T193919Z
LAST-MODIFIED:20231201T102805Z
UID:20585-1697587200-1697673599@august93.ru
SUMMARY:Ночные Снайперы в Йошкар-Оле (отмена)
DESCRIPTION:
URL:https://august93.ru/event/joschkar23
ATTACH;FMTTYPE=image/jpeg:https://august93.ru/wp-content/uploads/2023/08/Йошкар-ола.jpg
END:VEVENT
BEGIN:VEVENT
DTSTART;VALUE=DATE:20231020
DTEND;VALUE=DATE:20231021
DTSTAMP:20260425T184858
CREATED:20230823T194412Z
LAST-MODIFIED:20231201T102616Z
UID:20588-1697760000-1697846399@august93.ru
SUMMARY:Ночные Снайперы в Уфе\, "Уфа-Арена"
DESCRIPTION:ССЫЛКИ \nСборник видео на ютубе \n 
URL:https://august93.ru/event/ufa23-2
ATTACH;FMTTYPE=image/jpeg:https://august93.ru/wp-content/uploads/2023/08/уфа.jpg
END:VEVENT
BEGIN:VEVENT
DTSTART;VALUE=DATE:20231022
DTEND;VALUE=DATE:20231023
DTSTAMP:20260425T184858
CREATED:20230823T194522Z
LAST-MODIFIED:20231201T101802Z
UID:20591-1697932800-1698019199@august93.ru
SUMMARY:Ночные Снайперы в Новосибирске\, Локомотив-Арена
DESCRIPTION:ССЫЛКИ \nПолитическая реакция: \nотзыв в паблике «Комитета семей защитников отечества»\nпортал «Инсайдер»\nпрограмма Юлии Таратуты\nМихаил Козырев на Дожде\nканал Александра Невзорова\nстатья Артемия Троицкого на «Эхе»\nреакция стукача Бородина\nновости телеканала Дождь\nновости «Эха Москвы»\nновости портала «Медуза» \nОстальные ссылки: \nСборник видео на ютубе
URL:https://august93.ru/event/novosib23
END:VEVENT
BEGIN:VEVENT
DTSTART;VALUE=DATE:20231023
DTEND;VALUE=DATE:20231024
DTSTAMP:20260425T184858
CREATED:20230823T202049Z
LAST-MODIFIED:20231201T100801Z
UID:20593-1698019200-1698105599@august93.ru
SUMMARY:Ночные Снайперы в Сургуте\, Ледовый дворец
DESCRIPTION:ССЫЛКИ \nСборник видео на ютубе \n  \n 
URL:https://august93.ru/event/surgut23
END:VEVENT
BEGIN:VEVENT
DTSTART;VALUE=DATE:20231025
DTEND;VALUE=DATE:20231026
DTSTAMP:20260425T184858
CREATED:20230823T202133Z
LAST-MODIFIED:20231201T100156Z
UID:20595-1698192000-1698278399@august93.ru
SUMMARY:Ночные Снайперы в Пензе\, Дизель-Арена
DESCRIPTION:… \n\nНа концерте в Пензе была представлена премьера концертной версии песни «Андрей» в электрической аранжировке. \n \n\nССЫЛКИ \nСборник видео на ютубе \n 
URL:https://august93.ru/event/penza23
END:VEVENT
BEGIN:VEVENT
DTSTART;VALUE=DATE:20231026
DTEND;VALUE=DATE:20231027
DTSTAMP:20260425T184858
CREATED:20230823T202240Z
LAST-MODIFIED:20231026T110207Z
UID:20597-1698278400-1698364799@august93.ru
SUMMARY:Ночные Снайперы в Саратове (отмена)
DESCRIPTION:площадка — ДС Кристалл
URL:https://august93.ru/event/saratov23
END:VEVENT
BEGIN:VEVENT
DTSTART;VALUE=DATE:20231030
DTEND;VALUE=DATE:20231031
DTSTAMP:20260425T184858
CREATED:20231129T130829Z
LAST-MODIFIED:20231129T130829Z
UID:21057-1698624000-1698710399@august93.ru
SUMMARY:Премьера песни "Бог ушел"
DESCRIPTION:Диана Арбенина на своих страницах в телеграме и инстаграме выложила домашнюю видеозапись с премьерным акустическим исполнением песни «Бог ушел» \n \n*** \nтекст песни: \nс каждым днем все меньше слов.\nвсё больше многоточий.\nвсё серьёзное теперь не важно и не срочно.\nнезачем быстрее.\nгде дорога — там траншея.\nпервый стал приманкой.\nа второй упал мишенью. \nс каждым днем все меньше солнца\,\nменьше сна и ветра.\nбесполезно спрашивать\,\nне находя ответа.\nБог ушёл из города и скрылся меж холмами.\nчто же происходит?\nпроисходит люди с нами. \nсовесть под наркозом.\nа душа — душа ослепла.\nс каждым днем всё меньше шансов\nменьше чести\, меньше.\nтолько и осталась — моя вечная гитара.\nне было б её — меня давно уже не стало. \nс каждым днем друзей всё меньше.\nимена сгорают.\nи надежды\, что всё это кто-нибудь исправит.\nжизнь течёт\, как масло.\nнож кромсает по живому.\nи уже не важно кто уехал\, а кто дома. \nтак не может быть хоть 1000 лет\, но не поверю.\nБог ушёл и в спину ему выстрелами двери.\nБог ушёл из города и скрылся меж холмами.\nчто же будет люди?\nчто же будет люди с нами? \nтак не может быть\nхоть 1000 лет\, но не поверю.\nБог ушёл и в спину ему выстрелами двери.\nБог ушёл из города и скрылся меж холмами.\nчто же будет люди?\nчто же будет люди с нами?
URL:https://august93.ru/event/bogushel
END:VEVENT
BEGIN:VEVENT
DTSTART;VALUE=DATE:20231031
DTEND;VALUE=DATE:20231101
DTSTAMP:20260425T184858
CREATED:20231012T214928Z
LAST-MODIFIED:20231209T115131Z
UID:20693-1698710400-1698796799@august93.ru
SUMMARY:ОКТЯБРЬ 2023: события и пресса
DESCRIPTION:1 \n  \n\n2 октября\nСветлана Сурганова и команда «ПушкинРядом» посетили музей «Петропавловская крепость» в Петербурге. \n\n3 \n4 \n5 \n  \n\n6 октября\nПесня Ночных Снайперов «Один» на 3 месте Чартовой Дюжины \n\n7 \n  \n\n8 октября\nСветлана Сурганова посетила гончарную мастерскую «Люблю Леплю» для съемки «Урока № 21» для «Лицея ПушкинРядом»\nОТЧЕТНЫЙ ВИДЕОРОЛИК \n\n9 октября\nДиана Арбенина выложила видеоролик с домашней записью новой песни: «Бар-Мицва»\, посвященной трагическим событиям в Израиле. \n*** \nДиана Арбенина приняла участие в съемках второго сезона сериала «Обоюдное согласие». \n*** \nСветлана Сурганова посетила выставку Бориса Григорьева в музее Фаберже. \n\n10 октября \n  \n\n11 октября \n  \n\n12 октября\nСурганова и Оркестр сыграли концерт-корпоратив в Москве\, для компании ВЦИОМ. \n\n13 октября\nКанал НТВ\nСъемки программы «Квартирник у Маргулиса» с  участием группы «Сурганова и Оркестр». \n*** \nДиана Арбенина сообщила об отмене концерта 18 октября в Йошкар-Оле.\nССЫЛКА НА ВИДЕО \n*** \nПесня Ночных Снайперов «Один» на 6 месте Чартовой Дюжины \n\n14 октября\nДиана Арбенина посетила «Аудиошколу DJ Грува» \n\n15 \n  \n\n16 октября\n  \n\n17 октября\nНочные Снайперы в Ижевске\, ДК Аксион \n\n18 октября\nНочные Снайперы в Йошкар-Оле\, Ледовый дворец \n\n19 \n  \n\n20 октября\nНочные Снайперы в Уфе\, «Уфа-Арена» \n\n21 \n  \n\n22 октября\nНочные Снайперы в Новосибирске\, «Локомотив-Арена» \n\n23 октября\nНочные Снайперы в Сургуте\, Ледовый дворец \n\n24 \n  \n\n25 октября\nНочные Снайперы в Пензе\, «Дизель-Арена» \n\n26 октября\nНочные Снайперы в Саратове\, ДС Кристалл \n\n27 \n28 \n  \n\n29 октября\nВ «ПушкинРядом» — творческий вечер Ольги Виор с участием Светланы Сургановой \n\n30 октября\nПремьера песни Дианы Арбениной «Бог ушел» \n\n31 октября\nСурганова и Оркестр анонсировали январский тур по Подмосковью
URL:https://august93.ru/event/10-2023
END:VEVENT
END:VCALENDAR