BEGIN:VCALENDAR
VERSION:2.0
PRODID:-//АВГУСТ - ECPv6.10.1.1//NONSGML v1.0//EN
CALSCALE:GREGORIAN
METHOD:PUBLISH
X-WR-CALNAME:АВГУСТ
X-ORIGINAL-URL:https://august93.ru
X-WR-CALDESC:Мероприятия для АВГУСТ
REFRESH-INTERVAL;VALUE=DURATION:PT1H
X-Robots-Tag:noindex
X-PUBLISHED-TTL:PT1H
BEGIN:VTIMEZONE
TZID:Europe/Moscow
BEGIN:STANDARD
TZOFFSETFROM:+0300
TZOFFSETTO:+0300
TZNAME:MSK
DTSTART:20240101T000000
END:STANDARD
END:VTIMEZONE
BEGIN:VEVENT
DTSTART;VALUE=DATE:20240102
DTEND;VALUE=DATE:20240103
DTSTAMP:20260425T142506
CREATED:20231210T045353Z
LAST-MODIFIED:20241212T092822Z
UID:21371-1704153600-1704239999@august93.ru
SUMMARY:Сурганова и Оркестр в Дубне. ДК Мир
DESCRIPTION:ССЫЛКИ \nОбсуждение на оф.странице (+ видео в комментариях) \nВидео с концерта на фан-странице ВКонтакте \nНесколько роликов с концерта
URL:https://august93.ru/event/%d1%81%d1%83%d1%80%d0%b3%d0%b0%d0%bd%d0%be%d0%b2%d0%b0-%d0%b8-%d0%be%d1%80%d0%ba%d0%b5%d1%81%d1%82%d1%80-%d0%b2-%d0%b4%d1%83%d0%b1%d0%bd%d0%b5-%d0%b4%d0%ba-%d0%bc%d0%b8%d1%80
END:VEVENT
BEGIN:VEVENT
DTSTART;VALUE=DATE:20240103
DTEND;VALUE=DATE:20240104
DTSTAMP:20260425T142506
CREATED:20231210T045452Z
LAST-MODIFIED:20241212T094004Z
UID:21373-1704240000-1704326399@august93.ru
SUMMARY:Сурганова и Оркестр в Одинцово. КСЦ Мечта
DESCRIPTION:праздничная программа \n\nССЫЛКИ \nОфициальный фотоальбом с концерта \nКонцертное видео от Лады Север \nЕще несколько роликов с концерта \nФото Елизаветы Абрамовой \nВидео от фан-клуба ВКонтакте
URL:https://august93.ru/event/odincovo24
END:VEVENT
BEGIN:VEVENT
DTSTART;VALUE=DATE:20240104
DTEND;VALUE=DATE:20240105
DTSTAMP:20260425T142506
CREATED:20231210T045733Z
LAST-MODIFIED:20241212T094945Z
UID:21375-1704326400-1704412799@august93.ru
SUMMARY:Сурганова и Оркестр в Реутове. ДК Мир
DESCRIPTION:праздничная программа \n \n\nССЫЛКИ \nОфициальный фотоальбом (Марина Васюсина) \nПлейлист видеороликов на ютубе \nВидео от фан-клуба ВКонтакте \nЗрительский отзыв + фото
URL:https://august93.ru/event/reutov
END:VEVENT
BEGIN:VEVENT
DTSTART;VALUE=DATE:20240106
DTEND;VALUE=DATE:20240107
DTSTAMP:20260425T142506
CREATED:20231210T045839Z
LAST-MODIFIED:20241212T100344Z
UID:21377-1704499200-1704585599@august93.ru
SUMMARY:Сурганова и Оркестр в Зеленограде. КЦ Зеленоград
DESCRIPTION:праздничная программа \n\nССЫЛКИ \nСборник видео на ютубе \nКонцертное видео на оф.странице \nФото Елизаветы Абрамовой \nВидео от фан-клуба ВКонтакте
URL:https://august93.ru/event/zelen24
END:VEVENT
BEGIN:VEVENT
DTSTART;VALUE=DATE:20240107
DTEND;VALUE=DATE:20240108
DTSTAMP:20260425T142506
CREATED:20231210T050000Z
LAST-MODIFIED:20241212T101124Z
UID:21379-1704585600-1704671999@august93.ru
SUMMARY:Сурганова и Оркестр в Люберцах. Люберецкий ДК
DESCRIPTION:праздничная программа \n\nССЫЛКИ \nСборник видео на ютубе \nСаундчек: видео с оф.страницы \nФотоальбом от Лады Север
URL:https://august93.ru/event/luber24
END:VEVENT
BEGIN:VEVENT
DTSTART;VALUE=DATE:20240108
DTEND;VALUE=DATE:20240109
DTSTAMP:20260425T142506
CREATED:20231210T050148Z
LAST-MODIFIED:20241212T120633Z
UID:21381-1704672000-1704758399@august93.ru
SUMMARY:Сурганова и Оркестр в Королёве. ЦДК Калинина
DESCRIPTION:ССЫЛКИ \nСборник видео ВКонтакте \nЕще несколько видеороликов \nФото и видео от Вероники Зотовой \nФотоальбом от концертной площадки
URL:https://august93.ru/event/korolev24
END:VEVENT
BEGIN:VEVENT
DTSTART;VALUE=DATE:20240119
DTEND;VALUE=DATE:20240120
DTSTAMP:20260425T142506
CREATED:20231210T043237Z
LAST-MODIFIED:20241212T122311Z
UID:21359-1705622400-1705708799@august93.ru
SUMMARY:Ночные Снайперы в Нижнем Новгороде\, КЗ Юпитер
DESCRIPTION:акустический концерт \n\n \n\nССЫЛКИ \nСборник видео на ютубе \nПубликация городского портала \nВидеосборник от концертной площадки
URL:https://august93.ru/event/nino24
END:VEVENT
BEGIN:VEVENT
DTSTART;VALUE=DATE:20240121
DTEND;VALUE=DATE:20240122
DTSTAMP:20260425T142506
CREATED:20231210T043359Z
LAST-MODIFIED:20241212T145104Z
UID:21361-1705795200-1705881599@august93.ru
SUMMARY:Ночные Снайперы в БКЗ "Октябрьский" (СПб)
DESCRIPTION:акустический концерт \n\nССЫЛКИ \nОфициальный фотоальбом (Белла Рич) \nСборник видео на ютубе \nЗрительский отзыв + фото \n 
URL:https://august93.ru/event/bkz24
END:VEVENT
BEGIN:VEVENT
DTSTART;VALUE=DATE:20240123
DTEND;VALUE=DATE:20240124
DTSTAMP:20260425T142506
CREATED:20231210T043516Z
LAST-MODIFIED:20241212T145654Z
UID:21363-1705968000-1706054399@august93.ru
SUMMARY:Ночные Снайперы в Московском Доме музыки
DESCRIPTION:акустический концерт с оркестром \n \n\nССЫЛКИ \nОфициальный фотоальбом (Белла Рич) \nВидео-плейлист от Лады Север \nФотоальбом от Лады Север \nСборник видео на ютубе
URL:https://august93.ru/event/mmdm24
END:VEVENT
BEGIN:VEVENT
DTSTART;VALUE=DATE:20240127
DTEND;VALUE=DATE:20240128
DTSTAMP:20260425T142506
CREATED:20231210T043625Z
LAST-MODIFIED:20231210T043839Z
UID:21365-1706313600-1706399999@august93.ru
SUMMARY:Ночные Снайперы в Екатеринбурге\, ККТ Космос
DESCRIPTION:акустический концерт \n\n 
URL:https://august93.ru/event/eburg24
END:VEVENT
BEGIN:VEVENT
DTSTART;VALUE=DATE:20240127
DTEND;VALUE=DATE:20240128
DTSTAMP:20260425T142506
CREATED:20241212T113114Z
LAST-MODIFIED:20241212T113114Z
UID:22350-1706313600-1706399999@august93.ru
SUMMARY:Фильм-лекция "Подвиг ленинградских педиатров"
DESCRIPTION:27 января 2024 года\, в день празднования очередной годовщины полного освобождения Ленинграда от блокады\, Светлана Сурганова и команда клуба «ПушкинРядом» выложили в открытый доступ фильм-лекцию «Подвиг ленинградских педиатров» из цикла «История» своего проекта «Гранд-Лицей». \n(публикация фильма для подписчиков клуба состоялась в январе 2023 года) \n\n \n 
URL:https://august93.ru/event/podvig
END:VEVENT
BEGIN:VEVENT
DTSTART;VALUE=DATE:20240128
DTEND;VALUE=DATE:20240129
DTSTAMP:20260425T142506
CREATED:20240311T082822Z
LAST-MODIFIED:20240311T082852Z
UID:21639-1706400000-1706486399@august93.ru
SUMMARY:Светлана Сурганова в Этнографическом музее
DESCRIPTION:Света приняла участие в торжественном открытии выставки в Российском этнографическом музее\, посвященной 80-летию освобождения Ленинграда от блокады. \n\nПодробности от «ПушкинРядом»:\nМероприятие было организовано в честь сотрудников музея\, которые\, оставаясь в осажденном городе\, несмотря ни на что\, продолжали работать и спасать музей. «Выставка раскрывает историю борьбы и победы через рассказ о судьбах сильных людей. Музей\, благодаря им\, оставался музеем\, даже будучи закрытым в годы блокады и войны. Сегодня посетители могут почувствовать пульс жизни блокадного музея\, понять\, как было сохранено главное достояние страны — культура\, как сотрудники музея оставались победителями и созидателями на протяжении всей своей жизни. Это живые уроки от музея-победителя\, как защищать культуру и достоинство человека»\, — поделилась директор музея\, Юлия Купина.\nВ качестве специальных гостей в открытии принимали участие Светлана Сурганова и команда ПушкинРядом. Светлана поделилась воспоминаниями своих мамы и бабушки о том тяжелом времени и вместе с командой посмотрела экспонаты выставки.\nИтогом встречи стала договоренность ПушкинРядом с музеем о возможных совместных проектах в будущем! Очень надеемся на их скорейшую реализацию! \n\nССЫЛКИ \nТАСС: подробности о проекте\nПортал «Культура Петербурга» о событии\nФотоальбом от Павла Галактионова
URL:https://august93.ru/event/musee
END:VEVENT
BEGIN:VEVENT
DTSTART;VALUE=DATE:20240129
DTEND;VALUE=DATE:20240130
DTSTAMP:20260425T142506
CREATED:20231210T043947Z
LAST-MODIFIED:20231210T044003Z
UID:21367-1706486400-1706572799@august93.ru
SUMMARY:Ночные Снайперы в Казани\, КРК Пирамида
DESCRIPTION:акустический концерт \n\n 
URL:https://august93.ru/event/kazan24
END:VEVENT
BEGIN:VEVENT
DTSTART;VALUE=DATE:20240131
DTEND;VALUE=DATE:20240201
DTSTAMP:20260425T142506
CREATED:20240311T170931Z
LAST-MODIFIED:20241212T113248Z
UID:21644-1706659200-1706745599@august93.ru
SUMMARY:ЯНВАРЬ 2024: события и публикации
DESCRIPTION:1 января \nНаше Радио\nСтартовал I отборочный этап премии «Чартова дюжина» \n\n2 января \nСурганова и Оркестр в Дубне \n\n3 января \nСурганова и Оркестр в Одинцово \n*** \n«Радио 40» объявило Светлану Сурганову «лучшей рок-снегурочкой года» по итогам слушательского голосования. \n\n4 января \nСурганова и Оркестр в Реутове \n\n5 января \n(дата приблизительна) Диана Арбенина с детьми уехала на каникулы в Африку. \n\n6 января \nСурганова и Оркестр в Зеленограде \n\n7 января \nСурганова и Оркестр в Люберцах \n*** \nДиана Арбенина анонсировала на весну 2024 выход альбома «Улисс». \n\n8 января \nСурганова и Оркестр в Королеве \n\n9 января \n10 января \n11 января \n12 января \n  \n\n13 января \nФотосессия Светланы Сургановой и участников СИО для рекламы фирменного мерча. \n*** \nДиана Арбенина посетила Большой театр и опубликовала свой отзыв о балете «Чайка» \n\n14 января \n  \n\n15 января \n  \n\n16 января \n  \n\n17 января \nСветлана Сурганова и «ПушкинРядом» анонсировали скорый запуск образовательного проекта «Гранд-Лицей». \n\n18 января \nАдминистрация г. Владивосток объявила об отмене концерта Ночных Снайперов (27 февраля) по требованию патриотической общественности.\nОкончательное решение об отмене принято 24 февраля. \n\n19 января \nНочные Снайперы в Нижнем Новгороде \n\n20 января \n  \n\n21 января \nНочные Снайперы в БКЗ «Октябрьский» (СПб) \n\n22 января \n  \n\n23 января \nНочные Снайперы в МДМ (Москва) \n\n24 января \nНочные Снайперы запустили новый официальный сайт (без рубрик «новости» и «фото»\, без сохранения архива концертов). \n\n25 января \n  \n\n26 января \n  \n\n27 января \nНочные Снайперы в Екатеринбурге \n*** \nФильм-лекция Светланы Сургановой «Подвиг ленинградских педиатров» \n*** \nПервый канал\nТелеверсия церемонии вручения премии Владимира Высоцкого «Своя колея» (съемка — 3 декабря 2023\, Крокус).\nСветлана Сурганова исполнила песню «Скалолазка». \n\n28 января \nСветлана Сурганова в Этнографическом музее \n\n29 января \nНочные Снайперы в Казани \n\n30 января \nСветлана Сурганова снялась в фильме-лекции «Иоанн Кронштадский» для проекта «Гранд-Лицей». \n\n31 января \nНаше Радио\nЗавершение I этапа голосования в премии «Чартова Дюжина» \n\n 
URL:https://august93.ru/event/01-2024
END:VEVENT
END:VCALENDAR