BEGIN:VCALENDAR
VERSION:2.0
PRODID:-//АВГУСТ - ECPv6.10.1.1//NONSGML v1.0//EN
CALSCALE:GREGORIAN
METHOD:PUBLISH
X-WR-CALNAME:АВГУСТ
X-ORIGINAL-URL:https://august93.ru
X-WR-CALDESC:Мероприятия для АВГУСТ
REFRESH-INTERVAL;VALUE=DURATION:PT1H
X-Robots-Tag:noindex
X-PUBLISHED-TTL:PT1H
BEGIN:VTIMEZONE
TZID:Europe/Moscow
BEGIN:STANDARD
TZOFFSETFROM:+0300
TZOFFSETTO:+0300
TZNAME:MSK
DTSTART:20240101T000000
END:STANDARD
END:VTIMEZONE
BEGIN:VEVENT
DTSTART;VALUE=DATE:20240605
DTEND;VALUE=DATE:20240606
DTSTAMP:20260423T012908
CREATED:20240521T121901Z
LAST-MODIFIED:20240521T121901Z
UID:21807-1717545600-1717631999@august93.ru
SUMMARY:Сурганова и Оркестр в Твери
DESCRIPTION:
URL:https://august93.ru/event/tver2024
END:VEVENT
BEGIN:VEVENT
DTSTART;VALUE=DATE:20240608
DTEND;VALUE=DATE:20240609
DTSTAMP:20260423T012908
CREATED:20240310T065410Z
LAST-MODIFIED:20240521T123509Z
UID:21598-1717804800-1717891199@august93.ru
SUMMARY:Сурганова и Оркестр на фестивале "Окна открой!"
DESCRIPTION:Санкт-Петербург\, парк 300-летия Петербурга \nНачало фестиваля — 12:00 \n\n 
URL:https://august93.ru/event/okna24
END:VEVENT
BEGIN:VEVENT
DTSTART;VALUE=DATE:20240608
DTEND;VALUE=DATE:20240609
DTSTAMP:20260423T012908
CREATED:20240622T004425Z
LAST-MODIFIED:20240622T004425Z
UID:21871-1717804800-1717891199@august93.ru
SUMMARY:Сурганова и Оркестр в Сестрорецке
DESCRIPTION:Площадь Свободы\nНачало -15:00\nВход свободный! \n\n 
URL:https://august93.ru/event/sestroretsk
END:VEVENT
BEGIN:VEVENT
DTSTART;VALUE=DATE:20240611
DTEND;VALUE=DATE:20240612
DTSTAMP:20260423T012908
CREATED:20240310T065708Z
LAST-MODIFIED:20240625T125136Z
UID:21600-1718064000-1718150399@august93.ru
SUMMARY:Светлана Сурганова в г. Полярные Зори
DESCRIPTION:финал фестиваля авторской музыки и поэзии «U235. Новые песни» при поддержке проекта «Школа Росатома»\nМурманская область\, 10-12 июня 2024 \n\nССЫЛКИ \nОфициальный фотоальбом
URL:https://august93.ru/event/polarny
END:VEVENT
BEGIN:VEVENT
DTSTART;VALUE=DATE:20240612
DTEND;VALUE=DATE:20240613
DTSTAMP:20260423T012908
CREATED:20240622T001132Z
LAST-MODIFIED:20240622T001132Z
UID:21869-1718150400-1718236799@august93.ru
SUMMARY:Сурганова и Оркестр в г. Полярные Зори
DESCRIPTION:Электрический концерт полным составом СИО во Дворце культуры города Полярные Зори Мурманской области. \n\n 
URL:https://august93.ru/event/polar24-2
END:VEVENT
BEGIN:VEVENT
DTSTART;VALUE=DATE:20240616
DTEND;VALUE=DATE:20240617
DTSTAMP:20260423T012908
CREATED:20240310T192928Z
LAST-MODIFIED:20240625T123008Z
UID:21616-1718496000-1718582399@august93.ru
SUMMARY:Ночные Снайперы на фестивале "СтереоЛето"
DESCRIPTION:Среди участников фестиваля заявлены Ночные Снайперы. \nПлощадка: Санкт-Петербург\, Васильевский остров\, Севкабель Порт. \n\nПЛЕЙЛИСТ \n1. Наотмашь\n2. Заметь\n3. Разбуди меня\n4. Катастрофически\n5. Рингтоном\n6. Столица. \n7. Секунду назад\n8. Обоюдное согласие\n9. Юго 2 \n10. Питер пахнет никотином\n11. Морячок\n12. Крысы\n13. 31 весна\n14. Рубеж\n15. Гавань \n\nССЫЛКИ \nОфициальный фотоальбом
URL:https://august93.ru/event/strreoleto
END:VEVENT
BEGIN:VEVENT
DTSTART;VALUE=DATE:20240621
DTEND;VALUE=DATE:20240622
DTSTAMP:20260423T012908
CREATED:20240521T122225Z
LAST-MODIFIED:20240521T122225Z
UID:21810-1718928000-1719014399@august93.ru
SUMMARY:Сурганова и Оркестр в Зеленом театре ВДНХ
DESCRIPTION:Традиционный московский летник.
URL:https://august93.ru/event/vdnh24-2
END:VEVENT
BEGIN:VEVENT
DTSTART;VALUE=DATE:20240622
DTEND;VALUE=DATE:20240623
DTSTAMP:20260423T012908
CREATED:20240521T122628Z
LAST-MODIFIED:20240625T125039Z
UID:21812-1719014400-1719100799@august93.ru
SUMMARY:Сурганова и Оркестр в кемпинге "Хутор Елки"
DESCRIPTION:Карелия\, Рускеала\, курортная зона «Хутор Елки». \n\nССЫЛКИ \nОфициальный фотоальбом (Екатерина Чернявская)\nОфициальный фотоальбом (Марина Васюсина)
URL:https://august93.ru/event/elki24
END:VEVENT
BEGIN:VEVENT
DTSTART;VALUE=DATE:20240622
DTEND;VALUE=DATE:20240623
DTSTAMP:20260423T012908
CREATED:20240813T110219Z
LAST-MODIFIED:20240813T110344Z
UID:22061-1719014400-1719100799@august93.ru
SUMMARY:Диана Арбенина в фильме "Огненный мальчик"
DESCRIPTION:Режиссер — Надежда Михалкова.\nДиана Арбенина примет участие в фильме в качества саунд-продюсера. \n\nПроект стартовал в ноябре 2023 года. \nСъемки начались в конце мая 2024 года. \nОб участии в проекте Дианы Арбениной стало известно 22 июня 2024 из выступления генерального продюсера онлайн-кинотеатра Premier и видеохостинга Rutube Давида Кочарова на деловом форуме «Пилот» (Иваново): \n«Еще один фильм — «Огненный мальчик»\, режиссером которого выступила Надежда Михалкова. Это замечательный проект. Сейчас еще находится в процессе производства. Это история про взросление. Актеры Оксана Акиньшина\, Анна Михалкова\, Денис Косиков\, Елизавета Ищенко. Я могу добавить\, что саунд-продюсированием будет заниматься Диана Арбенина. Будет полностью писать для этого проекта музыку.\nФильм рассказывает про московского подростка из обеспеченной семьи Макса\, который на самом деле очень одинок. Мать Макса — председатель комитета по вопросам семьи и детей в Думе\, и готовится к очередному переизбранию. Она распланировала судьбу Макса на годы вперед. Но постепенно Макс приходит к тому\, что именно он несет ответственность за свою судьбу.» \nИсточник \n\n 
URL:https://august93.ru/event/ognenny
END:VEVENT
BEGIN:VEVENT
DTSTART;VALUE=DATE:20240625
DTEND;VALUE=DATE:20240626
DTSTAMP:20260423T012908
CREATED:20240622T005235Z
LAST-MODIFIED:20240622T005235Z
UID:21874-1719273600-1719359999@august93.ru
SUMMARY:Книга Дианы Арбениной "Дневники"
DESCRIPTION:
URL:https://august93.ru/event/dnevniki
END:VEVENT
BEGIN:VEVENT
DTSTART;VALUE=DATE:20240626
DTEND;VALUE=DATE:20240627
DTSTAMP:20260423T012908
CREATED:20240521T122835Z
LAST-MODIFIED:20240521T122835Z
UID:21814-1719360000-1719446399@august93.ru
SUMMARY:Сурганова и Оркестр в Тюмени\, ДК "Нефтяник"
DESCRIPTION:(перенос с 25 марта)\nЮбилейный тур «20 лет группе» \n 
URL:https://august93.ru/event/tumen24-2
END:VEVENT
BEGIN:VEVENT
DTSTART;VALUE=DATE:20240627
DTEND;VALUE=DATE:20240628
DTSTAMP:20260423T012908
CREATED:20240521T123007Z
LAST-MODIFIED:20240521T123007Z
UID:21816-1719446400-1719532799@august93.ru
SUMMARY:Сурганова и Оркестр в Омске\, КЗ Филармонии
DESCRIPTION:(перенос с 24 марта)\nЮбилейный тур «20 лет группе» \n 
URL:https://august93.ru/event/omsk24-2
END:VEVENT
BEGIN:VEVENT
DTSTART;VALUE=DATE:20240629
DTEND;VALUE=DATE:20240630
DTSTAMP:20260423T012908
CREATED:20240521T123140Z
LAST-MODIFIED:20240521T123140Z
UID:21818-1719619200-1719705599@august93.ru
SUMMARY:Светлана Сурганова в Сарове (РосАтом)
DESCRIPTION:выступление в рамках фестиваля авторской музыки и поэзии «U235. Новые песни» \nпри поддержке проекта «Школа Росатома» \n\n 
URL:https://august93.ru/event/sarov
END:VEVENT
BEGIN:VEVENT
DTSTART;VALUE=DATE:20240630
DTEND;VALUE=DATE:20240701
DTSTAMP:20260423T012908
CREATED:20240621T231626Z
LAST-MODIFIED:20241223T144257Z
UID:21851-1719705600-1719791999@august93.ru
SUMMARY:ИЮНЬ 2024: события и публикации
DESCRIPTION:4 июня \nДиана Арбенина вернулась из отпуска в Москву \n\n5 июня \nКонцерт Сургановой и Оркестра в Твери \n*** \nМарта Арбенина была приглашена из академии «Спартак» в юниорскую женскую футбольную сборную России. \n\n7 июня \nНаше Радио\nПесня Ночных Снайперов «Обоюдное согласие» на 7 месте Чартовой Дюжины. \n\n8 июня \nКонцерт Сургановой и Оркестра в Сестрорецке \n*** \nСурганова и Оркестр на фестивале «Окна открой» в Петербурге \n\n10 июня \nСветлана Сурганова в городе Полярные Зори: в жюри отборочного тура конкурса «U-235. Новые песни» \n\n11 июня \nСветлана Сурганова в городе Полярные зори: финал конкурса «U235. Новые песни» \n\n12 июня \nСурганова и Оркестр в городе Полярные Зори: концерт во Дворце культуры \n\n13 июня \nТелеканал ТВЦ\nСветлана Сурганова в передаче Легенды эстрады. Звездный бизнес» \n\n14 июня \nНаше Радио\nПесня Ночных Снайперов «Обоюдное согласие» на 11 месте Чартовой Дюжины. \n\n15 июня \nДиана Арбенина посетила концерт Тоси Чайкиной на площадке «Севкабель Порт» \n\n16 июня \nНочные Снайперы на фестивале «СтереоЛето» в Петербурге \n\n17 июня \nСветлана Сурганова подарила скрипки и аксессуары к инструментам нескольким ученикам музыкальной школы города Зеленогорска. \n\n20 июня \nДиана Арбенина продемонстрировала готовый сигнальный экземпляр книги «Дневники». \n\n21 июня \nСурганова и Оркестр в Зеленом театре ВДНХ (Москва) \n*** \nНаше Радио\nПесня Ночных Снайперов «Обоюдное согласие» на 11 месте Чартовой Дюжины. \n\n22 июня \nСурганова и Оркестр в Карелии\, «Хутор Елки» \n*** \nСтало известно\, что Диана Арбенина выступит саунд-продюсером фильма Надежды Михалковой «Огненный мальчик». \n\n25 июня \nВыход в свет книги Дианы Арбениной «Дневники» \n\n26 июня \nКонцерт Сургановой и Оркестра в Тюмени \n\n27 июня \nКонцерт Сургановой и Оркестра в Омске \n*** \nДиана Арбенина посетила вечеринку в честь дня рождения радиоведущего Константина Михайлова. \n\n28 июня \nНаше Радио\nПесня Ночных Снайперов «Обоюдное согласие» на 9 месте Чартовой Дюжины. \n\n29 июня \nКонцерт Сургановой и Оркестра в Сарове \n*** \nДиана Арбенина посетила автомобильный фестиваль «Кастом Конвенция 2024» в Москве.\nТакже в этот день она выложила в соцсетях видео со съемок фильма Нади Михалковой «Огненный мальчик». \n\n 
URL:https://august93.ru/event/%d0%b8%d1%8e%d0%bd%d1%8c-2024
END:VEVENT
END:VCALENDAR