BEGIN:VCALENDAR
VERSION:2.0
PRODID:-//АВГУСТ - ECPv6.10.1.1//NONSGML v1.0//EN
CALSCALE:GREGORIAN
METHOD:PUBLISH
X-WR-CALNAME:АВГУСТ
X-ORIGINAL-URL:https://august93.ru
X-WR-CALDESC:Мероприятия для АВГУСТ
REFRESH-INTERVAL;VALUE=DURATION:PT1H
X-Robots-Tag:noindex
X-PUBLISHED-TTL:PT1H
BEGIN:VTIMEZONE
TZID:Europe/Moscow
BEGIN:STANDARD
TZOFFSETFROM:+0300
TZOFFSETTO:+0300
TZNAME:MSK
DTSTART:20240101T000000
END:STANDARD
END:VTIMEZONE
BEGIN:VEVENT
DTSTART;VALUE=DATE:20240702
DTEND;VALUE=DATE:20240703
DTSTAMP:20260422T235404
CREATED:20240807T075828Z
LAST-MODIFIED:20240807T080339Z
UID:22020-1719878400-1719964799@august93.ru
SUMMARY:Презентация фильма "Арбенина" от КИОН
DESCRIPTION:Мероприятие\, организованное платформой КИОН состоялось в в «Summer Cinema Kion» в Москве. \n\nССЫЛКИ \nФильм на платформе КИОН (доступ по подписке)\nФото от Александры Кампински\nМини-фильм с презентации\nПолучасовая видеозапись с презентации
URL:https://august93.ru/event/prez-kion
END:VEVENT
BEGIN:VEVENT
DTSTART;VALUE=DATE:20240704
DTEND;VALUE=DATE:20240705
DTSTAMP:20260422T235404
CREATED:20240521T123816Z
LAST-MODIFIED:20240521T123816Z
UID:21822-1720051200-1720137599@august93.ru
SUMMARY:Сурганова и Оркестр на "Флагштоке" (СПб)
DESCRIPTION:Большой петербургский летник \n\n 
URL:https://august93.ru/event/flagshtok24
END:VEVENT
BEGIN:VEVENT
DTSTART;VALUE=DATE:20240707
DTEND;VALUE=DATE:20240708
DTSTAMP:20260422T235404
CREATED:20240521T125020Z
LAST-MODIFIED:20240807T080556Z
UID:21828-1720310400-1720396799@august93.ru
SUMMARY:Ночные Снайперы в Лужниках (Москва)
DESCRIPTION:концерт в рамках фестиваля МТС Live  \n\nССЫЛКИ \nФото от Александры Кампински
URL:https://august93.ru/event/luzhniki24
END:VEVENT
BEGIN:VEVENT
DTSTART;VALUE=DATE:20240712
DTEND;VALUE=DATE:20240713
DTSTAMP:20260422T235404
CREATED:20231210T053818Z
LAST-MODIFIED:20231210T053818Z
UID:21395-1720742400-1720828799@august93.ru
SUMMARY:Сурганова и Оркестр на фестивале YLETAЙ-2024
DESCRIPTION:с. Лагуново Сарапульского района Удмуртской Республики \n\n 
URL:https://august93.ru/event/yletai24
END:VEVENT
BEGIN:VEVENT
DTSTART;VALUE=DATE:20240713
DTEND;VALUE=DATE:20240714
DTSTAMP:20260422T235404
CREATED:20240624T130057Z
LAST-MODIFIED:20240811T095009Z
UID:21893-1720828800-1720915199@august93.ru
SUMMARY:Сурганова и Оркестр на "Новлянки-Фест" (отмена)
DESCRIPTION:Московская область\, Дмитровское шоссе\, клуб Леонида Тягачева.\nДвухдневный фестиваль (13-14 июля)\, посвященный 90-летию со дня рождения Юрия Визбора.\nСурганова и Оркестр выступают в завершение первого дня фестиваля. \n\nвыступление не состоялось
URL:https://august93.ru/event/novlanki
END:VEVENT
BEGIN:VEVENT
DTSTART;VALUE=DATE:20240726
DTEND;VALUE=DATE:20240727
DTSTAMP:20260422T235404
CREATED:20240521T124048Z
LAST-MODIFIED:20240521T124048Z
UID:21824-1721952000-1722038399@august93.ru
SUMMARY:Сурганова и Оркестр на корабле "Париход" (Москва)
DESCRIPTION:летник на Москве-реке. \nМосква\, Ленинградское шоссе\, 51\, Северный речной вокзал \n\n 
URL:https://august93.ru/event/parihod
END:VEVENT
BEGIN:VEVENT
DTSTART;VALUE=DATE:20240727
DTEND;VALUE=DATE:20240728
DTSTAMP:20260422T235404
CREATED:20240521T142841Z
LAST-MODIFIED:20240521T142841Z
UID:21830-1722038400-1722124799@august93.ru
SUMMARY:Ночные Снайперы на фестивале "Garage Fest" (СПб)
DESCRIPTION:GARAGE FEST Игора Драйв 2024\nФестиваль\, который объединяет музыку и автомобильный спорт\, дрифт и кольцевые гонки\, студенческие соревнования и выставку классических автомобилей — за два года своей истории GARAGE FEST стал главным автомобильным событием летного сезона\, которое посещают десятки тысяч зрителей. \n\n 
URL:https://august93.ru/event/garage
END:VEVENT
BEGIN:VEVENT
DTSTART;VALUE=DATE:20240728
DTEND;VALUE=DATE:20240729
DTSTAMP:20260422T235404
CREATED:20240621T232148Z
LAST-MODIFIED:20240621T232750Z
UID:21855-1722124800-1722211199@august93.ru
SUMMARY:Ночные Снайперы в Коломенском (Москва)
DESCRIPTION:Музей-заповедник «Коломенское».\nНачало: 20:00\nКонцерт в рамках фестиваля DDX Fitness FEST. \n\n 
URL:https://august93.ru/event/fitnessfest
END:VEVENT
BEGIN:VEVENT
DTSTART;VALUE=DATE:20240729
DTEND;VALUE=DATE:20240730
DTSTAMP:20260422T235404
CREATED:20240807T082202Z
LAST-MODIFIED:20240807T082202Z
UID:22026-1722211200-1722297599@august93.ru
SUMMARY:Ночные Снайперы на Roof Place (Петербург)
DESCRIPTION:… \n\nССЫЛКИ \nФото от Александры Кампински
URL:https://august93.ru/event/roof-place-ns
END:VEVENT
BEGIN:VEVENT
DTSTART;VALUE=DATE:20240729
DTEND;VALUE=DATE:20240730
DTSTAMP:20260422T235404
CREATED:20240807T082922Z
LAST-MODIFIED:20240807T083024Z
UID:22029-1722211200-1722297599@august93.ru
SUMMARY:Фотосессия Дианы Арбениной на крыше (СПб)
DESCRIPTION:Фотосессия проведена днем 29 июля\, за несколько часов до выступления «Ночных Снайперов» на площадке «ROOF Place». Фотограф — Александра Кампински. \n\nССЫЛКИ \nПост в телеграм-канале фотографа
URL:https://august93.ru/event/foto-kampinski
END:VEVENT
BEGIN:VEVENT
DTSTART;VALUE=DATE:20240731
DTEND;VALUE=DATE:20240801
DTSTAMP:20260422T235404
CREATED:20240621T231656Z
LAST-MODIFIED:20241226T143153Z
UID:21853-1722384000-1722470399@august93.ru
SUMMARY:ИЮЛЬ 2024: события и публикации
DESCRIPTION:1 июля \n  \n\n2 июля \nПрезентация фильма «Арбенина» в «Summer Cinema Kion» \n\n3 июля \nДиана Арбенина посетила открытие нового филиала «Кофемании» в Москве. \n\n4 июля \nКонцерт Сургановой и Оркестра на площадке «Флагшток» (СПб) \n\n5 июля \nплатформа Kion\nПремьера документального фильма «Арбенина» \n*** \nАвторадио\nЖивой концерт Ночных Снайперов в программе «Мурзилки Лайв» \n*** \nНаше Радио\nПесня Ночных Снайперов «Обоюдное согласие» на 10 месте Чартовой Дюжины. \n\n6 июля \n  \n\n7 июля \nКонцерт Ночных Снайперов в Лужниках (Москва) \n*** \nПразднование дня рождения Дианы Арбениной на корабле \n*** \nДиана продемонстрировала в соцсетях подаренный ей мотороллер Vespa \n\n8 июля \nДиане Арбениной исполнилось 50 лет \n*** \nКонцерт Дианы Арбениной в Англиканском соборе святого Андрея (Москва) \n\n9 июля \nАвтограф-сессия Дианы Арбениной в магазине «Читай-Город» (Москва) \n\n10 июля \n  \n\n11 июля \n  \n\n12 июля \nСурганова и Оркестр на фестивале «Улетай» (Ижевск) \n*** \nНаше Радио \nПесня Ночных Снайперов «Обоюдное согласие» на 12 месте Чартовой Дюжины. \n*** \nИнтервью Дианы Арбениной журналу «Сноб» \n\n13 июля \nСурганова и Оркестр на фестивале «Новлянки Фест» (отмена) \n\n14 июля \n  \n\n15 июля \nДиана Арбенина выложила на своей странице пост из Нью-Йорка \n\n16 июля \n  \n\n17 июля \nДиана Арбенина сообщила\, что вошла в состав жюри премии «Диалоги в кино». \n\n18 июля \n  \n\n19 июля \nНаше Радио\nПесня Ночных Снайперов «Обоюдное согласие» на 11 месте Чартовой Дюжины. \n*** \nСурганова и Оркестр на фестивале «Крылья Сахалина» \n\n20 июля \n  \n\n21 июля \nСурганова и Оркестр на театральном фестивале «Место силы — Владивосток» \n\n22 июля \nДиана Арбенина объявила конкурс: «угадайте\, какая фраза из фильма «Арбенина» впечатлила нашего видеографа?»\nПриз — новые снайперские часы. \n\n23 июля \nМуз ТВ\nВ ночном эфире телеканала был показан документальный фильм «Арбенина» \n*** \nДиана Арбенина проанонсировала скорый релиз сингла «Исключенный из времени». \n*** \nСветлана Сурганова выступила в московском пункте сбора контрактников СВО. \n\n24 июля \n  \n\n25 июля \n  \n\n26 июля \nКонцерт Сургановой и Оркестра на корабле «Париход» (Москва-река) \n*** \nНаше Радио\nПесня Ночных Снайперов «Обоюдное согласие» на 10 месте Чартовой Дюжины. \n\n27 июля \nНочные Снайперы на фестивале «Гараж Фест» (СПб) \n*** \nАвтограф-сессия Дианы Арбениной в «Доме книги» в Петербурге. \n\n28 июля \nНочные Снайперы в Коломенском парке (Москва) \n\n29 июля \nНочные Снайперы на Roof Place (Петербург) \n*** \nФотосессия Дианы Арбениной на крыше (СПб) \n\n30 июля \n  \n\n31 июля \nРелиз сингла Ночных Снайперов «Исключенный из времени» \n\n 
URL:https://august93.ru/event/%d0%b8%d1%8e%d0%bb%d1%8c-2024
END:VEVENT
BEGIN:VEVENT
DTSTART;VALUE=DATE:20240731
DTEND;VALUE=DATE:20240801
DTSTAMP:20260422T235404
CREATED:20240807T125225Z
LAST-MODIFIED:20240807T125225Z
UID:22034-1722384000-1722470399@august93.ru
SUMMARY:Релиз сингла "Исключенный из времени"
DESCRIPTION:Сингл вышел на всех электронных площадках\, без материальных носителей. Включает три песни:\n1. Исключенный из времени (премьера)\n2. Дом стеной (премьера)\n3. Возвращаюсь (студийная аранжировка) \nКроме того\, на ютуб-канале НС было выложено mood-video (настроенческое видео) на заглавную песню.  \nПредположительно\, представленные песни сингла\, так же как и выложенного ранее концертного видео «Live Uliss»\, войдут в анонсированный сначала на весну\, а потом на лето 2024 года альбом «Улисс». \n\nССЫЛКИ \nСлушать сингл онлайн\nMood Video на ютубе
URL:https://august93.ru/event/iskluch
END:VEVENT
END:VCALENDAR