BEGIN:VCALENDAR
VERSION:2.0
PRODID:-//АВГУСТ - ECPv6.10.1.1//NONSGML v1.0//EN
CALSCALE:GREGORIAN
METHOD:PUBLISH
X-WR-CALNAME:АВГУСТ
X-ORIGINAL-URL:https://august93.ru
X-WR-CALDESC:Мероприятия для АВГУСТ
REFRESH-INTERVAL;VALUE=DURATION:PT1H
X-Robots-Tag:noindex
X-PUBLISHED-TTL:PT1H
BEGIN:VTIMEZONE
TZID:Europe/Moscow
BEGIN:STANDARD
TZOFFSETFROM:+0300
TZOFFSETTO:+0300
TZNAME:MSK
DTSTART:20240101T000000
END:STANDARD
END:VTIMEZONE
BEGIN:VEVENT
DTSTART;VALUE=DATE:20240802
DTEND;VALUE=DATE:20240803
DTSTAMP:20260422T220906
CREATED:20240807T073811Z
LAST-MODIFIED:20240807T074008Z
UID:22013-1722556800-1722643199@august93.ru
SUMMARY:Песня "Исключенный из времени" в Чартовой Дюжине
DESCRIPTION:02.08.2024 — премьера\n\n 
URL:https://august93.ru/event/iskluch_chd
END:VEVENT
BEGIN:VEVENT
DTSTART;VALUE=DATE:20240823
DTEND;VALUE=DATE:20240824
DTSTAMP:20260422T220906
CREATED:20240521T144004Z
LAST-MODIFIED:20240521T144004Z
UID:21832-1724371200-1724457599@august93.ru
SUMMARY:Ночные Снайперы на Family ROCK Fest (Казахстан)
DESCRIPTION:Место проведения: Казахстан\, Алматинская область\, город Конаев\, Юго-западное побережье Капчагайского водохранилища «Песчаная коса». \nПродолжительность — 3 дня: 23-24-25 августа. дата и время выступления Ночных Снайперов пока неизвестны. \nСАЙТ ФЕСТИВАЛЯ \n\n 
URL:https://august93.ru/event/familyfest
END:VEVENT
BEGIN:VEVENT
DTSTART;VALUE=DATE:20240825
DTEND;VALUE=DATE:20240826
DTSTAMP:20260422T220906
CREATED:20240624T141235Z
LAST-MODIFIED:20240624T141235Z
UID:21895-1724544000-1724630399@august93.ru
SUMMARY:Сурганова и Оркестр на фестивале Gastro Industry Fest
DESCRIPTION:Фестиваль состоится в городе Никель (Мурманская область)\, на Площади Металлургов. \n\n 
URL:https://august93.ru/event/gastro-industry-fest
END:VEVENT
BEGIN:VEVENT
DTSTART;VALUE=DATE:20240831
DTEND;VALUE=DATE:20240901
DTSTAMP:20260422T220906
CREATED:20240805T165901Z
LAST-MODIFIED:20241230T123233Z
UID:22010-1725062400-1725148799@august93.ru
SUMMARY:АВГУСТ 2024: события и публикации
DESCRIPTION:1 августа \nЗначительную часть августа (предположительно — до 20-х чисел месяца) Диана Арбенина вместе с детьми провела в США.  \n\n2 августа \nНаше Радио\nВ Чартовой Дюжине — премьера песни Ночных Снайперов «Исключенный из времени»\n \n*** \nДиана Арбенина анонсировала на осень премьеры новых песен. \nССЫЛКА \n\n3 \n4 \n5 \n\n6 августа \nДиана Арбенина поздравила Юлию Ляховецкую с днем рождения\, выложив раритетное фото 2009 года. \n \n\n7 \n8 \n  \n\n9 августа \nНаше Радио\nПесня Ночных Снайперов «Исключенный из времени» на 5 месте Чартовой Дюжины. \n*** \nСурганова и Оркестр дали концерт на Ямале для сотрудников компании «Ямал СПГ» в честь 15-летия организации. \n\n10 августа \nрадио «Комсомольская правда»\nПесня Ночных Снайперов «Дом стеной» на 1 месте «Настоящего хит-парада» \n\n11 \n12 \n13 \n14 \n15 \n\n16 августа \nНаше Радио\nПесня Ночных Снайперов «Исключенный из времени» на 3 месте Чартовой Дюжины. \n\n17 \n18 \n\n19 августа \nГруппе Ночные Снайперы исполняется 31 год \n*** \nНочные Снайперы издали концертный альбом «Симфоническая акустика двух столиц» \n\n20 \n21 \n22 \n  \n\n23 августа \nНочные Снайперы на фестивале Family ROCK Fest (Казахстан) \n*** \nНаше Радио\nПесня Ночных Снайперов «Исключенный из времени» на 1 месте Чартовой Дюжины. \n\n24 августа \n  \n\n25 августа \nСурганова и Оркестр на фестивале Gastro Industry Fest \n\n26 \n27 \n28 \n29 \n30 \n31
URL:https://august93.ru/event/08-2024
END:VEVENT
END:VCALENDAR