BEGIN:VCALENDAR
VERSION:2.0
PRODID:-//АВГУСТ - ECPv6.10.1.1//NONSGML v1.0//EN
CALSCALE:GREGORIAN
METHOD:PUBLISH
X-ORIGINAL-URL:https://august93.ru
X-WR-CALDESC:Мероприятия для АВГУСТ
REFRESH-INTERVAL;VALUE=DURATION:PT1H
X-Robots-Tag:noindex
X-PUBLISHED-TTL:PT1H
BEGIN:VTIMEZONE
TZID:Europe/Moscow
BEGIN:STANDARD
TZOFFSETFROM:+0300
TZOFFSETTO:+0300
TZNAME:MSK
DTSTART:20240101T000000
END:STANDARD
END:VTIMEZONE
BEGIN:VEVENT
DTSTART;VALUE=DATE:20240909
DTEND;VALUE=DATE:20240910
DTSTAMP:20260422T204329
CREATED:20240927T125134Z
LAST-MODIFIED:20240927T125134Z
UID:22136-1725840000-1725926399@august93.ru
SUMMARY:Каникулы Светланы Сургановой в Крыму
DESCRIPTION:Первую половину сентября Светлана провела на побережье Черного моря в Крыму.\nВидеоролики об этом выкладывались на ее официальных страницах в соцсетях 9 и 16 сентября.  \n\nВозможно (но не подтверждено)\, что во время этой поездки состоялись съемки клипа на песню «Вода» (премьера сингла — 27 сентября).
URL:https://august93.ru/event/crim2024
END:VEVENT
BEGIN:VEVENT
DTSTART;VALUE=DATE:20240926
DTEND;VALUE=DATE:20240927
DTSTAMP:20260422T204329
CREATED:20240926T204220Z
LAST-MODIFIED:20240927T065045Z
UID:22116-1727308800-1727395199@august93.ru
SUMMARY:Сборный концерт "Вечерний звук"
DESCRIPTION:Ночные Снайперы приняли участие в концерте «Вечерний звук» от стримминговой платформы «Звук». Прямой эфир выступления транслировался ВКонтакте. \nВ ходе концерта прозвучала премьера песни «Не смотри на меня» (за полчаса до официальной премьеры сингла). \n\nПлейлист: \nНе смотри на меня\nРазбуди меня\nКатастрофически\nСекунду назад\nНе смотри на меня \n\nССЫЛКИ \n(выступление Ночных Снайперов начинается после 3 ч 30 мин концерта)
URL:https://august93.ru/event/zvuk24
END:VEVENT
BEGIN:VEVENT
DTSTART;VALUE=DATE:20240927
DTEND;VALUE=DATE:20240928
DTSTAMP:20260422T204329
CREATED:20240926T204417Z
LAST-MODIFIED:20240927T064606Z
UID:22118-1727395200-1727481599@august93.ru
SUMMARY:Сингл Ночных Снайперов "Не смотри на меня"
DESCRIPTION:ССЫЛКА на прослушивание сингла на электронных площадках
URL:https://august93.ru/event/nesmotri
END:VEVENT
BEGIN:VEVENT
DTSTART;VALUE=DATE:20240927
DTEND;VALUE=DATE:20240928
DTSTAMP:20260422T204329
CREATED:20240926T204544Z
LAST-MODIFIED:20240927T064133Z
UID:22120-1727395200-1727481599@august93.ru
SUMMARY:Сингл Светланы Сургановой и группы Mivari "Вода"
DESCRIPTION:ССЫЛКА на прослушивание сингла на электронных площадках.
URL:https://august93.ru/event/voda
END:VEVENT
BEGIN:VEVENT
DTSTART;VALUE=DATE:20240930
DTEND;VALUE=DATE:20241001
DTSTAMP:20260422T204329
CREATED:20240926T220545Z
LAST-MODIFIED:20241109T142655Z
UID:22122-1727654400-1727740799@august93.ru
SUMMARY:СЕНТЯБРЬ 2024: события и публикации
DESCRIPTION:8 сентября \nДиана Арбенина опубликовала видеоролик из США. Предположительно\, оставалась там вместе с детьми до начала 20-х чисел сентября. \n\n9 сентября \nКаникулы Светланы Сургановой в Крыму \n\n11 сентября \nНочные Снайперы анонсировали московский концерт 7 июня 2025 года на стадионе «Спартак» («Лукойл Арена») \n\n20 сентября \nДС «Олимпийский» в Рязани объявил об отмене концерта Ночных Снайперов\, намеченного на 9 ноября 2024. \n\n24 сентября \nНаше Радио\nСветлана Сурганова в программе «За сценой» рассказала о предстоящем сингле «Вода» \n \n\n26 сентября \nНочные Снайперы в концерте «Вечерний звук» \n*** \nв журнале «Сноб» — интервью Дианы Арбениной «Книги как хлеб» \n\n27 сентября \nСингл Светланы Сургановой и группы Mivari «Вода» \n*** \nСингл Ночных Снайперов «Не смотри на меня» \n*** \nДиана Арбенина на презентации бренда «Цойкины рецепты» \n\n29 сентября \nНочные Снайперы объявили об увольнении соло-гитариста Дениса Жданова
URL:https://august93.ru/event/%d1%81%d0%b5%d0%bd%d1%82%d1%8f%d0%b1%d1%80%d1%8c-2024
END:VEVENT
END:VCALENDAR