BEGIN:VCALENDAR
VERSION:2.0
PRODID:-//АВГУСТ - ECPv6.10.1.1//NONSGML v1.0//EN
CALSCALE:GREGORIAN
METHOD:PUBLISH
X-WR-CALNAME:АВГУСТ
X-ORIGINAL-URL:https://august93.ru
X-WR-CALDESC:Мероприятия для АВГУСТ
REFRESH-INTERVAL;VALUE=DURATION:PT1H
X-Robots-Tag:noindex
X-PUBLISHED-TTL:PT1H
BEGIN:VTIMEZONE
TZID:Europe/Moscow
BEGIN:STANDARD
TZOFFSETFROM:+0300
TZOFFSETTO:+0300
TZNAME:MSK
DTSTART:20240101T000000
END:STANDARD
END:VTIMEZONE
BEGIN:VEVENT
DTSTART;VALUE=DATE:20241201
DTEND;VALUE=DATE:20241202
DTSTAMP:20260422T144420
CREATED:20241019T094653Z
LAST-MODIFIED:20241019T094653Z
UID:22197-1733011200-1733097599@august93.ru
SUMMARY:Ночные Снайперы в Екатеринбурге\, МТС Live Холл
DESCRIPTION:
URL:https://august93.ru/event/eburg24-3
END:VEVENT
BEGIN:VEVENT
DTSTART;VALUE=DATE:20241202
DTEND;VALUE=DATE:20241203
DTSTAMP:20260422T144420
CREATED:20241019T094801Z
LAST-MODIFIED:20241019T094801Z
UID:22199-1733097600-1733183999@august93.ru
SUMMARY:Ночные Снайперы в Челябинске\, ДС Юность
DESCRIPTION:
URL:https://august93.ru/event/chel24
END:VEVENT
BEGIN:VEVENT
DTSTART;VALUE=DATE:20241205
DTEND;VALUE=DATE:20241206
DTSTAMP:20260422T144420
CREATED:20241019T110915Z
LAST-MODIFIED:20241212T031854Z
UID:22232-1733356800-1733443199@august93.ru
SUMMARY:Сурганова и Оркестр в БКЗ "Октябрьский" (Петербург)
DESCRIPTION:ССЫЛКИ \nСборник видео на ютубе \nФото с саундчека от Натальи Калиниченко \nКонцертные фото от Натальи Калиниченко \nФото с саундчека от Кати Маловой \n\nВПЕЧАТЛЕНИЯ \nЛариса Заименко \nПолучила от Фанни предложение  разместить  мой отчёт о концерте СиО для «большей сохранности»(!!!!) на сайте «Апреля»  Я аж смутилась. Ну\,  представила себя  летописцем\,  вытащила  воображаемые репьи  из воображаемой бороды и почесав настоящей рукой  в настоящем затылке сижу\, пишу. Объективности не ждите. \n5 декабря 2042 года\, БКЗ. Начался концерт в 20:02. Большего  уважения к нам зрителям\, и представить невозможно. Уже только  за это я готова целовать песок\, по которому ходили все\, кто к этому причастен. \nВступление:  голос Светы из кулис\, который  нарастал и нарастал\, бережная негромкая  поддержка инструментами.  Вот уже и знакомый силуэт на сцене: «Шила осень». Всё! Мы  в её  полной власти. Драматургия концерта выстроена безупречно\, каждая  исполняемая  песня на своём   месте.  Было  грустно и  смешно\, было отчаяние и  надежда\, красота и предательство\, была боль потерь и любовь\, была нежность и страсть  и был мирумир. Два отделения\,  двадцать восемь песен и три часа счастья\, состоящего из:\nОтличного сценического звука и  света\nЯркого и медного звука трубы Романа и  его чертовского  соло в «Перроне»\nИгры Валеры на  гитарах\, закреплённых на высоких стойках. Подошёл\, поиграл\, отошёл\,  а гитара  на месте  Смотреть на это было прикольно. А  играл он  как божечка.\nЕго же грациозные пантомимы на «Фурии» и «Катапульте» \nПриколы Никиты и Романа \, то  шутливо фехтоваввших между собой\, на чем-то\, вроде спичек\, то уступавших друг другу место у своих инструментов\nБас гитары Дениса\, задающего ритм и гармонию оркестру\nПриглашённых гостей:  парней из группы с непроизносимый для меня названием\, спевших  а  капелла  несколько своих песен  и «апрельскую»  со Светой в  таааких  костюмах: «Ах! мне бы такой!»\nПоздравления  Светы  от фангруппы с прошедшим днём рождения\, читавших в очередь стишок\, как в  детском садике. ( в смысле\, так же мило) \nПодробной инструкции от них  же  с указанием где чем махать во время  флэшмоба\nСветящейся палочки\, которую можно было забрать домой (вот сижу\, свечу) \nОчереди из желающих подарить цветы\, которых было очень\,  очень  много. Охапки\, охапки   цветов.\nОбращения к нам  Светы : «родной Питер и родные»\, так и хотелось ответить:- да\,  да\, это мы!\nИ конечно же Светы. Хрупкой  Светы\, взявшей  каждого из нас за руку\, и поведшей за собой. В свой мир\, в  свою глубину\, в свою тоску по любви «не тобой болеет сердце»\, «мой путь»\, «корабли»\, «да будет свет» «предчувствие с»\, это то что мне выворачивает душу наизнанку. Света поёт их не мне и не нам \, а тому кому невозможно соврать. И мы лишь счастливые соучастники этого чуда.  Чуда длиною в тридцать лет.  Спасибо тебе  Света за это. \n*** \nВсю полноту ответственности за этот пост несёт фан группа СиО\, которая не вложила в мой файлик (ряд 9 место 42) «листок со словами поддержки в самом начале концерта»\, поэтому  пишу их сама  после.
URL:https://august93.ru/event/bkz24-2
END:VEVENT
BEGIN:VEVENT
DTSTART;VALUE=DATE:20241209
DTEND;VALUE=DATE:20241210
DTSTAMP:20260422T144420
CREATED:20240521T124426Z
LAST-MODIFIED:20240924T081848Z
UID:21826-1733702400-1733788799@august93.ru
SUMMARY:Сурганова и Оркестр в Сургуте\, ДК "Нефтяник"
DESCRIPTION:юбилейный тур «ХХ лет группе» \n\n 
URL:https://august93.ru/event/surgut24
END:VEVENT
BEGIN:VEVENT
DTSTART;VALUE=DATE:20241215
DTEND;VALUE=DATE:20241216
DTSTAMP:20260422T144420
CREATED:20241019T095126Z
LAST-MODIFIED:20241019T095126Z
UID:22201-1734220800-1734307199@august93.ru
SUMMARY:Ночные Снайперы в Уфе\, "Уфа Арена"
DESCRIPTION:
URL:https://august93.ru/event/ufa24
END:VEVENT
BEGIN:VEVENT
DTSTART;VALUE=DATE:20241231
DTEND;VALUE=DATE:20250101
DTSTAMP:20260422T144420
CREATED:20250103T135027Z
LAST-MODIFIED:20250819T225817Z
UID:22418-1735603200-1735689599@august93.ru
SUMMARY:Декабрь 2024: события и мероприятия
DESCRIPTION:1 декабря \nКонцерт Ночных Снайперов в Екатеринбурге \n\n2 декабря \nКонцерт Ночных Снайперов в Челябинске \n*** \nАрт-пространство «ПушкинРядом» отмечает свое 4-летие. \n\n3 декабря \n  \n\n4 декабря \n  \n\n5 декабря \nКонцерт Сургановой и Оркестра в БКЗ» Октябрьский» (СПб) \n\n6 декабря \nПесня Ночных Снайперов «Не смотри на меня» на 3 месте «Чартовой Дюжины» \n\n7 декабря \nДиана Арбенина посетила Гран-При автогонки «Формула 1» в Абу-Даби и побывала на концерте Эминема. \n*** \nСветлана Сурганова посетила выставку живописца XIX века Каспара Давида Фридриха в Эрмитаже. \n\n8 декабря \n  \n\n9 декабря \nКонцерт Сургановой и Оркестра в Сургуте \n\n10 декабря \n  \n\n11 декабря \n  \n\n12 декабря \n  \n\n13 декабря \nСингл Ночных Снайперов «Обстоятельства» \n*** \nПесня Ночных Снайперов «Не смотри на меня» на 4 месте «Чартовой Дюжины» \n*** \nСветлана Сурганова в Десногорске\, на фестивале «U-235. Новые песни»  \n\n14 декабря \n  \n\n15 декабря \nКонцерт Ночных Снайперов в Уфе. Концертная премьера песни «Обстоятельства». \n\n16 декабря \nСветлана Сурганова в городе Удомля Тверской области\, на фестивале «U-235. Новые песни». \n\n17 декабря \nДиана Арбенина встретилась с участниками проекта «Трибьют: Арбенина» в Снайперкой студии. \n\n18 декабря \nLove Радио\nДиана Арбенина в вечернем шоу «Жизнь прекрасна» \n\n19 декабря \n  \n\n20 декабря \nПесня Ночных Снайперов «Не смотри на меня» на 3 месте «Чартовой Дюжины» \n*** \nРадио «Комсомольская правда»\nМини-интервью Дианы Арбениной про песню «Дом стеной». \n\n21 декабря \nНовогодний концерт «Сургановой и Оркестра» в ПушкинРядом».\nСветлана Сурганова исполнила премьеру песни «Переходная звезда». \n\n22 декабря \n  \n\n23 декабря \nАвторадио\nЖивой концерт Ночных Снайперов совместно с некоторыми участниками трибьюта. \n\n24 декабря \nСветлана Сурганова посетила балет «Щелкунчик» в Эрмитажном театре (СПб) \n\n25 декабря \n  \n\n26 декабря \nКонцерт Сургановой и Оркестра в клубе «Magnus Locus» (Москва) \n\n27 декабря \nНаше Радио\nИтоговый выпуск «Чартовой Дюжины» за 2024 года: Песня Ночных Снайперов «Не смотри на меня» на 10 месте. \n*** \nДиана Арбенина посетила новогоднее шоу Надежды и Анны Михалковых «Дядя Степа» в МТС Live Холл. \n\n28 декабря \n  \n\n29 декабря \nВ эфире проекта «Подкаст.Лаб» живое выступление Ночных Снайперов. Телепремьера песни «Обстоятельства». \n\n30 декабря \n  \n\n31 декабря \nЗакрытый концерт «Ночных Снайперов» в Лимассоле (Кипр) \n*** \nПортал НСН\nИнтервью Светланы Сургановой «Яркие впечатления и утрата» \n\n 
URL:https://august93.ru/event/%d0%b4%d0%b5%d0%ba%d0%b0%d0%b1%d1%80%d1%8c-2024-%d1%81%d0%be%d0%b1%d1%8b%d1%82%d0%b8%d1%8f-%d0%b8-%d0%bc%d0%b5%d1%80%d0%be%d0%bf%d1%80%d0%b8%d1%8f%d1%82%d0%b8%d1%8f
END:VEVENT
END:VCALENDAR