BEGIN:VCALENDAR
VERSION:2.0
PRODID:-//АВГУСТ - ECPv6.10.1.1//NONSGML v1.0//EN
CALSCALE:GREGORIAN
METHOD:PUBLISH
X-WR-CALNAME:АВГУСТ
X-ORIGINAL-URL:https://august93.ru
X-WR-CALDESC:Мероприятия для АВГУСТ
REFRESH-INTERVAL;VALUE=DURATION:PT1H
X-Robots-Tag:noindex
X-PUBLISHED-TTL:PT1H
BEGIN:VTIMEZONE
TZID:Europe/Moscow
BEGIN:STANDARD
TZOFFSETFROM:+0300
TZOFFSETTO:+0300
TZNAME:MSK
DTSTART:20250101T000000
END:STANDARD
END:VTIMEZONE
BEGIN:VEVENT
DTSTART;VALUE=DATE:20250104
DTEND;VALUE=DATE:20250105
DTSTAMP:20260422T160709
CREATED:20241019T095313Z
LAST-MODIFIED:20241019T095313Z
UID:22203-1735948800-1736035199@august93.ru
SUMMARY:Ночные Снайперы в Пхукете (Таиланд)
DESCRIPTION:Площадка — Lotus Arena \n 
URL:https://august93.ru/event/phuket
END:VEVENT
BEGIN:VEVENT
DTSTART;VALUE=DATE:20250106
DTEND;VALUE=DATE:20250107
DTSTAMP:20260422T160709
CREATED:20241019T103057Z
LAST-MODIFIED:20241019T103057Z
UID:22205-1736121600-1736207999@august93.ru
SUMMARY:Ночные Снайперы в Нуану (Бали\, Индонезия)
DESCRIPTION:Площадка — NUANU Event Space
URL:https://august93.ru/event/nuanu
END:VEVENT
BEGIN:VEVENT
DTSTART;VALUE=DATE:20250124
DTEND;VALUE=DATE:20250125
DTSTAMP:20260422T160709
CREATED:20241019T111112Z
LAST-MODIFIED:20241019T111129Z
UID:22234-1737676800-1737763199@august93.ru
SUMMARY:Сурганова и Оркестр в Калининграде\, "Янтарь-Холл"
DESCRIPTION:
URL:https://august93.ru/event/kenig25
END:VEVENT
BEGIN:VEVENT
DTSTART;VALUE=DATE:20250131
DTEND;VALUE=DATE:20250201
DTSTAMP:20260422T160709
CREATED:20250103T135058Z
LAST-MODIFIED:20250103T135058Z
UID:22420-1738281600-1738367999@august93.ru
SUMMARY:Январь 2025: события и мероприятия
DESCRIPTION:
URL:https://august93.ru/event/%d1%8f%d0%bd%d0%b2%d0%b0%d1%80%d1%8c-2025-%d1%81%d0%be%d0%b1%d1%8b%d1%82%d0%b8%d1%8f-%d0%b8-%d0%bc%d0%b5%d1%80%d0%be%d0%bf%d1%80%d0%b8%d1%8f%d1%82%d0%b8%d1%8f
END:VEVENT
END:VCALENDAR