BEGIN:VCALENDAR
VERSION:2.0
PRODID:-//АВГУСТ - ECPv6.10.1.1//NONSGML v1.0//EN
CALSCALE:GREGORIAN
METHOD:PUBLISH
X-WR-CALNAME:АВГУСТ
X-ORIGINAL-URL:https://august93.ru
X-WR-CALDESC:Мероприятия для АВГУСТ
REFRESH-INTERVAL;VALUE=DURATION:PT1H
X-Robots-Tag:noindex
X-PUBLISHED-TTL:PT1H
BEGIN:VTIMEZONE
TZID:Europe/Moscow
BEGIN:STANDARD
TZOFFSETFROM:+0300
TZOFFSETTO:+0300
TZNAME:MSK
DTSTART:20250101T000000
END:STANDARD
END:VTIMEZONE
BEGIN:VEVENT
DTSTART;VALUE=DATE:20250305
DTEND;VALUE=DATE:20250306
DTSTAMP:20260422T190218
CREATED:20250207T142756Z
LAST-MODIFIED:20250207T142756Z
UID:22466-1741132800-1741219199@august93.ru
SUMMARY:Сурганова и Оркестр в Ижевске\, ДК "Металлург"
DESCRIPTION:
URL:https://august93.ru/event/izhevsk2025
END:VEVENT
BEGIN:VEVENT
DTSTART;VALUE=DATE:20250306
DTEND;VALUE=DATE:20250307
DTSTAMP:20260422T190218
CREATED:20250207T142843Z
LAST-MODIFIED:20250207T142902Z
UID:22468-1741219200-1741305599@august93.ru
SUMMARY:Сурганова и Оркестр в Кирове\, ДК "Родина"
DESCRIPTION:
URL:https://august93.ru/event/kirov2025
END:VEVENT
BEGIN:VEVENT
DTSTART;VALUE=DATE:20250309
DTEND;VALUE=DATE:20250310
DTSTAMP:20260422T190218
CREATED:20250207T143029Z
LAST-MODIFIED:20250207T143055Z
UID:22470-1741478400-1741564799@august93.ru
SUMMARY:Сурганова и Оркестр в клубе "Космонавт" (Петербург)
DESCRIPTION:
URL:https://august93.ru/event/kocmonaut2025
END:VEVENT
BEGIN:VEVENT
DTSTART;VALUE=DATE:20250313
DTEND;VALUE=DATE:20250314
DTSTAMP:20260422T190218
CREATED:20250207T141014Z
LAST-MODIFIED:20250207T141014Z
UID:22452-1741824000-1741910399@august93.ru
SUMMARY:Ночные Снайперы в Казани\, Татнефть Арена
DESCRIPTION:
URL:https://august93.ru/event/kazan2025
END:VEVENT
BEGIN:VEVENT
DTSTART;VALUE=DATE:20250314
DTEND;VALUE=DATE:20250315
DTSTAMP:20260422T190218
CREATED:20250207T143149Z
LAST-MODIFIED:20250207T143214Z
UID:22472-1741910400-1741996799@august93.ru
SUMMARY:Сурганова и Оркестр в Пушкино\, театр "Рим"
DESCRIPTION:
URL:https://august93.ru/event/pushkino25
END:VEVENT
BEGIN:VEVENT
DTSTART;VALUE=DATE:20250315
DTEND;VALUE=DATE:20250316
DTSTAMP:20260422T190218
CREATED:20250207T141104Z
LAST-MODIFIED:20250207T141122Z
UID:22454-1741996800-1742083199@august93.ru
SUMMARY:Ночные Снайперы в Краснодаре\, ДС Олимп
DESCRIPTION:
URL:https://august93.ru/event/krasnodar2025
END:VEVENT
BEGIN:VEVENT
DTSTART;VALUE=DATE:20250315
DTEND;VALUE=DATE:20250316
DTSTAMP:20260422T190218
CREATED:20250207T143259Z
LAST-MODIFIED:20250207T143319Z
UID:22474-1741996800-1742083199@august93.ru
SUMMARY:Сурганова и Оркестр в Раменском\, КДЦ "Сатурн"
DESCRIPTION:
URL:https://august93.ru/event/ramen2025
END:VEVENT
BEGIN:VEVENT
DTSTART;VALUE=DATE:20250316
DTEND;VALUE=DATE:20250317
DTSTAMP:20260422T190218
CREATED:20250207T143433Z
LAST-MODIFIED:20250207T143453Z
UID:22476-1742083200-1742169599@august93.ru
SUMMARY:Сурганова и Оркестр в Обнинске\, МБУ ГДК
DESCRIPTION:
URL:https://august93.ru/event/obninsk2025
END:VEVENT
BEGIN:VEVENT
DTSTART;VALUE=DATE:20250317
DTEND;VALUE=DATE:20250318
DTSTAMP:20260422T190218
CREATED:20250207T141213Z
LAST-MODIFIED:20250207T141235Z
UID:22456-1742169600-1742255999@august93.ru
SUMMARY:Ночные Снайперы в Волгограде\, Экспоцентр
DESCRIPTION:
URL:https://august93.ru/event/volgograd2025
END:VEVENT
BEGIN:VEVENT
DTSTART;VALUE=DATE:20250328
DTEND;VALUE=DATE:20250329
DTSTAMP:20260422T190218
CREATED:20250207T143550Z
LAST-MODIFIED:20250207T143609Z
UID:22478-1743120000-1743206399@august93.ru
SUMMARY:Сурганова и Оркестр в клубе "16 тонн" (Москва)
DESCRIPTION:
URL:https://august93.ru/event/16tonn25
END:VEVENT
BEGIN:VEVENT
DTSTART;VALUE=DATE:20250329
DTEND;VALUE=DATE:20250330
DTSTAMP:20260422T190218
CREATED:20250207T141324Z
LAST-MODIFIED:20250207T141324Z
UID:22458-1743206400-1743292799@august93.ru
SUMMARY:Ночные Снайперы в Самаре\, ДС Высоцкого
DESCRIPTION:
URL:https://august93.ru/event/samara2025
END:VEVENT
BEGIN:VEVENT
DTSTART;VALUE=DATE:20250330
DTEND;VALUE=DATE:20250331
DTSTAMP:20260422T190218
CREATED:20250207T141420Z
LAST-MODIFIED:20250207T141420Z
UID:22460-1743292800-1743379199@august93.ru
SUMMARY:Ночные Снайперы в Оренбурге\, СКК Оренбуржье
DESCRIPTION:
URL:https://august93.ru/event/orenburg2025
END:VEVENT
END:VCALENDAR