BEGIN:VCALENDAR
VERSION:2.0
PRODID:-//АВГУСТ - ECPv6.10.1.1//NONSGML v1.0//EN
CALSCALE:GREGORIAN
METHOD:PUBLISH
X-WR-CALNAME:АВГУСТ
X-ORIGINAL-URL:https://august93.ru
X-WR-CALDESC:Мероприятия для АВГУСТ
REFRESH-INTERVAL;VALUE=DURATION:PT1H
X-Robots-Tag:noindex
X-PUBLISHED-TTL:PT1H
BEGIN:VTIMEZONE
TZID:Europe/Moscow
BEGIN:STANDARD
TZOFFSETFROM:+0300
TZOFFSETTO:+0300
TZNAME:MSK
DTSTART:20230101T000000
END:STANDARD
END:VTIMEZONE
BEGIN:VEVENT
DTSTART;VALUE=DATE:20230327
DTEND;VALUE=DATE:20230328
DTSTAMP:20260426T064728
CREATED:20230126T112122Z
LAST-MODIFIED:20230126T112122Z
UID:19264-1679875200-1679961599@august93.ru
SUMMARY:Сурганова и Оркестр в Краснодаре\, ДК ЖД
DESCRIPTION:
URL:https://august93.ru/event/%d1%81%d1%83%d1%80%d0%b3%d0%b0%d0%bd%d0%be%d0%b2%d0%b0-%d0%b8-%d0%be%d1%80%d0%ba%d0%b5%d1%81%d1%82%d1%80-%d0%b2-%d0%ba%d1%80%d0%b0%d1%81%d0%bd%d0%be%d0%b4%d0%b0%d1%80%d0%b5-%d0%b4%d0%ba-%d0%b6%d0%b4-3
END:VEVENT
END:VCALENDAR