BEGIN:VCALENDAR
VERSION:2.0
PRODID:-//АВГУСТ - ECPv6.10.1.1//NONSGML v1.0//EN
CALSCALE:GREGORIAN
METHOD:PUBLISH
X-ORIGINAL-URL:https://august93.ru
X-WR-CALDESC:Мероприятия для АВГУСТ
REFRESH-INTERVAL;VALUE=DURATION:PT1H
X-Robots-Tag:noindex
X-PUBLISHED-TTL:PT1H
BEGIN:VTIMEZONE
TZID:Europe/Moscow
BEGIN:STANDARD
TZOFFSETFROM:+0300
TZOFFSETTO:+0300
TZNAME:MSK
DTSTART:20230101T000000
END:STANDARD
END:VTIMEZONE
BEGIN:VEVENT
DTSTART;VALUE=DATE:20230331
DTEND;VALUE=DATE:20230401
DTSTAMP:20260426T052931
CREATED:20230126T112400Z
LAST-MODIFIED:20230126T112400Z
UID:19270-1680220800-1680307199@august93.ru
SUMMARY:Сурганова и Оркестр в Сочи\, "Треугольник"
DESCRIPTION:
URL:https://august93.ru/event/sio-sochy
END:VEVENT
BEGIN:VEVENT
DTSTART;VALUE=DATE:20230331
DTEND;VALUE=DATE:20230401
DTSTAMP:20260426T052931
CREATED:20230318T200317Z
LAST-MODIFIED:20230506T234245Z
UID:19541-1680220800-1680307199@august93.ru
SUMMARY:МАРТ 2023: пресса и события
DESCRIPTION:1 марта \nНочные Снайперы получили премию «Виктория» в номинации «Рок-исполнитель года». \n\n2 марта \n  \n\n3 марта \nПремьера песни «Соловьи» в Чартовой Дюжине \n\n4 марта \n  \n\n5 марта \n  \n\n6 марта \n  \n\n7 марта \n  \n\n8 марта \nСветлана Сурганова в «ПушкинРядом» \n*** \nДиана Арбенина провела на катке в парке Горького розыгрыш билетов на юбилейный концерт 8 июля. \n\n9 марта \nСветлана Сурганова в «ПушкинРядом» \n\n10 марта \nНочные Снайперы в Липецке\, ДС Звездный \n*** \n«Соловьи» на 6 месте Чартовой Дюжины \n\n11 марта \nНочные Снайперы в Тамбове\, ДС Кристалл \n\n12 марта \n  \n\n13 марта \nНочные Снайперы в Орле\, Грин Центр \n\n14 марта \nНочные Снайперы в Брянске\, Дворец единоборств \n\n15 марта \nНочные Снайперы в Смоленске\, ДС Юбилейный \n\n16 марта \n  \n\n17 марта \n«Соловьи» на 2 месте Чартовой Дюжины \n\n18 марта \n  \n\n19 марта \nСветлана Сурганова в Зеленогорске\, Дворец культуры \n\n20 марта \nСветлана Сурганова в Железногорске\, Дворец культуры \n\n21 марта \n  \n\n22 марта \nСурганова и Оркестр в Ижевске\, ДК Металлург \n\n23 марта \nСурганова и Оркестр в Сыктывкаре\, Театр оперы и балета \n\n24 марта \nСурганова и Оркестр в Кирове\, Филармония \n*** \nВручение Х кинопремии АПКиТ: награда сериалу «Номинация» \n*** \n«Соловьи» на 6 месте Чартовой Дюжины \n\n25 марта \n  \n\n26 марта \n  \n\n27 марта \nСурганова и Оркестр в Краснодаре\, ДК ЖД \n\n28 марта \nСурганова и Оркестр в Ростове-на-Дону\, ДК Ростсельмаш \n*** \nАнонсировано участие Светланы Сургановой в «Тотальном диктанте-2023» \n\n29 марта \nСурганова и Оркестр в Волгограде\, ЦКЗ \n\n30 марта \n  \n\n31 марта \nСурганова и Оркестр в Сочи\, рок-бар «Треугольник» \n*** \nТелеканал «Россия 1»: шоу «Моя мелодия» \n*** \n«Соловьи» на 5 месте Чартовой Дюжины \n\n 
URL:https://august93.ru/event/%d0%bc%d0%b0%d1%80%d1%82-2023-%d0%bf%d1%80%d0%b5%d1%81%d1%81%d0%b0-%d0%b8-%d1%81%d0%be%d0%b1%d1%8b%d1%82%d0%b8%d1%8f
END:VEVENT
BEGIN:VEVENT
DTSTART;VALUE=DATE:20230331
DTEND;VALUE=DATE:20230401
DTSTAMP:20260426T052931
CREATED:20230506T204202Z
LAST-MODIFIED:20230506T204202Z
UID:19994-1680220800-1680307199@august93.ru
SUMMARY:Светлана Сурганова в шоу "Моя мелодия"
DESCRIPTION:Светлана Сурганова приняла участие в новом музыкальном шоу 2Моя мелодия» на канале «Россия 1». Она исполнила песню «Апрельская» в качестве сюрприза\, подготовленного для актрисы Нонны Гришаевой. В показе музыкального номера участвовали студенты ГИТИСа из студии Нонны Гришаевой.
URL:https://august93.ru/event/moya-melodia
END:VEVENT
END:VCALENDAR