BEGIN:VCALENDAR
VERSION:2.0
PRODID:-//АВГУСТ - ECPv6.10.1.1//NONSGML v1.0//EN
CALSCALE:GREGORIAN
METHOD:PUBLISH
X-ORIGINAL-URL:https://august93.ru
X-WR-CALDESC:Мероприятия для АВГУСТ
REFRESH-INTERVAL;VALUE=DURATION:PT1H
X-Robots-Tag:noindex
X-PUBLISHED-TTL:PT1H
BEGIN:VTIMEZONE
TZID:Europe/Moscow
BEGIN:STANDARD
TZOFFSETFROM:+0300
TZOFFSETTO:+0300
TZNAME:MSK
DTSTART:20230101T000000
END:STANDARD
END:VTIMEZONE
BEGIN:VEVENT
DTSTART;VALUE=DATE:20230413
DTEND;VALUE=DATE:20230414
DTSTAMP:20260426T053633
CREATED:20230506T200404Z
LAST-MODIFIED:20230506T200404Z
UID:19991-1681344000-1681430399@august93.ru
SUMMARY:Премьера фильма "Зоськина заправка"
DESCRIPTION:Пресс-релиз: \n13 апреля на киноэкраны выходит фильм «Зоськина заправка» – криминальная драма\, о которой режиссер Александр Митта отзывается как об одном из лучших российских фильмов последнего времени. Саундтреком к фильму стала песня «Сургановой и Оркестра» «Все сначала». \nВ киноленте раскрывается история одинокой заправщицы Зоси\, что работает на заснеженной АЗС\, мечтает о принце на белом коне\, любви и приключениях. Когда желаемое начинает сбываться\, девушка встаёт перед лицом смертельной опасности. Нашла ли девушка того самого? \n«Я рада\, что песня обрела свой фильм! После просмотра я была поражена тем\, насколько же они сошлись. Это прекрасное кино о том\, что иногда справедливость бывает важнее правил!» – говорит Светлана.
URL:https://august93.ru/event/zapravka
END:VEVENT
END:VCALENDAR