BEGIN:VCALENDAR
VERSION:2.0
PRODID:-//АВГУСТ - ECPv6.10.1.1//NONSGML v1.0//EN
CALSCALE:GREGORIAN
METHOD:PUBLISH
X-WR-CALNAME:АВГУСТ
X-ORIGINAL-URL:https://august93.ru
X-WR-CALDESC:Мероприятия для АВГУСТ
REFRESH-INTERVAL;VALUE=DURATION:PT1H
X-Robots-Tag:noindex
X-PUBLISHED-TTL:PT1H
BEGIN:VTIMEZONE
TZID:Europe/Moscow
BEGIN:STANDARD
TZOFFSETFROM:+0300
TZOFFSETTO:+0300
TZNAME:MSK
DTSTART:20230101T000000
END:STANDARD
END:VTIMEZONE
BEGIN:VEVENT
DTSTART;VALUE=DATE:20230417
DTEND;VALUE=DATE:20230418
DTSTAMP:20260426T053308
CREATED:20230506T152653Z
LAST-MODIFIED:20230506T182547Z
UID:19974-1681689600-1681775999@august93.ru
SUMMARY:Светлана Сурганова в Нововоронеже\, фестиваль «U235. Новые песни»
DESCRIPTION:Мероприятия и концерт в рамках фестиваля Школы Росатома «U235. Новые песни» \n\nПодробности о мероприятии — в репортаже «Российской газеты» \nВ городе-спутнике Нововоронежской АЭС — Нововоронеже в МАУДО «Школа искусств имени В.В. Силина» в рамках конкурса авторской музыки и поэзии «U-235. Новые песни» состоялось прослушивание почти 30 талантливых авторов и исполнителей из Нововоронежа и Энергодара. \nПрослушивание провело жюри фестиваля под председательством поэта\, музыканта\, основателя и лидера группы «Сурганова и Оркестр» Светланы Сургановой. В него также вошли: советник Департамента по взаимодействию с регионами Госкорпорации «Росатом»\, руководитель проекта «Школа Росатома» Наталья Шурочкова\, музыкант\, соло-гитарист и сооснователь группы «Сурганова и Оркестр» Валерий Тхай и автор-исполнитель Наталья Кучер. \nПо результатам мероприятия 20 человек получили рекомендательные письма жюри. Они станут дополнительным бонусом при отборе на финал\, который состоится в мае этого года в Десногорске. В числе отмеченных начинающих музыкантов и поэтов были те\, кто особенно понравился профессиональным артистам — этим ребятам было предложено выступить на концерте группы «Сурганова и Оркестр»\, который состоялся в этот же день во Дворце культуры г. Нововоронежа. Среди них оказались Денис Никоноров и супруги Михаил и Анастасия Муравьевы из Нововоронежа\, Петр Бугаев\, Алина Кусакина и Кирилл Олейник из Энергодара. \nКонкурс стартовал в феврале 2023 года в рамках ежегодного Фестиваля авторской музыки и поэзии «U-235. Новые песни»\, организуемого проектом «Школа Росатома» при поддержке программы «Территория культуры Росатома». В нем принимают участие как школьники (10-16 лет)\, так и представители молодежи (17-35 лет) со всей России\, в том числе и из городов-участников проекта. \n«Школа Росатома» предоставляет поистине уникальные возможности для жителей наших атомных городов. Поэтому Нововоронежская АЭС всегда поддерживает такие начинания. Мы очень рады стать опорой для одаренных жителей нашего города и способствовать раскрытию их способностей. Для многих участников это станет отличным стимулом к развитию своих талантов»\, — прокомментировал заместитель директора по управлению персоналом Нововоронежской АЭС Олег Уразов. \nВ завершение выступления Светлана Сурганова поздравила «Школу Росатома» с днем рождения\, который проект праздновал в этот день в Нововоронеже.
URL:https://august93.ru/event/novovoronezh
END:VEVENT
END:VCALENDAR