BEGIN:VCALENDAR
VERSION:2.0
PRODID:-//АВГУСТ - ECPv6.10.1.1//NONSGML v1.0//EN
CALSCALE:GREGORIAN
METHOD:PUBLISH
X-WR-CALNAME:АВГУСТ
X-ORIGINAL-URL:https://august93.ru
X-WR-CALDESC:Мероприятия для АВГУСТ
REFRESH-INTERVAL;VALUE=DURATION:PT1H
X-Robots-Tag:noindex
X-PUBLISHED-TTL:PT1H
BEGIN:VTIMEZONE
TZID:Europe/Moscow
BEGIN:STANDARD
TZOFFSETFROM:+0300
TZOFFSETTO:+0300
TZNAME:MSK
DTSTART:20230101T000000
END:STANDARD
END:VTIMEZONE
BEGIN:VEVENT
DTSTART;VALUE=DATE:20230422
DTEND;VALUE=DATE:20230423
DTSTAMP:20260426T052710
CREATED:20230506T221407Z
LAST-MODIFIED:20230506T221407Z
UID:19998-1682121600-1682207999@august93.ru
SUMMARY:Светлана Сурганова и "Квинтет четырех" в ПушкинРядом
DESCRIPTION:Совместное выступление Светланы Сургановой и коллектива «Квинтет четырех»\, играющего на народных инструментах. Было исполнено несколько песен из репертуара Светланы\, а также собственные инструментальные композиции гостей. \n\n 
URL:https://august93.ru/event/qwintet
END:VEVENT
END:VCALENDAR