BEGIN:VCALENDAR
VERSION:2.0
PRODID:-//АВГУСТ - ECPv6.10.1.1//NONSGML v1.0//EN
CALSCALE:GREGORIAN
METHOD:PUBLISH
X-ORIGINAL-URL:https://august93.ru
X-WR-CALDESC:Мероприятия для АВГУСТ
REFRESH-INTERVAL;VALUE=DURATION:PT1H
X-Robots-Tag:noindex
X-PUBLISHED-TTL:PT1H
BEGIN:VTIMEZONE
TZID:Europe/Moscow
BEGIN:STANDARD
TZOFFSETFROM:+0300
TZOFFSETTO:+0300
TZNAME:MSK
DTSTART:20230101T000000
END:STANDARD
END:VTIMEZONE
BEGIN:VEVENT
DTSTART;VALUE=DATE:20230425
DTEND;VALUE=DATE:20230426
DTSTAMP:20260426T053816
CREATED:20230506T155840Z
LAST-MODIFIED:20230506T160221Z
UID:19976-1682380800-1682467199@august93.ru
SUMMARY:Светлана Сурганова в пункте отбора контрактников
DESCRIPTION:«Сурганова и Оркестр» дали концерт в ходе посещения пункта отбора на контрактную службу \nОснователи коллектива «Сурганова и Оркестр» Светлана Сурганова и Валерий Тхай высоко оценили уровень организации единого столичного пункта отбора на контрактную службу. Они увидели\, как проходит реальный процесс отбора\, поддержали контрактников и показали им небольшое выступление. Центр находится по адресу улица Яблочкова\, дом 5\, строение 1. \n«Желающий приходит\, отдает документы\, потом его направляют на медосмотр\, на комиссию\, решающую может ли он выполнять свой гражданский долг\, участвовать в СВО или нет по каким-то причинам. Можно тут же\, не выходя из этого здания\, решить какие-то финансовые проблемы\, если есть какие-то задолженности\, какие-то недорешенные вопросы с банками. И дальше уже следующее помещение\, где пришедшие могут отдохнуть и дождаться результатов комиссии. То есть мне кажется\, что организованно все правильно и разумно»\, – поделилась Сурганова. \nМузыканты в пункте дали небольшое выступление в поддержку желающих отправиться в зону СВО. \n«Мы приехали поддержать ребят\, спеть им несколько песен\, что\, собственно говоря\, сегодня и сделали. Когда мы начали петь для них\, там уже и из коридора подходили. То есть непосредственный\, живой интерес. А наша задача была — дать им живой энергии и позитива\, потому что они идут на серьезное дело — родину защищать»\, — добавил Валерий Тхай. \n 
URL:https://august93.ru/event/voenkomat
END:VEVENT
END:VCALENDAR