BEGIN:VCALENDAR
VERSION:2.0
PRODID:-//АВГУСТ - ECPv6.10.1.1//NONSGML v1.0//EN
CALSCALE:GREGORIAN
METHOD:PUBLISH
X-WR-CALNAME:АВГУСТ
X-ORIGINAL-URL:https://august93.ru
X-WR-CALDESC:Мероприятия для АВГУСТ
REFRESH-INTERVAL;VALUE=DURATION:PT1H
X-Robots-Tag:noindex
X-PUBLISHED-TTL:PT1H
BEGIN:VTIMEZONE
TZID:Europe/Moscow
BEGIN:STANDARD
TZOFFSETFROM:+0300
TZOFFSETTO:+0300
TZNAME:MSK
DTSTART:20230101T000000
END:STANDARD
END:VTIMEZONE
BEGIN:VEVENT
DTSTART;VALUE=DATE:20230426
DTEND;VALUE=DATE:20230427
DTSTAMP:20260426T053419
CREATED:20230506T182116Z
LAST-MODIFIED:20230506T182116Z
UID:19983-1682467200-1682553599@august93.ru
SUMMARY:Светлана Сурганова в прямом эфире
DESCRIPTION:Праздничный стрим Светланы Сургановой и Валерия Тхая на ютуб-канале «Сургановой и Оркестра».\nДвухчасовой прямой эфир с ответами на вопросы зрителей и воспоминаниями об истории создания группы.
URL:https://august93.ru/event/sio20-strim
END:VEVENT
END:VCALENDAR