BEGIN:VCALENDAR
VERSION:2.0
PRODID:-//АВГУСТ - ECPv6.10.1.1//NONSGML v1.0//EN
CALSCALE:GREGORIAN
METHOD:PUBLISH
X-WR-CALNAME:АВГУСТ
X-ORIGINAL-URL:https://august93.ru
X-WR-CALDESC:Мероприятия для АВГУСТ
REFRESH-INTERVAL;VALUE=DURATION:PT1H
X-Robots-Tag:noindex
X-PUBLISHED-TTL:PT1H
BEGIN:VTIMEZONE
TZID:Europe/Moscow
BEGIN:STANDARD
TZOFFSETFROM:+0300
TZOFFSETTO:+0300
TZNAME:MSK
DTSTART:20230101T000000
END:STANDARD
END:VTIMEZONE
BEGIN:VEVENT
DTSTART;VALUE=DATE:20230607
DTEND;VALUE=DATE:20230608
DTSTAMP:20260426T022312
CREATED:20231129T204147Z
LAST-MODIFIED:20231129T204147Z
UID:21109-1686096000-1686182399@august93.ru
SUMMARY:Ночные Снайперы на Премии цифрового контента
DESCRIPTION:Институт развития интернета провел церемонию вручения Премии цифрового контента.\nМесто проведения — Дворец гимнастики Ирины Винер-Усмановой\nНочные Снайперы стали гостями церемонии.
URL:https://august93.ru/event/kontent
END:VEVENT
END:VCALENDAR