BEGIN:VCALENDAR
VERSION:2.0
PRODID:-//АВГУСТ - ECPv6.10.1.1//NONSGML v1.0//EN
CALSCALE:GREGORIAN
METHOD:PUBLISH
X-ORIGINAL-URL:https://august93.ru
X-WR-CALDESC:Мероприятия для АВГУСТ
REFRESH-INTERVAL;VALUE=DURATION:PT1H
X-Robots-Tag:noindex
X-PUBLISHED-TTL:PT1H
BEGIN:VTIMEZONE
TZID:Europe/Moscow
BEGIN:STANDARD
TZOFFSETFROM:+0300
TZOFFSETTO:+0300
TZNAME:MSK
DTSTART:20230101T000000
END:STANDARD
END:VTIMEZONE
BEGIN:VEVENT
DTSTART;VALUE=DATE:20230616
DTEND;VALUE=DATE:20230617
DTSTAMP:20260426T035532
CREATED:20230506T083613Z
LAST-MODIFIED:20231129T193139Z
UID:19929-1686873600-1686959999@august93.ru
SUMMARY:Ночные Снайперы в Калининграде\, ДС "Янтарный"
DESCRIPTION:Концертная программа «Авиарежим»\nНачало — 19-00
URL:https://august93.ru/event/kaliningrad2023
END:VEVENT
END:VCALENDAR