BEGIN:VCALENDAR
VERSION:2.0
PRODID:-//АВГУСТ - ECPv6.10.1.1//NONSGML v1.0//EN
CALSCALE:GREGORIAN
METHOD:PUBLISH
X-WR-CALNAME:АВГУСТ
X-ORIGINAL-URL:https://august93.ru
X-WR-CALDESC:Мероприятия для АВГУСТ
REFRESH-INTERVAL;VALUE=DURATION:PT1H
X-Robots-Tag:noindex
X-PUBLISHED-TTL:PT1H
BEGIN:VTIMEZONE
TZID:Europe/Moscow
BEGIN:STANDARD
TZOFFSETFROM:+0300
TZOFFSETTO:+0300
TZNAME:MSK
DTSTART:20230101T000000
END:STANDARD
END:VTIMEZONE
BEGIN:VEVENT
DTSTART;VALUE=DATE:20230628
DTEND;VALUE=DATE:20230629
DTSTAMP:20260426T005233
CREATED:20230224T113613Z
LAST-MODIFIED:20231205T145518Z
UID:19444-1687910400-1687996799@august93.ru
SUMMARY:Ночные Снайперы в Краснодаре\, ДС «Олимп»
DESCRIPTION:12 июня -> 28 июня \n\n \n\nССЫЛКИ \nСборник видео на ютубе
URL:https://august93.ru/event/krasnodar23
END:VEVENT
END:VCALENDAR