BEGIN:VCALENDAR
VERSION:2.0
PRODID:-//АВГУСТ - ECPv6.10.1.1//NONSGML v1.0//EN
CALSCALE:GREGORIAN
METHOD:PUBLISH
X-WR-CALNAME:АВГУСТ
X-ORIGINAL-URL:https://august93.ru
X-WR-CALDESC:Мероприятия для АВГУСТ
REFRESH-INTERVAL;VALUE=DURATION:PT1H
X-Robots-Tag:noindex
X-PUBLISHED-TTL:PT1H
BEGIN:VTIMEZONE
TZID:Europe/Moscow
BEGIN:STANDARD
TZOFFSETFROM:+0300
TZOFFSETTO:+0300
TZNAME:MSK
DTSTART:20230101T000000
END:STANDARD
END:VTIMEZONE
BEGIN:VEVENT
DTSTART;VALUE=DATE:20230629
DTEND;VALUE=DATE:20230630
DTSTAMP:20260426T005230
CREATED:20230224T113521Z
LAST-MODIFIED:20231205T144716Z
UID:19442-1687996800-1688083199@august93.ru
SUMMARY:Ночные Снайперы в Сочи\, КЗ "Фестивальный"
DESCRIPTION:Перенос концерта: 11 июня -> 29 июня \n\n \n\nССЫЛКИ \nСборник видео на ютубе
URL:https://august93.ru/event/%d0%bd%d0%be%d1%87%d0%bd%d1%8b%d0%b5-%d1%81%d0%bd%d0%b0%d0%b9%d0%bf%d0%b5%d1%80%d1%8b-%d0%b2-%d1%81%d0%be%d1%87%d0%b8-2
END:VEVENT
END:VCALENDAR