BEGIN:VCALENDAR
VERSION:2.0
PRODID:-//АВГУСТ - ECPv6.10.1.1//NONSGML v1.0//EN
CALSCALE:GREGORIAN
METHOD:PUBLISH
X-ORIGINAL-URL:https://august93.ru
X-WR-CALDESC:Мероприятия для АВГУСТ
REFRESH-INTERVAL;VALUE=DURATION:PT1H
X-Robots-Tag:noindex
X-PUBLISHED-TTL:PT1H
BEGIN:VTIMEZONE
TZID:Europe/Moscow
BEGIN:STANDARD
TZOFFSETFROM:+0300
TZOFFSETTO:+0300
TZNAME:MSK
DTSTART:20230101T000000
END:STANDARD
END:VTIMEZONE
BEGIN:VEVENT
DTSTART;VALUE=DATE:20230704
DTEND;VALUE=DATE:20230705
DTSTAMP:20260426T021956
CREATED:20230704T075842Z
LAST-MODIFIED:20230707T080519Z
UID:20352-1688428800-1688515199@august93.ru
SUMMARY:Пресс-конференция Дианы Арбениной в "Спартаке"
DESCRIPTION:ФОТО \n\n\n\n			\n				\n						\n			\n				\n			\n		\n							\n			\n		\n				\n						\n			\n				\n			\n		\n							\n			\n		\n				\n						\n			\n				\n			\n		\n							\n			\n		\n				\n						\n			\n				\n			\n		\n							\n			\n		\n				\n						\n			\n				\n			\n		\n							\n			\n		\n				\n						\n			\n				\n			\n		\n							\n			\n		\n		\n		\n			\n\n\nИтоговый ролик:\n\n 
URL:https://august93.ru/event/press-spartak
ATTACH;FMTTYPE=image/jpeg:https://august93.ru/wp-content/uploads/2023/07/fit_795_547_false_crop_4500_2528_0_234_q90_2020201_1d1d7f6db7cd69a3a23c0eeac.jpeg
END:VEVENT
END:VCALENDAR