BEGIN:VCALENDAR
VERSION:2.0
PRODID:-//АВГУСТ - ECPv6.10.1.1//NONSGML v1.0//EN
CALSCALE:GREGORIAN
METHOD:PUBLISH
X-ORIGINAL-URL:https://august93.ru
X-WR-CALDESC:Мероприятия для АВГУСТ
REFRESH-INTERVAL;VALUE=DURATION:PT1H
X-Robots-Tag:noindex
X-PUBLISHED-TTL:PT1H
BEGIN:VTIMEZONE
TZID:Europe/Moscow
BEGIN:STANDARD
TZOFFSETFROM:+0300
TZOFFSETTO:+0300
TZNAME:MSK
DTSTART:20230101T000000
END:STANDARD
END:VTIMEZONE
BEGIN:VEVENT
DTSTART;VALUE=DATE:20230716
DTEND;VALUE=DATE:20230717
DTSTAMP:20260426T022034
CREATED:20231016T123928Z
LAST-MODIFIED:20231204T214725Z
UID:20712-1689465600-1689551999@august93.ru
SUMMARY:Сурганова и Оркестр на фестивале "Усадьба Рок&Блюз"
DESCRIPTION:Место проведения — туристический комплекс «Усадьба Скорняково-Архангельское»\, Липецкая область.\nУчастники: Найк Борзов\, «Анимал-Джаз»\, «Сурганова и Оркестр» и ряд местных музыкантов. \n\n \n\nССЫЛКИ \nОфициальный фотоальбом с выступления Сургановой и Оркестра \nСайт фестиваля
URL:https://august93.ru/event/usadba-rock-blues
END:VEVENT
END:VCALENDAR