BEGIN:VCALENDAR
VERSION:2.0
PRODID:-//АВГУСТ - ECPv6.10.1.1//NONSGML v1.0//EN
CALSCALE:GREGORIAN
METHOD:PUBLISH
X-ORIGINAL-URL:https://august93.ru
X-WR-CALDESC:Мероприятия для АВГУСТ
REFRESH-INTERVAL;VALUE=DURATION:PT1H
X-Robots-Tag:noindex
X-PUBLISHED-TTL:PT1H
BEGIN:VTIMEZONE
TZID:Europe/Moscow
BEGIN:STANDARD
TZOFFSETFROM:+0300
TZOFFSETTO:+0300
TZNAME:MSK
DTSTART:20230101T000000
END:STANDARD
END:VTIMEZONE
BEGIN:VEVENT
DTSTART;VALUE=DATE:20230730
DTEND;VALUE=DATE:20230731
DTSTAMP:20260426T022035
CREATED:20230824T190545Z
LAST-MODIFIED:20231204T214334Z
UID:20637-1690675200-1690761599@august93.ru
SUMMARY:Сурганова и Оркестр на Дне ВМФ в Петербурге
DESCRIPTION:Сборный концерт на Дворцовой площади \n\n \n\nССЫЛКИ \nФотоальбом с выступления от Наталии Калиниченко\nФотоальбом с выступления от Павла Галактионова\nСборник видео на ютубе
URL:https://august93.ru/event/den_vmf
END:VEVENT
END:VCALENDAR