BEGIN:VCALENDAR
VERSION:2.0
PRODID:-//АВГУСТ - ECPv6.10.1.1//NONSGML v1.0//EN
CALSCALE:GREGORIAN
METHOD:PUBLISH
X-ORIGINAL-URL:https://august93.ru
X-WR-CALDESC:Мероприятия для АВГУСТ
REFRESH-INTERVAL;VALUE=DURATION:PT1H
X-Robots-Tag:noindex
X-PUBLISHED-TTL:PT1H
BEGIN:VTIMEZONE
TZID:Europe/Moscow
BEGIN:STANDARD
TZOFFSETFROM:+0300
TZOFFSETTO:+0300
TZNAME:MSK
DTSTART:20230101T000000
END:STANDARD
END:VTIMEZONE
BEGIN:VEVENT
DTSTART;VALUE=DATE:20230805
DTEND;VALUE=DATE:20230806
DTSTAMP:20260425T232131
CREATED:20230506T151704Z
LAST-MODIFIED:20230706T183452Z
UID:19970-1691193600-1691279999@august93.ru
SUMMARY:Фестиваль "Нашествие-2023" (отменен)
DESCRIPTION:Фестиваль пройдет в Калужской области\n4\, 5 и 6 августа 2023 года.\n«Сурганова и Оркестр» выступают 5 августа. Об участии «Ночных Снайперов» не сообщалось. \n\n 
URL:https://august93.ru/event/nashestvie2023
ATTACH;FMTTYPE=image/jpeg:https://august93.ru/wp-content/uploads/2023/05/site-H-2023-social.jpeg
END:VEVENT
BEGIN:VEVENT
DTSTART;VALUE=DATE:20230805
DTEND;VALUE=DATE:20230806
DTSTAMP:20260425T232131
CREATED:20231016T114603Z
LAST-MODIFIED:20231016T114628Z
UID:20703-1691193600-1691279999@august93.ru
SUMMARY:Выставка GENESIS в "ПушкинРядом"
DESCRIPTION:В арт-пространстве «ПушкинРядом состоялась иммерсивная выставка GENESIS с участием Светланы Сургановой. \n\nИз официального пресс-релиза:\nGENESIS — это проект о любви\, свободе выбора и внутренней борьбе человеческой Души\, на помощь к которой приходит Вселенная. \n\nССЫЛКИ \nОфициальный фотоальбом с мероприятия
URL:https://august93.ru/event/genesis-pr
END:VEVENT
END:VCALENDAR