BEGIN:VCALENDAR
VERSION:2.0
PRODID:-//АВГУСТ - ECPv6.10.1.1//NONSGML v1.0//EN
CALSCALE:GREGORIAN
METHOD:PUBLISH
X-WR-CALNAME:АВГУСТ
X-ORIGINAL-URL:https://august93.ru
X-WR-CALDESC:Мероприятия для АВГУСТ
REFRESH-INTERVAL;VALUE=DURATION:PT1H
X-Robots-Tag:noindex
X-PUBLISHED-TTL:PT1H
BEGIN:VTIMEZONE
TZID:Europe/Moscow
BEGIN:STANDARD
TZOFFSETFROM:+0300
TZOFFSETTO:+0300
TZNAME:MSK
DTSTART:20230101T000000
END:STANDARD
END:VTIMEZONE
BEGIN:VEVENT
DTSTART;VALUE=DATE:20231017
DTEND;VALUE=DATE:20231018
DTSTAMP:20260425T201418
CREATED:20230823T193156Z
LAST-MODIFIED:20231201T103831Z
UID:20582-1697500800-1697587199@august93.ru
SUMMARY:Ночные Снайперы в Ижевске\, ДК Аксион
DESCRIPTION:… \n\nССЫЛКИ \nСборник видео на ютубе
URL:https://august93.ru/event/izhevsk23
ATTACH;FMTTYPE=image/jpeg:https://august93.ru/wp-content/uploads/2023/08/ижевск.jpg
END:VEVENT
END:VCALENDAR