BEGIN:VCALENDAR
VERSION:2.0
PRODID:-//АВГУСТ - ECPv6.10.1.1//NONSGML v1.0//EN
CALSCALE:GREGORIAN
METHOD:PUBLISH
X-WR-CALNAME:АВГУСТ
X-ORIGINAL-URL:https://august93.ru
X-WR-CALDESC:Мероприятия для АВГУСТ
REFRESH-INTERVAL;VALUE=DURATION:PT1H
X-Robots-Tag:noindex
X-PUBLISHED-TTL:PT1H
BEGIN:VTIMEZONE
TZID:Europe/Moscow
BEGIN:STANDARD
TZOFFSETFROM:+0300
TZOFFSETTO:+0300
TZNAME:MSK
DTSTART:20230101T000000
END:STANDARD
END:VTIMEZONE
BEGIN:VEVENT
DTSTART;VALUE=DATE:20231018
DTEND;VALUE=DATE:20231019
DTSTAMP:20260425T200830
CREATED:20230823T193919Z
LAST-MODIFIED:20231201T102805Z
UID:20585-1697587200-1697673599@august93.ru
SUMMARY:Ночные Снайперы в Йошкар-Оле (отмена)
DESCRIPTION:
URL:https://august93.ru/event/joschkar23
ATTACH;FMTTYPE=image/jpeg:https://august93.ru/wp-content/uploads/2023/08/Йошкар-ола.jpg
END:VEVENT
END:VCALENDAR