BEGIN:VCALENDAR
VERSION:2.0
PRODID:-//АВГУСТ - ECPv6.10.1.1//NONSGML v1.0//EN
CALSCALE:GREGORIAN
METHOD:PUBLISH
X-WR-CALNAME:АВГУСТ
X-ORIGINAL-URL:https://august93.ru
X-WR-CALDESC:Мероприятия для АВГУСТ
REFRESH-INTERVAL;VALUE=DURATION:PT1H
X-Robots-Tag:noindex
X-PUBLISHED-TTL:PT1H
BEGIN:VTIMEZONE
TZID:Europe/Moscow
BEGIN:STANDARD
TZOFFSETFROM:+0300
TZOFFSETTO:+0300
TZNAME:MSK
DTSTART:20230101T000000
END:STANDARD
END:VTIMEZONE
BEGIN:VEVENT
DTSTART;VALUE=DATE:20231022
DTEND;VALUE=DATE:20231023
DTSTAMP:20260425T200825
CREATED:20230823T194522Z
LAST-MODIFIED:20231201T101802Z
UID:20591-1697932800-1698019199@august93.ru
SUMMARY:Ночные Снайперы в Новосибирске\, Локомотив-Арена
DESCRIPTION:ССЫЛКИ \nПолитическая реакция: \nотзыв в паблике «Комитета семей защитников отечества»\nпортал «Инсайдер»\nпрограмма Юлии Таратуты\nМихаил Козырев на Дожде\nканал Александра Невзорова\nстатья Артемия Троицкого на «Эхе»\nреакция стукача Бородина\nновости телеканала Дождь\nновости «Эха Москвы»\nновости портала «Медуза» \nОстальные ссылки: \nСборник видео на ютубе
URL:https://august93.ru/event/novosib23
END:VEVENT
END:VCALENDAR