BEGIN:VCALENDAR
VERSION:2.0
PRODID:-//АВГУСТ - ECPv6.10.1.1//NONSGML v1.0//EN
CALSCALE:GREGORIAN
METHOD:PUBLISH
X-WR-CALNAME:АВГУСТ
X-ORIGINAL-URL:https://august93.ru
X-WR-CALDESC:Мероприятия для АВГУСТ
REFRESH-INTERVAL;VALUE=DURATION:PT1H
X-Robots-Tag:noindex
X-PUBLISHED-TTL:PT1H
BEGIN:VTIMEZONE
TZID:Europe/Moscow
BEGIN:STANDARD
TZOFFSETFROM:+0300
TZOFFSETTO:+0300
TZNAME:MSK
DTSTART:20230101T000000
END:STANDARD
END:VTIMEZONE
BEGIN:VEVENT
DTSTART;VALUE=DATE:20231030
DTEND;VALUE=DATE:20231031
DTSTAMP:20260425T184544
CREATED:20231129T130829Z
LAST-MODIFIED:20231129T130829Z
UID:21057-1698624000-1698710399@august93.ru
SUMMARY:Премьера песни "Бог ушел"
DESCRIPTION:Диана Арбенина на своих страницах в телеграме и инстаграме выложила домашнюю видеозапись с премьерным акустическим исполнением песни «Бог ушел» \n \n*** \nтекст песни: \nс каждым днем все меньше слов.\nвсё больше многоточий.\nвсё серьёзное теперь не важно и не срочно.\nнезачем быстрее.\nгде дорога — там траншея.\nпервый стал приманкой.\nа второй упал мишенью. \nс каждым днем все меньше солнца\,\nменьше сна и ветра.\nбесполезно спрашивать\,\nне находя ответа.\nБог ушёл из города и скрылся меж холмами.\nчто же происходит?\nпроисходит люди с нами. \nсовесть под наркозом.\nа душа — душа ослепла.\nс каждым днем всё меньше шансов\nменьше чести\, меньше.\nтолько и осталась — моя вечная гитара.\nне было б её — меня давно уже не стало. \nс каждым днем друзей всё меньше.\nимена сгорают.\nи надежды\, что всё это кто-нибудь исправит.\nжизнь течёт\, как масло.\nнож кромсает по живому.\nи уже не важно кто уехал\, а кто дома. \nтак не может быть хоть 1000 лет\, но не поверю.\nБог ушёл и в спину ему выстрелами двери.\nБог ушёл из города и скрылся меж холмами.\nчто же будет люди?\nчто же будет люди с нами? \nтак не может быть\nхоть 1000 лет\, но не поверю.\nБог ушёл и в спину ему выстрелами двери.\nБог ушёл из города и скрылся меж холмами.\nчто же будет люди?\nчто же будет люди с нами?
URL:https://august93.ru/event/bogushel
END:VEVENT
END:VCALENDAR