BEGIN:VCALENDAR
VERSION:2.0
PRODID:-//АВГУСТ - ECPv6.10.1.1//NONSGML v1.0//EN
CALSCALE:GREGORIAN
METHOD:PUBLISH
X-WR-CALNAME:АВГУСТ
X-ORIGINAL-URL:https://august93.ru
X-WR-CALDESC:Мероприятия для АВГУСТ
REFRESH-INTERVAL;VALUE=DURATION:PT1H
X-Robots-Tag:noindex
X-PUBLISHED-TTL:PT1H
BEGIN:VTIMEZONE
TZID:Europe/Moscow
BEGIN:STANDARD
TZOFFSETFROM:+0300
TZOFFSETTO:+0300
TZNAME:MSK
DTSTART:20230101T000000
END:STANDARD
END:VTIMEZONE
BEGIN:VEVENT
DTSTART;VALUE=DATE:20231120
DTEND;VALUE=DATE:20231121
DTSTAMP:20260425T200014
CREATED:20230506T083133Z
LAST-MODIFIED:20231129T121027Z
UID:19927-1700438400-1700524799@august93.ru
SUMMARY:Ночные Снайперы в Бишкеке (отмена)
DESCRIPTION:Площадка — Дворец спорта\nКонцертная программа «Авиарежим»\nНачало — 19-00\nПеренос: 21.05 -> 20.11.2023 \n\n18 ноября объявлено о переносе в клуб «Suzie Wong». \n19 ноября — сообщение об отмене концерта: \nУважаемые поклонники Дианы Арбениной и группы «Ночные снайперы».\nС сожалением сообщаем вам об отмене концерта\, запланированного на 20 ноября 2023 года во дворце спорта. На текущий момент компания-организатор не получила дополнительные разрешительные документы от государственных органов.\nЭти дополнительные разрешения стали необходимы для обеспечения безопасности\, из-за проходящих международных саммитов.\nИнформируем вас о возможности оформить возврат билетов на сайте kassir.kg. Подробности по процедуре возврата вы можете узнать на сайте\, перед тем как оформить возврат.\nБлагодарим вас за понимание.
URL:https://august93.ru/event/bishkek2023
END:VEVENT
END:VCALENDAR