BEGIN:VCALENDAR
VERSION:2.0
PRODID:-//АВГУСТ - ECPv6.10.1.1//NONSGML v1.0//EN
CALSCALE:GREGORIAN
METHOD:PUBLISH
X-ORIGINAL-URL:https://august93.ru
X-WR-CALDESC:Мероприятия для АВГУСТ
REFRESH-INTERVAL;VALUE=DURATION:PT1H
X-Robots-Tag:noindex
X-PUBLISHED-TTL:PT1H
BEGIN:VTIMEZONE
TZID:Europe/Moscow
BEGIN:STANDARD
TZOFFSETFROM:+0300
TZOFFSETTO:+0300
TZNAME:MSK
DTSTART:20230101T000000
END:STANDARD
END:VTIMEZONE
BEGIN:VEVENT
DTSTART;VALUE=DATE:20231123
DTEND;VALUE=DATE:20231124
DTSTAMP:20260425T183958
CREATED:20231110T221529Z
LAST-MODIFIED:20231129T120706Z
UID:20762-1700697600-1700783999@august93.ru
SUMMARY:Ночные Снайперы в Томске (отмена)
DESCRIPTION:Площадка — Дворец спорта и зрелищ \nОтмена по требованию z-общественности \n\n 
URL:https://august93.ru/event/tomsk23
END:VEVENT
BEGIN:VEVENT
DTSTART;VALUE=DATE:20231123
DTEND;VALUE=DATE:20231124
DTSTAMP:20260425T183958
CREATED:20231204T220644Z
LAST-MODIFIED:20231204T220644Z
UID:21160-1700697600-1700783999@august93.ru
SUMMARY:Сингл "Бог ушел"
DESCRIPTION:Ночные Снайперы выпустили сингл — песню Дианы Арбениной «Бог ушел» в электрической аранжировке. \n \n\nССЫЛКИ \nСлушать на всех электронных площадках\nРецензия от Алексея Мажаева\nОтзыв от портала «Лента»
URL:https://august93.ru/event/%d1%81%d0%b8%d0%bd%d0%b3%d0%bb-%d0%b1%d0%be%d0%b3-%d1%83%d1%88%d0%b5%d0%bb
END:VEVENT
END:VCALENDAR