BEGIN:VCALENDAR
VERSION:2.0
PRODID:-//АВГУСТ - ECPv6.10.1.1//NONSGML v1.0//EN
CALSCALE:GREGORIAN
METHOD:PUBLISH
X-ORIGINAL-URL:https://august93.ru
X-WR-CALDESC:Мероприятия для АВГУСТ
REFRESH-INTERVAL;VALUE=DURATION:PT1H
X-Robots-Tag:noindex
X-PUBLISHED-TTL:PT1H
BEGIN:VTIMEZONE
TZID:Europe/Moscow
BEGIN:STANDARD
TZOFFSETFROM:+0300
TZOFFSETTO:+0300
TZNAME:MSK
DTSTART:20230101T000000
END:STANDARD
END:VTIMEZONE
BEGIN:VEVENT
DTSTART;VALUE=DATE:20231130
DTEND;VALUE=DATE:20231201
DTSTAMP:20260425T171849
CREATED:20231109T195300Z
LAST-MODIFIED:20231205T104624Z
UID:20756-1701302400-1701388799@august93.ru
SUMMARY:НОЯБРЬ 2023: события и публикации
DESCRIPTION:1 ноября\n  \n\n2 ноября\nКанал Муз ТВ\nДиана Арбенина — ведущая программы «Русский чарт».\nКлип на песню «Один» — на 8 месте \nАвторадио\nСурганова и Оркестр в вечернем шоу — концерт в студии \n\n3 ноября\nНаше Радио\nИнтервью Светланы Сургановой в утреннем шоу «Подъемники» \n***\nПесня Ночных Снайперов «Андрей» в Чартовой Дюжине: 12 место \n\n4 ноября\n  \n\n5 ноября\nАнонсированный концерт Ночных Снайперов в Дубае не состоялся. \n\n6 ноября\nДиана Арбенина на кинопремьере «Чувства Анны» \nПушкинРядом\nСветлана Сурганова приняла участие в клубной встрече с Татьяной Черниговской \n\n7 ноября\nПродолжение съемок сериала «Обоюдное согласие» с участием Дианы Арбениной. \n\n8 ноября\nПресс-конференция Светланы Сургановой \n\n9 ноября\nКанал Муз ТВ\nДиана Арбенина — ведущая программы «Русский чарт».\nКлип на песню «Один» — на 4 месте \nпортал НСН\nСветлана Сурганова в рубрике «Культурный гид» \n\n10 ноября\nНаше Радио\nПесня Ночных Снайперов «Андрей» в Чартовой Дюжине: 9 место \n\n11 ноября\nканал НТВ\nСурганова и Оркестр в программе «Квартирник у Маргулиса» \n\n12 ноября\n  \n\n13 ноября\n  \n\n14 ноября\n  \n\n15 ноября\n  \n\n16 ноября\n  \n\n17 ноября\nНочные Снайперы в Астане \n\n18 ноября\nСурганова и Оркестр в Крокусе: юбилейный концерт \n\n19 ноября\nНочные Снайперы в Алматы \n*** \nУмер Вадим Пальцев\, брат Ларисы Пальцевой \n\n20 ноября\nКонцерт Ночных Снайперов в Бишкеке отменен \n\n21 ноября\n  \n\n22 ноября\n  \n\n23 ноября\nКонцерт Ночных Снайперов в Томске отменен \n*** \nСингл Ночных Снайперов «Бог ушел» \n\n24 ноября\nСурганова и Оркестр в Казани \n\n25 ноября\nНочные Снайперы в Иркутске \nСурганова и Оркестр в Набережных Челнах \n\n26 ноября\nНочные Снайперы в Красноярске \n\n27 ноября\nСурганова и Оркестр в Ульяновске \n\n28 ноября\nСурганова и Оркестр в Пензе \n\n29 ноября\nСурганова и Оркестр в Самаре \n\n30 ноября\n  \n\n 
URL:https://august93.ru/event/%d0%bd%d0%be%d1%8f%d0%b1%d1%80%d1%8c-2023-%d1%81%d0%be%d0%b1%d1%8b%d1%82%d0%b8%d1%8f-%d0%b8-%d0%bf%d1%83%d0%b1%d0%bb%d0%b8%d0%ba%d0%b0%d1%86%d0%b8%d0%b8
END:VEVENT
END:VCALENDAR