BEGIN:VCALENDAR
VERSION:2.0
PRODID:-//АВГУСТ - ECPv6.10.1.1//NONSGML v1.0//EN
CALSCALE:GREGORIAN
METHOD:PUBLISH
X-WR-CALNAME:АВГУСТ
X-ORIGINAL-URL:https://august93.ru
X-WR-CALDESC:Мероприятия для АВГУСТ
REFRESH-INTERVAL;VALUE=DURATION:PT1H
X-Robots-Tag:noindex
X-PUBLISHED-TTL:PT1H
BEGIN:VTIMEZONE
TZID:Europe/Moscow
BEGIN:STANDARD
TZOFFSETFROM:+0300
TZOFFSETTO:+0300
TZNAME:MSK
DTSTART:20230101T000000
END:STANDARD
END:VTIMEZONE
BEGIN:VEVENT
DTSTART;VALUE=DATE:20231201
DTEND;VALUE=DATE:20231202
DTSTAMP:20260425T170809
CREATED:20230318T210802Z
LAST-MODIFIED:20230706T184028Z
UID:19557-1701388800-1701475199@august93.ru
SUMMARY:Сурганова и Оркестр в БКЗ Октябрьский
DESCRIPTION:Праздничный концерт к 20-летнему юбилею группы \n\n 
URL:https://august93.ru/event/20let-v-bkz
ATTACH;FMTTYPE=image/jpeg:https://august93.ru/wp-content/uploads/2023/03/Дизайн-без-названия-3.jpg
END:VEVENT
END:VCALENDAR