BEGIN:VCALENDAR
VERSION:2.0
PRODID:-//АВГУСТ - ECPv6.10.1.1//NONSGML v1.0//EN
CALSCALE:GREGORIAN
METHOD:PUBLISH
X-ORIGINAL-URL:https://august93.ru
X-WR-CALDESC:Мероприятия для АВГУСТ
REFRESH-INTERVAL;VALUE=DURATION:PT1H
X-Robots-Tag:noindex
X-PUBLISHED-TTL:PT1H
BEGIN:VTIMEZONE
TZID:Europe/Moscow
BEGIN:STANDARD
TZOFFSETFROM:+0300
TZOFFSETTO:+0300
TZNAME:MSK
DTSTART:20230101T000000
END:STANDARD
END:VTIMEZONE
BEGIN:VEVENT
DTSTART;VALUE=DATE:20231211
DTEND;VALUE=DATE:20231212
DTSTAMP:20260425T170910
CREATED:20230731T200057Z
LAST-MODIFIED:20230731T200133Z
UID:20534-1702252800-1702339199@august93.ru
SUMMARY:Ночные Снайперы в КСК "Арена" (Петербург)
DESCRIPTION:
URL:https://august93.ru/event/arena-spb2023
ATTACH;FMTTYPE=image/jpeg:https://august93.ru/wp-content/uploads/2023/07/11-12-2023.jpg
END:VEVENT
END:VCALENDAR