BEGIN:VCALENDAR
VERSION:2.0
PRODID:-//АВГУСТ - ECPv6.10.1.1//NONSGML v1.0//EN
CALSCALE:GREGORIAN
METHOD:PUBLISH
X-ORIGINAL-URL:https://august93.ru
X-WR-CALDESC:Мероприятия для АВГУСТ
REFRESH-INTERVAL;VALUE=DURATION:PT1H
X-Robots-Tag:noindex
X-PUBLISHED-TTL:PT1H
BEGIN:VTIMEZONE
TZID:Europe/Moscow
BEGIN:STANDARD
TZOFFSETFROM:+0300
TZOFFSETTO:+0300
TZNAME:MSK
DTSTART:20230101T000000
END:STANDARD
END:VTIMEZONE
BEGIN:VEVENT
DTSTART;VALUE=DATE:20231212
DTEND;VALUE=DATE:20231213
DTSTAMP:20260425T172007
CREATED:20230731T200229Z
LAST-MODIFIED:20230731T200256Z
UID:20538-1702339200-1702425599@august93.ru
SUMMARY:Ночные Снайперы в КСК "Арена" (Петербург)
DESCRIPTION:
URL:https://august93.ru/event/arena-spb-2023
ATTACH;FMTTYPE=image/jpeg:https://august93.ru/wp-content/uploads/2023/07/12-12-2023.jpg
END:VEVENT
END:VCALENDAR