BEGIN:VCALENDAR
VERSION:2.0
PRODID:-//АВГУСТ - ECPv6.10.1.1//NONSGML v1.0//EN
CALSCALE:GREGORIAN
METHOD:PUBLISH
X-WR-CALNAME:АВГУСТ
X-ORIGINAL-URL:https://august93.ru
X-WR-CALDESC:Мероприятия для АВГУСТ
REFRESH-INTERVAL;VALUE=DURATION:PT1H
X-Robots-Tag:noindex
X-PUBLISHED-TTL:PT1H
BEGIN:VTIMEZONE
TZID:Europe/Moscow
BEGIN:STANDARD
TZOFFSETFROM:+0300
TZOFFSETTO:+0300
TZNAME:MSK
DTSTART:20230101T000000
END:STANDARD
END:VTIMEZONE
BEGIN:VEVENT
DTSTART;VALUE=DATE:20231224
DTEND;VALUE=DATE:20231225
DTSTAMP:20260425T171829
CREATED:20231209T221027Z
LAST-MODIFIED:20231209T221027Z
UID:21356-1703376000-1703462399@august93.ru
SUMMARY:Ночные Снайперы в Сочи. "Роза Холл"
DESCRIPTION:*** \n\n 
URL:https://august93.ru/event/%d0%bd%d0%be%d1%87%d0%bd%d1%8b%d0%b5-%d1%81%d0%bd%d0%b0%d0%b9%d0%bf%d0%b5%d1%80%d1%8b-%d0%b2-%d1%81%d0%be%d1%87%d0%b8-%d1%80%d0%be%d0%b7%d0%b0-%d1%85%d0%be%d0%bb%d0%bb
ATTACH;FMTTYPE=image/jpeg:https://august93.ru/wp-content/uploads/2023/12/qKoZsTqPtw0.jpeg
END:VEVENT
BEGIN:VEVENT
DTSTART;VALUE=DATE:20231224
DTEND;VALUE=DATE:20231225
DTSTAMP:20260425T171829
CREATED:20231210T045211Z
LAST-MODIFIED:20231210T045224Z
UID:21369-1703376000-1703462399@august93.ru
SUMMARY:Сурганова и Оркестр в ПушкинРядом (СПб)
DESCRIPTION:праздничный новогодний концерт \n\n 
URL:https://august93.ru/event/sio_pr
END:VEVENT
END:VCALENDAR