BEGIN:VCALENDAR
VERSION:2.0
PRODID:-//АВГУСТ - ECPv6.10.1.1//NONSGML v1.0//EN
CALSCALE:GREGORIAN
METHOD:PUBLISH
X-ORIGINAL-URL:https://august93.ru
X-WR-CALDESC:Мероприятия для АВГУСТ
REFRESH-INTERVAL;VALUE=DURATION:PT1H
X-Robots-Tag:noindex
X-PUBLISHED-TTL:PT1H
BEGIN:VTIMEZONE
TZID:Europe/Moscow
BEGIN:STANDARD
TZOFFSETFROM:+0300
TZOFFSETTO:+0300
TZNAME:MSK
DTSTART:20230101T000000
END:STANDARD
END:VTIMEZONE
BEGIN:VEVENT
DTSTART;VALUE=DATE:20231231
DTEND;VALUE=DATE:20240101
DTSTAMP:20260425T171849
CREATED:20231229T144624Z
LAST-MODIFIED:20231229T144624Z
UID:21442-1703980800-1704067199@august93.ru
SUMMARY:ДЕКАБРЬ 2023: события и публикации
DESCRIPTION:1 декабря\nСурганова и Оркестр в БКЗ «Октябрьский» \n*** \nНочные Снайперы анонсировали традиционный декабрьский квартирник \n\n2 декабря\n  \n\n3 декабря\nСветлана Сурганова на концерте в честь 85-летия В.С. Высоцкого \n\n4 декабря \n  \n\n5 декабря\n  \n\n6 декабря\nНочные Снайперы анонсировали акустический тур в январе 2024 года \n*** \nСветлана Сурганова отправилась в туристическую поездку в Антарктиду \n\n7 декабря\n  \n\n8 декабря\n  \n\n9 декабря\n«Мультимедийное шоу на Дворцовой» в Санкт-Петербурге \n\n10 декабря\nКвартирник Дианы Арбениной \n\n11 декабря\nНочные Снайперы в КСК «Арена» (Петербург) \n\n12 декабря\nНочные Снайперы в КСК «Арена» (Петербург) \n\n3 \n4 \n5 \n6 \n  \n\n17 декабря\nДиана Арбенина с детьми прилетела на каникулы в Альпы \n\n18 декабря\nНочные Снайперы отметили 150 000 подписчиков ВКонтакте \n\n19 декабря\nканал «Россия 1»\nСветлана Сурганова в музыкальном шоу «Дуэты» \n\n20 \n1 \n2 \n  \n\n23 декабря\nСветлана Сурганова присоединилась к благотворительной акции фонда «АдВита»: «Первое дело Нового года» \n\n24 декабря\nКонцерт Ночных Снайперов в Сочи \n*** \nНовогодний квартирник Сургановой и Оркестра в ПушкинРядом \n\n25 декабря\nСурганова и Оркестр в городе Курчатов \n*** \nСветлана Сурганова номинирована на Царскосельскую художественную премию \n\n26 декабря\n  \n\n27 декабря\nНочные Снайперы выпустили концертник «Ночные Снайперы.30» на виниле \n*** \nСветлана Сурганова и Валерий Тхай выступили в павильоне «Росатом» на ВДНХ (Москва) \n\n8 \n9 \n30 \n  \n\n31 декабря\nНовогодняя ночь в «ПушкинРядом»: концерт «Сургановой и Оркестра»\, группы «Пикник» и Васи Ложкина \n*** \nканал НТВ\nСветлана Сурганова в новогоднем выпуске «Квартирника у Маргулиса» \n*** \nканал Рен ТВ\nНочные Снайперы в программе «Неголубой огонек» \n\n 
URL:https://august93.ru/event/12-2023
END:VEVENT
END:VCALENDAR