BEGIN:VCALENDAR
VERSION:2.0
PRODID:-//АВГУСТ - ECPv6.10.1.1//NONSGML v1.0//EN
CALSCALE:GREGORIAN
METHOD:PUBLISH
X-WR-CALNAME:АВГУСТ
X-ORIGINAL-URL:https://august93.ru
X-WR-CALDESC:Мероприятия для АВГУСТ
REFRESH-INTERVAL;VALUE=DURATION:PT1H
X-Robots-Tag:noindex
X-PUBLISHED-TTL:PT1H
BEGIN:VTIMEZONE
TZID:Europe/Moscow
BEGIN:STANDARD
TZOFFSETFROM:+0300
TZOFFSETTO:+0300
TZNAME:MSK
DTSTART:20240101T000000
END:STANDARD
END:VTIMEZONE
BEGIN:VEVENT
DTSTART;VALUE=DATE:20240103
DTEND;VALUE=DATE:20240104
DTSTAMP:20260425T154112
CREATED:20231210T045452Z
LAST-MODIFIED:20241212T094004Z
UID:21373-1704240000-1704326399@august93.ru
SUMMARY:Сурганова и Оркестр в Одинцово. КСЦ Мечта
DESCRIPTION:праздничная программа \n\nССЫЛКИ \nОфициальный фотоальбом с концерта \nКонцертное видео от Лады Север \nЕще несколько роликов с концерта \nФото Елизаветы Абрамовой \nВидео от фан-клуба ВКонтакте
URL:https://august93.ru/event/odincovo24
END:VEVENT
END:VCALENDAR