BEGIN:VCALENDAR
VERSION:2.0
PRODID:-//АВГУСТ - ECPv6.10.1.1//NONSGML v1.0//EN
CALSCALE:GREGORIAN
METHOD:PUBLISH
X-ORIGINAL-URL:https://august93.ru
X-WR-CALDESC:Мероприятия для АВГУСТ
REFRESH-INTERVAL;VALUE=DURATION:PT1H
X-Robots-Tag:noindex
X-PUBLISHED-TTL:PT1H
BEGIN:VTIMEZONE
TZID:Europe/Moscow
BEGIN:STANDARD
TZOFFSETFROM:+0300
TZOFFSETTO:+0300
TZNAME:MSK
DTSTART:20240101T000000
END:STANDARD
END:VTIMEZONE
BEGIN:VEVENT
DTSTART;VALUE=DATE:20240207
DTEND;VALUE=DATE:20240208
DTSTAMP:20260425T142242
CREATED:20240311T224505Z
LAST-MODIFIED:20240311T224505Z
UID:21654-1707264000-1707350399@august93.ru
SUMMARY:Диана Арбенина в проекте "Давай придумаем?"
DESCRIPTION:Журнал «Форбс в России» анонсировал выход экспериментального литературного сборника «Давай придумаем?» который представляет собой «совместный проект издательства «Альпина.Проза» и «Яндекса»: 15 известных прозаиков пишут рассказы в соавторстве с искусственным интеллектом». Среди современных литераторов\, согласившихся на этот эксперимент\, была\, в частности\, названа и Диана (а также Татьяна Толстая и многие другие\, менее известные персоны). \nДата выхода сборника в свет не указана. \n\nПодробности:\nфрагмент текста из обзора на сайте журнала «Форбс». Автор — Наталья Ломыкина \nПисатели и искусственный интеллект «Давай придумаем?»\nИздательство «Альпина.Проза»\nПредполагаемая дата выхода: май \nСборник «Давай придумаем?» — совместный проект издательства «Альпина.Проза» и «Яндекса»: 15 известных прозаиков пишут рассказы в соавторстве с искусственным интеллектом. «Идею сборника предложила контент-евангелист «Алисы» Ксения Буржская\, — делится с Forbes Life главный редактор «Альпина.Проза» Татьяна Соловьева. — В словосочетании «искусственный интеллект» нас часто пугает слово «интеллект» — мы видим в нем скрытую угрозу\, хотя это прежде всего очень прописанный и удобный инструмент. Этим сборником мы решили проверить\, насколько он уже сейчас может быть применим в работе писателя. Поэкспериментировать с нами согласились Яна Вагнер\, Рагим Джафаров\, Хелена Побяржина (у которой\, кстати\, этой весной выйдет новый роман «Другие ноты»)\, Татьяна Толстая\, Шамиль Идиатуллин\, Диана Арбенина\, Ислам Ханипаев и многие другие. И первые созданные по этой технологии рассказы получились очень разными\, как авторские манеры их создателей». \nО том\, как устроено сотворчество с ИИ\, Forbes Life рассказала писательница Яна Вагнер: «Я свои книжки\, конечно\, пишу и намерена дальше писать сама\, но от такого предложения отказаться не смогла. Во-первых\, я любопытная и страхи по поводу наступления ИИ мне не близки. А во-вторых\, когда бы я еще до него добралась\, у меня же совсем нету времени ни на что. Уже выяснилось\, кстати\, что промптер (человек\, который занимается составлением правильных запросов для нейросетей. — Forbes Life) из меня довольно бестолковый\, что GPT умеет вредничать и с ним отлично можно ругаться полночи. И еще довольно много всего выяснилось\, но рассказ мы вместе почти доделали». \nИСТОЧНИК
URL:https://august93.ru/event/davay
END:VEVENT
END:VCALENDAR