BEGIN:VCALENDAR
VERSION:2.0
PRODID:-//АВГУСТ - ECPv6.10.1.1//NONSGML v1.0//EN
CALSCALE:GREGORIAN
METHOD:PUBLISH
X-WR-CALNAME:АВГУСТ
X-ORIGINAL-URL:https://august93.ru
X-WR-CALDESC:Мероприятия для АВГУСТ
REFRESH-INTERVAL;VALUE=DURATION:PT1H
X-Robots-Tag:noindex
X-PUBLISHED-TTL:PT1H
BEGIN:VTIMEZONE
TZID:Europe/Moscow
BEGIN:STANDARD
TZOFFSETFROM:+0300
TZOFFSETTO:+0300
TZNAME:MSK
DTSTART:20240101T000000
END:STANDARD
END:VTIMEZONE
BEGIN:VEVENT
DTSTART;VALUE=DATE:20240213
DTEND;VALUE=DATE:20240214
DTSTAMP:20260425T142217
CREATED:20240310T111454Z
LAST-MODIFIED:20241214T105505Z
UID:21609-1707782400-1707868799@august93.ru
SUMMARY:Светлана Сурганова в Энергодаре
DESCRIPTION:Мероприятие\, организованное в рамках проекта «Школа Росатома»\, состоялось в городе Энергодар Запорожской области Украины\, на территории\, оккупированной российской армией.  \n\nССЫЛКИ \nНовость на официальной странице «Сургановой и Оркестра» \nПубликация в «Комсомольской правде» \nПубликация на странице городской администрации \n 
URL:https://august93.ru/event/energo
END:VEVENT
END:VCALENDAR