BEGIN:VCALENDAR
VERSION:2.0
PRODID:-//АВГУСТ - ECPv6.10.1.1//NONSGML v1.0//EN
CALSCALE:GREGORIAN
METHOD:PUBLISH
X-WR-CALNAME:АВГУСТ
X-ORIGINAL-URL:https://august93.ru
X-WR-CALDESC:Мероприятия для АВГУСТ
REFRESH-INTERVAL;VALUE=DURATION:PT1H
X-Robots-Tag:noindex
X-PUBLISHED-TTL:PT1H
BEGIN:VTIMEZONE
TZID:Europe/Moscow
BEGIN:STANDARD
TZOFFSETFROM:+0300
TZOFFSETTO:+0300
TZNAME:MSK
DTSTART:20240101T000000
END:STANDARD
END:VTIMEZONE
BEGIN:VEVENT
DTSTART;VALUE=DATE:20240223
DTEND;VALUE=DATE:20240224
DTSTAMP:20260425T142103
CREATED:20231229T212828Z
LAST-MODIFIED:20241214T131236Z
UID:21456-1708646400-1708732799@august93.ru
SUMMARY:Сурганова и Оркестр во Владикавказе
DESCRIPTION:… \n\nССЫЛКИ \nВидеоанонс концерта в местном паблике \nСборник видео на ютубе \nОтчет и видео от магазина мерча Surganova.Store \nВидео на официальной странице СИО
URL:https://august93.ru/event/vladik24
END:VEVENT
END:VCALENDAR