BEGIN:VCALENDAR
VERSION:2.0
PRODID:-//АВГУСТ - ECPv6.10.1.1//NONSGML v1.0//EN
CALSCALE:GREGORIAN
METHOD:PUBLISH
X-ORIGINAL-URL:https://august93.ru
X-WR-CALDESC:Мероприятия для АВГУСТ
REFRESH-INTERVAL;VALUE=DURATION:PT1H
X-Robots-Tag:noindex
X-PUBLISHED-TTL:PT1H
BEGIN:VTIMEZONE
TZID:Europe/Moscow
BEGIN:STANDARD
TZOFFSETFROM:+0300
TZOFFSETTO:+0300
TZNAME:MSK
DTSTART:20240101T000000
END:STANDARD
END:VTIMEZONE
BEGIN:VEVENT
DTSTART;VALUE=DATE:20240224
DTEND;VALUE=DATE:20240225
DTSTAMP:20260425T142356
CREATED:20231229T211855Z
LAST-MODIFIED:20241214T133642Z
UID:21446-1708732800-1708819199@august93.ru
SUMMARY:Ночные Снайперы в Хабаровске\, "Платинум Арена"
DESCRIPTION:Во время концерта Диана Арбенина прокомментировала отмену двух концертов дальневосточного тура — в Южно-Сахалинске и Владивостоке. \n\nССЫЛКИ \nСборник видео на ютубе \nСборник видео ВКонтакте \nСюжет о дуэте со зрителем \nСюжет на Дожде — с комментарием Дианы об отмене
URL:https://august93.ru/event/habar24
END:VEVENT
BEGIN:VEVENT
DTSTART;VALUE=DATE:20240224
DTEND;VALUE=DATE:20240225
DTSTAMP:20260425T142356
CREATED:20231229T212955Z
LAST-MODIFIED:20241214T134721Z
UID:21458-1708732800-1708819199@august93.ru
SUMMARY:Сурганова и Оркестр в Пятигорске
DESCRIPTION:юбилейный тур «20 лет группе» \n\nССЫЛКИ \nБольшой фотоальбом от Виктора Нестеренко \nВидео на официальной странице СИО \nСборник видео на ютубе \nВидео: «Корабли» \nВидео: «Морская» \nРепортаж одного из городских пабликов \nЗрительский отчет + фото
URL:https://august93.ru/event/patygorsk
END:VEVENT
END:VCALENDAR