BEGIN:VCALENDAR
VERSION:2.0
PRODID:-//АВГУСТ - ECPv6.10.1.1//NONSGML v1.0//EN
CALSCALE:GREGORIAN
METHOD:PUBLISH
X-ORIGINAL-URL:https://august93.ru
X-WR-CALDESC:Мероприятия для АВГУСТ
REFRESH-INTERVAL;VALUE=DURATION:PT1H
X-Robots-Tag:noindex
X-PUBLISHED-TTL:PT1H
BEGIN:VTIMEZONE
TZID:Europe/Moscow
BEGIN:STANDARD
TZOFFSETFROM:+0300
TZOFFSETTO:+0300
TZNAME:MSK
DTSTART:20240101T000000
END:STANDARD
END:VTIMEZONE
BEGIN:VEVENT
DTSTART;VALUE=DATE:20240307
DTEND;VALUE=DATE:20240308
DTSTAMP:20260423T070815
CREATED:20231210T050919Z
LAST-MODIFIED:20240311T003309Z
UID:21391-1709769600-1709855999@august93.ru
SUMMARY:Сурганова и Оркестр в Иваново. ЦКиО
DESCRIPTION:юбилейный тур «20 лет группе» \n\nССЫЛКИ \nСборник видео на ютубе
URL:https://august93.ru/event/ivanovo24
END:VEVENT
END:VCALENDAR