BEGIN:VCALENDAR
VERSION:2.0
PRODID:-//АВГУСТ - ECPv6.10.1.1//NONSGML v1.0//EN
CALSCALE:GREGORIAN
METHOD:PUBLISH
X-WR-CALNAME:АВГУСТ
X-ORIGINAL-URL:https://august93.ru
X-WR-CALDESC:Мероприятия для АВГУСТ
REFRESH-INTERVAL;VALUE=DURATION:PT1H
X-Robots-Tag:noindex
X-PUBLISHED-TTL:PT1H
BEGIN:VTIMEZONE
TZID:Europe/Moscow
BEGIN:STANDARD
TZOFFSETFROM:+0300
TZOFFSETTO:+0300
TZNAME:MSK
DTSTART:20240101T000000
END:STANDARD
END:VTIMEZONE
BEGIN:VEVENT
DTSTART;VALUE=DATE:20240313
DTEND;VALUE=DATE:20240314
DTSTAMP:20260423T070752
CREATED:20240310T064824Z
LAST-MODIFIED:20240310T064824Z
UID:21592-1710288000-1710374399@august93.ru
SUMMARY:Светлана Сурганова в Усолье-Сибирском
DESCRIPTION:Иркутская область\, фестиваль Школы Росатома «U235. Новые песни»\nПлощадка — МБКДУ «Дворец культуры» \n\n 
URL:https://august93.ru/event/usolie
END:VEVENT
END:VCALENDAR