BEGIN:VCALENDAR
VERSION:2.0
PRODID:-//АВГУСТ - ECPv6.10.1.1//NONSGML v1.0//EN
CALSCALE:GREGORIAN
METHOD:PUBLISH
X-WR-CALNAME:АВГУСТ
X-ORIGINAL-URL:https://august93.ru
X-WR-CALDESC:Мероприятия для АВГУСТ
REFRESH-INTERVAL;VALUE=DURATION:PT1H
X-Robots-Tag:noindex
X-PUBLISHED-TTL:PT1H
BEGIN:VTIMEZONE
TZID:Europe/Moscow
BEGIN:STANDARD
TZOFFSETFROM:+0300
TZOFFSETTO:+0300
TZNAME:MSK
DTSTART:20240101T000000
END:STANDARD
END:VTIMEZONE
BEGIN:VEVENT
DTSTART;VALUE=DATE:20240429
DTEND;VALUE=DATE:20240430
DTSTAMP:20260423T041717
CREATED:20231229T212305Z
LAST-MODIFIED:20240625T123348Z
UID:21452-1714348800-1714435199@august93.ru
SUMMARY:Ночные Снайперы в Белграде (Сербия)
DESCRIPTION:*** \n\nССЫЛКИ \nОфициальный фотоальбом (Белла Рич) \nОфициальный фотоальбом: саундчек (Белла Рич)
URL:https://august93.ru/event/serb24
END:VEVENT
END:VCALENDAR