BEGIN:VCALENDAR
VERSION:2.0
PRODID:-//АВГУСТ - ECPv6.10.1.1//NONSGML v1.0//EN
CALSCALE:GREGORIAN
METHOD:PUBLISH
X-ORIGINAL-URL:https://august93.ru
X-WR-CALDESC:Мероприятия для АВГУСТ
REFRESH-INTERVAL;VALUE=DURATION:PT1H
X-Robots-Tag:noindex
X-PUBLISHED-TTL:PT1H
BEGIN:VTIMEZONE
TZID:Europe/Moscow
BEGIN:STANDARD
TZOFFSETFROM:+0300
TZOFFSETTO:+0300
TZNAME:MSK
DTSTART:20240101T000000
END:STANDARD
END:VTIMEZONE
BEGIN:VEVENT
DTSTART;VALUE=DATE:20240505
DTEND;VALUE=DATE:20240506
DTSTAMP:20260423T041949
CREATED:20240310T064538Z
LAST-MODIFIED:20240310T064538Z
UID:21590-1714867200-1714953599@august93.ru
SUMMARY:Ночные Снайперы в Белеке (Турция)
DESCRIPTION:Выступление в отеле Port Nature Luxury Resort. \n\nССЫЛКИ \nИсточник информации
URL:https://august93.ru/event/portnature
END:VEVENT
END:VCALENDAR